BEGIN:VCALENDAR
VERSION:2.0
PRODID:-//Sebring Rundown - ECPv6.15.20//NONSGML v1.0//EN
CALSCALE:GREGORIAN
METHOD:PUBLISH
X-ORIGINAL-URL:https://sebringrundown.com
X-WR-CALDESC:Events for Sebring Rundown
REFRESH-INTERVAL;VALUE=DURATION:PT1H
X-Robots-Tag:noindex
X-PUBLISHED-TTL:PT1H
BEGIN:VTIMEZONE
TZID:America/New_York
BEGIN:DAYLIGHT
TZOFFSETFROM:-0500
TZOFFSETTO:-0400
TZNAME:EDT
DTSTART:20190310T070000
END:DAYLIGHT
BEGIN:STANDARD
TZOFFSETFROM:-0400
TZOFFSETTO:-0500
TZNAME:EST
DTSTART:20191103T060000
END:STANDARD
BEGIN:DAYLIGHT
TZOFFSETFROM:-0500
TZOFFSETTO:-0400
TZNAME:EDT
DTSTART:20200308T070000
END:DAYLIGHT
BEGIN:STANDARD
TZOFFSETFROM:-0400
TZOFFSETTO:-0500
TZNAME:EST
DTSTART:20201101T060000
END:STANDARD
BEGIN:DAYLIGHT
TZOFFSETFROM:-0500
TZOFFSETTO:-0400
TZNAME:EDT
DTSTART:20210314T070000
END:DAYLIGHT
BEGIN:STANDARD
TZOFFSETFROM:-0400
TZOFFSETTO:-0500
TZNAME:EST
DTSTART:20211107T060000
END:STANDARD
END:VTIMEZONE
BEGIN:VEVENT
DTSTART;TZID=America/New_York:20200303T110000
DTEND;TZID=America/New_York:20200303T130000
DTSTAMP:20260424T113904
CREATED:20200221T161616Z
LAST-MODIFIED:20200221T161616Z
UID:4424-1583233200-1583240400@sebringrundown.com
SUMMARY:Crafty Morning Fun! Wood Workshop!
DESCRIPTION:Join us at The Grateful Hearts for a DIY class to make one of our many Wood Projects\, featuring our Framed Signs! Choose a Framed Sign\, Plank Sign\, Centerpiece Box\, Round Sign\, Wood Photo Frame or Tray! Please note\, when you register for an Oversized Project\, the available seats will reduce by 2 seats due to the project size. In the workshop\, you will have the opportunity to customize your project with your choice of designer paints and (non-toxic!) stain colors. BYO coffee\, water\, wine\, beer or beverage of your choice to sip and enjoy during the workshop. You are welcome to bring food/snacks for yourself please keep in mind we are a nut free studio (no peanuts or tree nuts allowed). Get rewarded with our DIY Rewards program! Register for five workshops\, then cash in your DIY Rewards towards a future workshop!
URL:https://sebringrundown.com/event/crafty-morning-fun-wood-workshop/
LOCATION:The Grateful Hearts\, 1989 Lakeview Dr\, Sebring\, 33870\, United States
CATEGORIES:Art
END:VEVENT
BEGIN:VEVENT
DTSTART;TZID=America/New_York:20200304T180000
DTEND;TZID=America/New_York:20200304T180000
DTSTAMP:20260424T113904
CREATED:20200221T161835Z
LAST-MODIFIED:20200221T161835Z
UID:4426-1583344800-1583344800@sebringrundown.com
SUMMARY:Wine Down Wednesday - Wood Workshop
DESCRIPTION:Join us at The Grateful Hearts for a DIY class to make one of our many Wood Projects\, featuring our Framed Signs! Choose a Framed Sign\, Plank Sign\, Centerpiece Box\, Round Sign\, Wood Photo Frame or Tray! Please note\, when you register for an Oversized Project\, the available seats will reduce by 2 seats due to the project size. In the workshop\, you will have the opportunity to customize your project with your choice of designer paints and (non-toxic!) stain colors. BYO coffee\, water\, wine\, beer or beverage of your choice to sip and enjoy during the workshop. You are welcome to bring food/snacks for yourself please keep in mind we are a nut free studio (no peanuts or tree nuts allowed). Get rewarded with our DIY Rewards program! Register for five workshops\, then cash in your DIY Rewards towards a future workshop!
URL:https://sebringrundown.com/event/wine-down-wednesday-wood-workshop-2/
LOCATION:The Grateful Hearts\, 1989 Lakeview Dr\, Sebring\, 33870\, United States
CATEGORIES:Art
END:VEVENT
BEGIN:VEVENT
DTSTART;TZID=America/New_York:20200305T180000
DTEND;TZID=America/New_York:20200305T180000
DTSTAMP:20260424T113904
CREATED:20200221T162219Z
LAST-MODIFIED:20200221T162219Z
UID:4428-1583431200-1583431200@sebringrundown.com
SUMMARY:Girls Night Out! - Wood Workshop
DESCRIPTION:Join us at The Grateful Hearts for a DIY class to make one of our many Wood Projects\, featuring our Framed Signs! Choose a Framed Sign\, Plank Sign\, Centerpiece Box\, Round Sign\, Wood Photo Frame or Tray! Please note\, when you register for an Oversized Project\, the available seats will reduce by 2 seats due to the project size. In the workshop\, you will have the opportunity to customize your project with your choice of designer paints and (non-toxic!) stain colors. BYO coffee\, water\, wine\, beer or beverage of your choice to sip and enjoy during the workshop. You are welcome to bring food/snacks for yourself please keep in mind we are a nut free studio (no peanuts or tree nuts allowed). Get rewarded with our DIY Rewards program! Register for five workshops\, then cash in your DIY Rewards towards a future workshop!
URL:https://sebringrundown.com/event/girls-night-out-wood-workshop/
LOCATION:The Grateful Hearts\, 1989 Lakeview Dr\, Sebring\, 33870\, United States
CATEGORIES:Art
END:VEVENT
BEGIN:VEVENT
DTSTART;TZID=America/New_York:20200306T180000
DTEND;TZID=America/New_York:20200306T180000
DTSTAMP:20260424T113904
CREATED:20200221T162318Z
LAST-MODIFIED:20200221T162318Z
UID:4430-1583517600-1583517600@sebringrundown.com
SUMMARY:Fri-Yay Night! - Wood Workshop
DESCRIPTION:Join us at The Grateful Hearts for a DIY class to make one of our many Wood Projects\, featuring our Framed Signs! Choose a Framed Sign\, Plank Sign\, Centerpiece Box\, Round Sign\, Wood Photo Frame or Tray! Please note\, when you register for an Oversized Project\, the available seats will reduce by 2 seats due to the project size. In the workshop\, you will have the opportunity to customize your project with your choice of designer paints and (non-toxic!) stain colors. BYO coffee\, water\, wine\, beer or beverage of your choice to sip and enjoy during the workshop. You are welcome to bring food/snacks for yourself please keep in mind we are a nut free studio (no peanuts or tree nuts allowed). Get rewarded with our DIY Rewards program! Register for five workshops\, then cash in your DIY Rewards towards a future workshop!
URL:https://sebringrundown.com/event/fri-yay-night-wood-workshop/
LOCATION:The Grateful Hearts\, 1989 Lakeview Dr\, Sebring\, 33870\, United States
CATEGORIES:Art
END:VEVENT
BEGIN:VEVENT
DTSTART;TZID=America/New_York:20200307T110000
DTEND;TZID=America/New_York:20200307T130000
DTSTAMP:20260424T113904
CREATED:20200221T162421Z
LAST-MODIFIED:20200221T162421Z
UID:4432-1583578800-1583586000@sebringrundown.com
SUMMARY:Saturday Morning Fun!
DESCRIPTION:Join us at The Grateful Hearts for a DIY class to make one of our many Wood Projects\, featuring our Framed Signs! Choose a Framed Sign\, Plank Sign\, Centerpiece Box\, Round Sign\, Wood Photo Frame or Tray! Please note\, when you register for an Oversized Project\, the available seats will reduce by 2 seats due to the project size. In the workshop\, you will have the opportunity to customize your project with your choice of designer paints and (non-toxic!) stain colors. BYO coffee\, water\, wine\, beer or beverage of your choice to sip and enjoy during the workshop. You are welcome to bring food/snacks for yourself please keep in mind we are a nut free studio (no peanuts or tree nuts allowed). Get rewarded with our DIY Rewards program! Register for five workshops\, then cash in your DIY Rewards towards a future workshop!
URL:https://sebringrundown.com/event/saturday-morning-fun-2/
LOCATION:The Grateful Hearts\, 1989 Lakeview Dr\, Sebring\, 33870\, United States
CATEGORIES:Art
END:VEVENT
BEGIN:VEVENT
DTSTART;TZID=America/New_York:20200310T180000
DTEND;TZID=America/New_York:20200310T180000
DTSTAMP:20260424T113904
CREATED:20200221T162510Z
LAST-MODIFIED:20200221T162510Z
UID:4434-1583863200-1583863200@sebringrundown.com
SUMMARY:Tuesday Night! - Wood Workshop
DESCRIPTION:Join us at The Grateful Hearts for a DIY class to make one of our many Wood Projects\, featuring our Framed Signs! Choose a Framed Sign\, Plank Sign\, Centerpiece Box\, Round Sign\, Wood Photo Frame or Tray! Please note\, when you register for an Oversized Project\, the available seats will reduce by 2 seats due to the project size. In the workshop\, you will have the opportunity to customize your project with your choice of designer paints and (non-toxic!) stain colors. BYO coffee\, water\, wine\, beer or beverage of your choice to sip and enjoy during the workshop. You are welcome to bring food/snacks for yourself please keep in mind we are a nut free studio (no peanuts or tree nuts allowed). Get rewarded with our DIY Rewards program! Register for five workshops\, then cash in your DIY Rewards towards a future workshop!
URL:https://sebringrundown.com/event/tuesday-night-wood-workshop/
LOCATION:The Grateful Hearts\, 1989 Lakeview Dr\, Sebring\, 33870\, United States
CATEGORIES:Art
END:VEVENT
BEGIN:VEVENT
DTSTART;TZID=America/New_York:20200311T180000
DTEND;TZID=America/New_York:20200311T180000
DTSTAMP:20260424T113904
CREATED:20200221T162602Z
LAST-MODIFIED:20200221T162602Z
UID:4436-1583949600-1583949600@sebringrundown.com
SUMMARY:Wine Down Wednesday - Wood Workshop
DESCRIPTION:Join us at The Grateful Hearts for a DIY class to make one of our many Wood Projects\, featuring our Framed Signs! Choose a Framed Sign\, Plank Sign\, Centerpiece Box\, Round Sign\, Wood Photo Frame or Tray! Please note\, when you register for an Oversized Project\, the available seats will reduce by 2 seats due to the project size. In the workshop\, you will have the opportunity to customize your project with your choice of designer paints and (non-toxic!) stain colors. BYO coffee\, water\, wine\, beer or beverage of your choice to sip and enjoy during the workshop. You are welcome to bring food/snacks for yourself please keep in mind we are a nut free studio (no peanuts or tree nuts allowed). Get rewarded with our DIY Rewards program! Register for five workshops\, then cash in your DIY Rewards towards a future workshop!
URL:https://sebringrundown.com/event/wine-down-wednesday-wood-workshop-3/
LOCATION:The Grateful Hearts\, 1989 Lakeview Dr\, Sebring\, 33870\, United States
CATEGORIES:Art
END:VEVENT
BEGIN:VEVENT
DTSTART;TZID=America/New_York:20200312T110000
DTEND;TZID=America/New_York:20200312T130000
DTSTAMP:20260424T113904
CREATED:20200221T162651Z
LAST-MODIFIED:20200221T162651Z
UID:4438-1584010800-1584018000@sebringrundown.com
SUMMARY:Ladies Morning Out!
DESCRIPTION:Join us at The Grateful Hearts for a DIY class to make one of our many Wood Projects\, featuring our Framed Signs! Choose a Framed Sign\, Plank Sign\, Centerpiece Box\, Round Sign\, Wood Photo Frame or Tray! Please note\, when you register for an Oversized Project\, the available seats will reduce by 2 seats due to the project size. In the workshop\, you will have the opportunity to customize your project with your choice of designer paints and (non-toxic!) stain colors. BYO coffee\, water\, wine\, beer or beverage of your choice to sip and enjoy during the workshop. You are welcome to bring food/snacks for yourself please keep in mind we are a nut free studio (no peanuts or tree nuts allowed). Get rewarded with our DIY Rewards program! Register for five workshops\, then cash in your DIY Rewards towards a future workshop!
URL:https://sebringrundown.com/event/ladies-morning-out/
LOCATION:The Grateful Hearts\, 1989 Lakeview Dr\, Sebring\, 33870\, United States
CATEGORIES:Art
END:VEVENT
BEGIN:VEVENT
DTSTART;TZID=America/New_York:20200313T180000
DTEND;TZID=America/New_York:20200313T180000
DTSTAMP:20260424T113904
CREATED:20200221T163605Z
LAST-MODIFIED:20200221T163605Z
UID:4443-1584122400-1584122400@sebringrundown.com
SUMMARY:St. Patty's Fun! Sip\, Shop\, and Paint!
DESCRIPTION:Join us at The Grateful Hearts for a DIY class to make one of our many Wood Projects! Canvas Projects! & More! Choose from a Plank Wood Sign\, Framed Sign\,  Round Sign\, Plank Wood Tray\, Wood Photo Frame\, Canvas Pillow\, Canvas Trays\, Canvas Totes\, Hanging Canvas\,Game Boards\, Door Mats\, Jewelry Boards\, Sport Shelf’s\, & MORE! In the workshop\, you will have the opportunity to customize your project with your choice of designer paints and (non-toxic!) stain colors by USA made Dixie Belle Paint Line (WE SELL THE PAINT LINE TOO FOR ALL THOSE AT HOME PROJECTS!).
URL:https://sebringrundown.com/event/st-pattys-fun-sip-shop-and-paint/
LOCATION:The Grateful Hearts\, 1989 Lakeview Dr\, Sebring\, 33870\, United States
CATEGORIES:Art
END:VEVENT
BEGIN:VEVENT
DTSTART;TZID=America/New_York:20200314T120000
DTEND;TZID=America/New_York:20200314T120000
DTSTAMP:20260424T113904
CREATED:20200221T165939Z
LAST-MODIFIED:20200221T165939Z
UID:4470-1584187200-1584187200@sebringrundown.com
SUMMARY:Rag Rug Class
DESCRIPTION:This is ‘the’ Rag Rug Class taught by Erin. Each student brings their own fabric. You can purchase a crochet hook from Erin. If you buy one from her\, cost of the class is $55. If you bring your own hook\, cost of the class is $40. She will instruct how to tear the fabric\, roll it\, and get you to the point that you’ll be able to finish the rug at home. This is a 3-hour class.
URL:https://sebringrundown.com/event/rag-rug-class/
LOCATION:Bare Wood Market\, 130 N Ridgewood Dr.\, Sebring\, FL\, 33870
CATEGORIES:Art
END:VEVENT
BEGIN:VEVENT
DTSTART;TZID=America/New_York:20200314T180000
DTEND;TZID=America/New_York:20200314T180000
DTSTAMP:20260424T113904
CREATED:20200221T163748Z
LAST-MODIFIED:20200221T163748Z
UID:4445-1584208800-1584208800@sebringrundown.com
SUMMARY:Porch/Patio Update
DESCRIPTION:Join us at The Grateful Hearts for a DIY class to make one of our many Wood Projects\, featuring our Framed Signs! Choose a Framed Sign\, Plank Sign\, Centerpiece Box\, Round Sign\, Wood Photo Frame or Tray! Please note\, when you register for an Oversized Project\, the available seats will reduce by 2 seats due to the project size. In the workshop\, you will have the opportunity to customize your project with your choice of designer paints and (non-toxic!) stain colors. BYO coffee\, water\, wine\, beer or beverage of your choice to sip and enjoy during the workshop. You are welcome to bring food/snacks for yourself please keep in mind we are a nut free studio (no peanuts or tree nuts allowed). Get rewarded with our DIY Rewards program! Register for five workshops\, then cash in your DIY Rewards towards a future workshop!
URL:https://sebringrundown.com/event/porch-patio-update/
LOCATION:The Grateful Hearts\, 1989 Lakeview Dr\, Sebring\, 33870\, United States
CATEGORIES:Art
END:VEVENT
BEGIN:VEVENT
DTSTART;TZID=America/New_York:20200318T180000
DTEND;TZID=America/New_York:20200318T180000
DTSTAMP:20260424T113904
CREATED:20200221T164248Z
LAST-MODIFIED:20200221T164248Z
UID:4447-1584554400-1584554400@sebringrundown.com
SUMMARY:Wine Down Wednesday - Wood Workshop
DESCRIPTION:Join us at The Grateful Hearts for a DIY class to make one of our many Wood Projects\, featuring our Framed Signs! Choose a Framed Sign\, Plank Sign\, Centerpiece Box\, Round Sign\, Wood Photo Frame or Tray! Please note\, when you register for an Oversized Project\, the available seats will reduce by 2 seats due to the project size. In the workshop\, you will have the opportunity to customize your project with your choice of designer paints and (non-toxic!) stain colors. BYO coffee\, water\, wine\, beer or beverage of your choice to sip and enjoy during the workshop. You are welcome to bring food/snacks for yourself please keep in mind we are a nut free studio (no peanuts or tree nuts allowed). Get rewarded with our DIY Rewards program! Register for five workshops\, then cash in your DIY Rewards towards a future workshop!
URL:https://sebringrundown.com/event/wine-down-wednesday-wood-workshop-4/
LOCATION:The Grateful Hearts\, 1989 Lakeview Dr\, Sebring\, 33870\, United States
CATEGORIES:Art
END:VEVENT
BEGIN:VEVENT
DTSTART;TZID=America/New_York:20200320T180000
DTEND;TZID=America/New_York:20200320T180000
DTSTAMP:20260424T113904
CREATED:20200221T164447Z
LAST-MODIFIED:20200221T164447Z
UID:4449-1584727200-1584727200@sebringrundown.com
SUMMARY:Fri-Yay Night! - Wood Workshop
DESCRIPTION:Join us at The Grateful Hearts for a DIY class to make one of our many Wood Projects\, featuring our Framed Signs! Choose a Framed Sign\, Plank Sign\, Centerpiece Box\, Round Sign\, Wood Photo Frame or Tray! Please note\, when you register for an Oversized Project\, the available seats will reduce by 2 seats due to the project size. In the workshop\, you will have the opportunity to customize your project with your choice of designer paints and (non-toxic!) stain colors. BYO coffee\, water\, wine\, beer or beverage of your choice to sip and enjoy during the workshop. You are welcome to bring food/snacks for yourself please keep in mind we are a nut free studio (no peanuts or tree nuts allowed). Get rewarded with our DIY Rewards program! Register for five workshops\, then cash in your DIY Rewards towards a future workshop!
URL:https://sebringrundown.com/event/fri-yay-night-wood-workshop-2/
LOCATION:The Grateful Hearts\, 1989 Lakeview Dr\, Sebring\, 33870\, United States
CATEGORIES:Art
END:VEVENT
END:VCALENDAR