BEGIN:VCALENDAR
VERSION:2.0
PRODID:-//Sebring Rundown - ECPv6.15.20//NONSGML v1.0//EN
CALSCALE:GREGORIAN
METHOD:PUBLISH
X-ORIGINAL-URL:https://sebringrundown.com
X-WR-CALDESC:Events for Sebring Rundown
REFRESH-INTERVAL;VALUE=DURATION:PT1H
X-Robots-Tag:noindex
X-PUBLISHED-TTL:PT1H
BEGIN:VTIMEZONE
TZID:America/New_York
BEGIN:DAYLIGHT
TZOFFSETFROM:-0500
TZOFFSETTO:-0400
TZNAME:EDT
DTSTART:20170312T070000
END:DAYLIGHT
BEGIN:STANDARD
TZOFFSETFROM:-0400
TZOFFSETTO:-0500
TZNAME:EST
DTSTART:20171105T060000
END:STANDARD
BEGIN:DAYLIGHT
TZOFFSETFROM:-0500
TZOFFSETTO:-0400
TZNAME:EDT
DTSTART:20180311T070000
END:DAYLIGHT
BEGIN:STANDARD
TZOFFSETFROM:-0400
TZOFFSETTO:-0500
TZNAME:EST
DTSTART:20181104T060000
END:STANDARD
BEGIN:DAYLIGHT
TZOFFSETFROM:-0500
TZOFFSETTO:-0400
TZNAME:EDT
DTSTART:20190310T070000
END:DAYLIGHT
BEGIN:STANDARD
TZOFFSETFROM:-0400
TZOFFSETTO:-0500
TZNAME:EST
DTSTART:20191103T060000
END:STANDARD
END:VTIMEZONE
BEGIN:VEVENT
DTSTART;TZID=America/New_York:20180203T100000
DTEND;TZID=America/New_York:20180203T150000
DTSTAMP:20260425T134023
CREATED:20180120T065648Z
LAST-MODIFIED:20180120T065648Z
UID:674-1517652000-1517670000@sebringrundown.com
SUMMARY:Lake Placid Arts & Crafts Country Fair
DESCRIPTION:More than 100 arts and crafts booths will convene in DeVane Park\, along with local\, non-profit food booths\, live entertainment\, children’s activities\, an exhibit hall and arts & Crafts demonstrations. Free admission. For information 863-465-3963.
URL:https://sebringrundown.com/event/lake-placid-arts-crafts-country-fair/
LOCATION:FL
CATEGORIES:Art,Family Friendly,Festivals,Food & Drink
END:VEVENT
BEGIN:VEVENT
DTSTART;TZID=America/New_York:20180203T130000
DTEND;TZID=America/New_York:20180203T150000
DTSTAMP:20260425T134023
CREATED:20180107T204112Z
LAST-MODIFIED:20180107T204143Z
UID:524-1517662800-1517670000@sebringrundown.com
SUMMARY:LaLa Land Tour
DESCRIPTION:Come join us for our Open House. We can only accommodate 50 guests\,  call and make your reservations ASAP. \nMinimum Donation – $20/Adult & $10/Child \nAll proceeds to benefit TLC Therapy Hooves\, a 501(c)3 serving Highlands County. \nReservations Required-Call Terri 863 699 0777
URL:https://sebringrundown.com/event/lala-land-tour/
LOCATION:La La Land – Triple C Stables\, 400 Breeze by Way\, Sebring\, 33875\, United States
CATEGORIES:Family Friendly
END:VEVENT
BEGIN:VEVENT
DTSTART;TZID=America/New_York:20180206T103000
DTEND;TZID=America/New_York:20180206T113000
DTSTAMP:20260425T134023
CREATED:20180107T115515Z
LAST-MODIFIED:20180107T115645Z
UID:463-1517913000-1517916600@sebringrundown.com
SUMMARY:Tot Time Tuesday
DESCRIPTION:Tot Time is a toddler program geared for children age 2-5 to come together for unique themed activities each Tuesday. Activities include storytelling\, singing\, crafts\, dancing\, hide n seek\, and using our imaginations! Each week is different. Tot Time is included at no extra charge in our family memberships or paid daily admission.
URL:https://sebringrundown.com/event/tot-time-tuesday-5/
LOCATION:Children’s Museum of the Highlands\, 901 US Hwy 27 North Unit 50\, Sebring\, 33870\, United States
CATEGORIES:Family Friendly
END:VEVENT
BEGIN:VEVENT
DTSTART;TZID=America/New_York:20180210T090000
DTEND;TZID=America/New_York:20180210T160000
DTSTAMP:20260425T134023
CREATED:20180107T204459Z
LAST-MODIFIED:20180107T204459Z
UID:527-1518253200-1518278400@sebringrundown.com
SUMMARY:Roaring 20’s Festival
DESCRIPTION:Dust off your fedora\, polish your pearls and celebrate a golden era of opulence\, art & music when Downtown Sebring’s 35th Annual Roaring 20s Festival kicks up its heels again February 10\, 2018. \nHave a “Roaring” good time as over 50 arts\, crafts and food vendors convene around Circle Park to celebrate Sebring’s 1920’s heritage. Come for the food\, crafts\, and antique cars. Featuring live music by The Jazz Phools 10:30am – 2:30pm. \n**20’s attire encouraged** \nFree general admission. Fee for vendors.
URL:https://sebringrundown.com/event/roaring-20s-festival/
LOCATION:Sebring Downtown Historic District
CATEGORIES:Art,Family Friendly,Festivals
END:VEVENT
BEGIN:VEVENT
DTSTART;TZID=America/New_York:20180213T103000
DTEND;TZID=America/New_York:20180213T113000
DTSTAMP:20260425T134023
CREATED:20180107T115739Z
LAST-MODIFIED:20180107T120220Z
UID:466-1518517800-1518521400@sebringrundown.com
SUMMARY:Tot Time Tuesday
DESCRIPTION:Tot Time is a toddler program geared for children age 2-5 to come together for unique themed activities each Tuesday. Activities include storytelling\, singing\, crafts\, dancing\, hide n seek\, and using our imaginations! Each week is different. Tot Time is included at no extra charge in our family memberships or paid daily admission.
URL:https://sebringrundown.com/event/tot-time-tuesday-6/
LOCATION:Children’s Museum of the Highlands\, 901 US Hwy 27 North Unit 50\, Sebring\, 33870\, United States
CATEGORIES:Family Friendly
END:VEVENT
BEGIN:VEVENT
DTSTART;TZID=America/New_York:20180220T103000
DTEND;TZID=America/New_York:20180220T113000
DTSTAMP:20260425T134023
CREATED:20180107T115825Z
LAST-MODIFIED:20180107T202650Z
UID:468-1519122600-1519126200@sebringrundown.com
SUMMARY:Tot Time Tuesday
DESCRIPTION:Tot Time is a toddler program geared for children age 2-5 to come together for unique themed activities each Tuesday. Activities include storytelling\, singing\, crafts\, dancing\, hide n seek\, and using our imaginations! Each week is different. Tot Time is included at no extra charge in our family memberships or paid daily admission.
URL:https://sebringrundown.com/event/tot-time-tuesday-7/
LOCATION:Children’s Museum of the Highlands\, 901 US Hwy 27 North Unit 50\, Sebring\, 33870\, United States
CATEGORIES:Family Friendly
END:VEVENT
BEGIN:VEVENT
DTSTART;TZID=America/New_York:20180220T103000
DTEND;TZID=America/New_York:20180220T113000
DTSTAMP:20260425T134023
CREATED:20180107T122533Z
LAST-MODIFIED:20180107T122549Z
UID:485-1519122600-1519126200@sebringrundown.com
SUMMARY:Tot Time Tuesday
DESCRIPTION:Tot Time is a toddler program geared for children age 2-5 to come together for unique themed activities each Tuesday. Activities include storytelling\, singing\, crafts\, dancing\, hide n seek\, and using our imaginations! Each week is different. Tot Time is included at no extra charge in our family memberships or paid daily admission.
URL:https://sebringrundown.com/event/tot-time-tuesday-2/
LOCATION:Children’s Museum of the Highlands\, 901 US Hwy 27 North Unit 50\, Sebring\, 33870\, United States
CATEGORIES:Family Friendly
END:VEVENT
BEGIN:VEVENT
DTSTART;TZID=America/New_York:20180224T100000
DTEND;TZID=America/New_York:20180224T190000
DTSTAMP:20260425T134023
CREATED:20180107T204642Z
LAST-MODIFIED:20180107T204642Z
UID:530-1519466400-1519498800@sebringrundown.com
SUMMARY:Senior Expo & Family Extravaganza
DESCRIPTION:
URL:https://sebringrundown.com/event/senior-expo-family-extravaganza/
LOCATION:Lakeshore Mall\, 901 US S HWY 27 N\, Sebring\, FL\, 33870\, United States
CATEGORIES:Family Friendly,Festivals
END:VEVENT
BEGIN:VEVENT
DTSTART;TZID=America/New_York:20180228T103000
DTEND;TZID=America/New_York:20180228T113000
DTSTAMP:20260425T134023
CREATED:20180107T115909Z
LAST-MODIFIED:20180107T120232Z
UID:470-1519813800-1519817400@sebringrundown.com
SUMMARY:Tot Time Tuesday
DESCRIPTION:Tot Time is a toddler program geared for children age 2-5 to come together for unique themed activities each Tuesday. Activities include storytelling\, singing\, crafts\, dancing\, hide n seek\, and using our imaginations! Each week is different. Tot Time is included at no extra charge in our family memberships or paid daily admission.
URL:https://sebringrundown.com/event/tot-time-tuesday-8/
LOCATION:Children’s Museum of the Highlands\, 901 US Hwy 27 North Unit 50\, Sebring\, 33870\, United States
CATEGORIES:Family Friendly
END:VEVENT
END:VCALENDAR