BEGIN:VCALENDAR
VERSION:2.0
PRODID:-//Sebring Rundown - ECPv6.15.20//NONSGML v1.0//EN
CALSCALE:GREGORIAN
METHOD:PUBLISH
X-ORIGINAL-URL:https://sebringrundown.com
X-WR-CALDESC:Events for Sebring Rundown
REFRESH-INTERVAL;VALUE=DURATION:PT1H
X-Robots-Tag:noindex
X-PUBLISHED-TTL:PT1H
BEGIN:VTIMEZONE
TZID:America/New_York
BEGIN:DAYLIGHT
TZOFFSETFROM:-0500
TZOFFSETTO:-0400
TZNAME:EDT
DTSTART:20180311T070000
END:DAYLIGHT
BEGIN:STANDARD
TZOFFSETFROM:-0400
TZOFFSETTO:-0500
TZNAME:EST
DTSTART:20181104T060000
END:STANDARD
BEGIN:DAYLIGHT
TZOFFSETFROM:-0500
TZOFFSETTO:-0400
TZNAME:EDT
DTSTART:20190310T070000
END:DAYLIGHT
BEGIN:STANDARD
TZOFFSETFROM:-0400
TZOFFSETTO:-0500
TZNAME:EST
DTSTART:20191103T060000
END:STANDARD
BEGIN:DAYLIGHT
TZOFFSETFROM:-0500
TZOFFSETTO:-0400
TZNAME:EDT
DTSTART:20200308T070000
END:DAYLIGHT
BEGIN:STANDARD
TZOFFSETFROM:-0400
TZOFFSETTO:-0500
TZNAME:EST
DTSTART:20201101T060000
END:STANDARD
END:VTIMEZONE
BEGIN:VEVENT
DTSTART;TZID=America/New_York:20190503T080000
DTEND;TZID=America/New_York:20190503T120000
DTSTAMP:20260424T114550
CREATED:20190426T172730Z
LAST-MODIFIED:20190426T172730Z
UID:1585-1556870400-1556884800@sebringrundown.com
SUMMARY:Clays and Camo
DESCRIPTION:Grab your camo gear and get ready for a great day outdoors\, all for a good cause! The AdventHealth Lake Placid\, Sebring and Wauchula Foundations invite you to their 2019 clay shoot – Clays & Camo! \nWhen you support Clays & Camo\, you can impact the healthcare journey of local mothers\, fathers\, children and friends. Your participation helps us provide whole-person\, compassionate care to AdventHealth patients and their families. \nIn addition to coming together under the common purpose of benefiting our community members\, Clays & Camo provides an opportunity for fellowship and a friendly competition! We will also keep guests nourished throughout the day: Quail Creek Plantation will provide breakfast and lunch and Natalie’s Orchid Island Juice Co. will keep participants hydrated on the trails! \nAll Clays & Camo proceeds benefit health and wellness initiatives at AdventHealth Lake Placid\, AdventHealth Sebring and AdventHealth Wauchula. \nTo participate or for information about sponsorships opportunities: 863-402-5525 or Kirsten.Scarborough@AdventHealth.com. \nThank you sponsors: Peggy Scott & Family\, MIDFLORIDA Credit Union\, Brasfield & Gorrie\, All About Lawns\, Inc.\, Natalie’s Orchid Island Juice Company\, 3rd Day Growers\, Inc. and Clifford R. Rhoades\, P.A..
URL:https://sebringrundown.com/event/clays-and-camo/
LOCATION:AdventHealth Sebring\, 4200 Sun N Lake Blvd\, Sebring\, FL\, 33872
CATEGORIES:Family Friendly
END:VEVENT
BEGIN:VEVENT
DTSTART;TZID=America/New_York:20190504T090000
DTEND;TZID=America/New_York:20190504T130000
DTSTAMP:20260424T114550
CREATED:20190412T193435Z
LAST-MODIFIED:20190412T193435Z
UID:1186-1556960400-1556974800@sebringrundown.com
SUMMARY:3rd Annual Kids Bicycle Rodeo
DESCRIPTION:3rd Annual Kids Bicycle Rodeo \nDate: May 4th\, 2019\nTime: 9:00 am – 1:00 pm \nLocation: Sebring Fire Department\n301 N. Mango Street \n*Firehouse Tours*\n*Bicycle Inspections*\n*Bicycle Helmets*\n*Kids Bicycle Course*\n*Free Hot Dogs*\n*Live DJ* \nHosted by:\nSebring Fire Department\nSebring Police Department\nCity of Sebring
URL:https://sebringrundown.com/event/3rd-annual-kids-bicycle-rodeo/
LOCATION:Sebring Fire Department\, 301 N. Mango St\, Sebring\, FL\, 33870
CATEGORIES:Family Friendly,Festivals
END:VEVENT
BEGIN:VEVENT
DTSTART;TZID=America/New_York:20190507T170000
DTEND;TZID=America/New_York:20190507T190000
DTSTAMP:20260424T114550
CREATED:20190412T193636Z
LAST-MODIFIED:20190412T193636Z
UID:1189-1557248400-1557255600@sebringrundown.com
SUMMARY:10th Anniversary Celebration
DESCRIPTION:Celebrating 10 years of caring. We are honored to have pampered and cared for your pets over the years. Gather the family\, paws and all\, drop in and join us as we celebrate. Refreshments and Hors D’oeuvres \nCelebration Gift provided to the first 25 guests.
URL:https://sebringrundown.com/event/10th-anniversary-celebration/
LOCATION:Just Like Home Pet Hotel\, 3479 Davis Citrus Rd.\, Avon Park\, FL\, 33825
CATEGORIES:Family Friendly
END:VEVENT
BEGIN:VEVENT
DTSTART;TZID=America/New_York:20190510T200000
DTEND;TZID=America/New_York:20190510T200000
DTSTAMP:20260424T114550
CREATED:20190509T165638Z
LAST-MODIFIED:20190509T165638Z
UID:1842-1557518400-1557518400@sebringrundown.com
SUMMARY:Cinema on the Circle
DESCRIPTION:Get your weekend started at sunset on the 2nd Friday of the month in Downtown Sebring’s Circle Park with a movie the whole family can enjoy! \nCome early to save your seat\, have dinner\, and grab a sweet treat and some popcorn before the movie from one of the wonderful Downtown merchants. Don’t forget to bring chairs and blankets to get comfortable under the stars in beautiful Circle Park! \nFamily friendly restrooms will be available at the former Sebring Chamber of Commerce office (soon to be the new CRA office!) located right across the street from Circle Park – look for signs right outside the entrance to the building.
URL:https://sebringrundown.com/event/cinema-on-the-circle-2/
LOCATION:Sebring Downtown Historic District
CATEGORIES:Family Friendly
END:VEVENT
BEGIN:VEVENT
DTSTART;TZID=America/New_York:20190511T130000
DTEND;TZID=America/New_York:20190511T150000
DTSTAMP:20260424T114550
CREATED:20190506T182824Z
LAST-MODIFIED:20190506T182824Z
UID:1745-1557579600-1557586800@sebringrundown.com
SUMMARY:Lakeshore Mall Kidz Club - Making Memories
DESCRIPTION:
URL:https://sebringrundown.com/event/lakeshore-mall-kidz-club-making-memories/
LOCATION:Lakeshore Mall\, 901 US S HWY 27 N\, Sebring\, FL\, 33870\, United States
CATEGORIES:Family Friendly
END:VEVENT
BEGIN:VEVENT
DTSTART;TZID=America/New_York:20190514T173000
DTEND;TZID=America/New_York:20190514T173000
DTSTAMP:20260424T114550
CREATED:20190426T174415Z
LAST-MODIFIED:20190426T174415Z
UID:1588-1557855000-1557855000@sebringrundown.com
SUMMARY:The Truth About Your Water
DESCRIPTION:Come enjoy the warm atmosphere and let the Health & Hydration Expert Natalya Faust enlighten us on the most beneficial thing you can do for your health.
URL:https://sebringrundown.com/event/the-truth-about-your-water/
LOCATION:Drug Free Highlands\, 223 Pomegranate Ave\, Sebring\, FL\, 33870
CATEGORIES:Family Friendly,Non-Profit
END:VEVENT
BEGIN:VEVENT
DTSTART;TZID=America/New_York:20190517T180000
DTEND;TZID=America/New_York:20190517T210000
DTSTAMP:20260424T114550
CREATED:20190507T210144Z
LAST-MODIFIED:20190507T210144Z
UID:1821-1558116000-1558126800@sebringrundown.com
SUMMARY:Pizza & Family Game Night at The Grateful Hearts
DESCRIPTION:Join us at The Grateful Hearts for a DIY class to make one of our many Wood Projects! Canvas Projects! & More! Choose from a Plank Wood Sign\, Framed Sign\,  Round Sign\, Plank Wood Tray\, Wood Photo Frame\, Canvas Pillow\, Canvas Trays\, Canvas Totes\, Hanging Canvas\, Game Boards\, Door Mats\, Jewelry Boards\, Sport Shelf’s\, & MORE! In the workshop\, you will have the opportunity to customize your project with your choice of designer paints and (non-toxic!) stain colors by USA made Dixie Belle Paint Line (WE SELL THE PAINT LINE TOO FOR ALL THOSE AT HOME PROJECTS!). \n  \nHOW TO REGISTER:\nStep 1: Select your Project Type from our available options.\nStep 2: Select your Project Design – we have a few designs showcased on our website\, you can also view all the design choices by looking at our social media (Facebook or Instagram); so many designs (over 2\,500!) we can’t possibly put them all here! If you’ve seen the design on pinterest – we probably have it – just ask! \nStep 3: Enter your Design Options (describe the design as best you can)\, including the project size\, any required customization details\, and your contact information. If you have questions – call us 863-471-0611 or email us gratefulsebring@gmail.com\nStep 4: Your seat in the workshop will be reserved for 30 minutes while you complete the Checkout process and submit your payment. You will receive an email confirmation once your registration is complete. \nPLEASE NOTE: If you would like us to create a new Custom Graphic Design for your project\, an additional fee will apply. Your registration must be submitted at least 72 hours before the workshop. Please order the CUSTOM GRAPHIC DESIGN + Project ticket and include all design details at checkout. \n\nYou will be choosing your wood stain & paint colors at the party\nPlease arrive 10 minutes prior to party start time\nWorkshop lasts anywhere from 3 to 3.5 hours\nNO EXPERIENCE NEEDED!  We guide you every step of the way and we are here to help you!
URL:https://sebringrundown.com/event/pizza-family-game-night-at-the-grateful-hearts/
LOCATION:The Grateful Hearts\, 1989 Lakeview Dr\, Sebring\, 33870\, United States
CATEGORIES:Art,Family Friendly
END:VEVENT
BEGIN:VEVENT
DTSTART;TZID=America/New_York:20190518T100000
DTEND;TZID=America/New_York:20190518T140000
DTSTAMP:20260424T114550
CREATED:20190514T173504Z
LAST-MODIFIED:20190514T173504Z
UID:1902-1558173600-1558188000@sebringrundown.com
SUMMARY:Nerf and Nachos
DESCRIPTION:Elementary aged children are invited to dip\, duck\, dodge\, dive and…dodge! It’s not dodge ball but Nerf battle night! \nYou bring your Nerf gun and we’ll provide the Nerf bullets (standard sized)\, the protective eyewear\, the Nachos and all the fun! Come prepared for a night you won’t forget and bring a friend! \nGo to http://www.sebringchristianchurch.com to the SCC Kidz Connection page and fill out a permission slip for this event. Everyone MUST have a permission slip filled out to participate. \nIf you have any questions you can respond to this post or call 863-382-6676 and ask for Stephanie.
URL:https://sebringrundown.com/event/nerf-and-nachos/
LOCATION:Sebring Christian Church\, 4514 Hammock Rd.\, Sebring\, FL\, 33872
CATEGORIES:Family Friendly,Non-Profit
END:VEVENT
BEGIN:VEVENT
DTSTART;TZID=America/New_York:20190518T110000
DTEND;TZID=America/New_York:20190518T150000
DTSTAMP:20260424T114550
CREATED:20190507T210522Z
LAST-MODIFIED:20190507T210522Z
UID:1825-1558177200-1558191600@sebringrundown.com
SUMMARY:FAMILY FUN SATURDAY – Make Any Project at The Grateful Hearts
DESCRIPTION:Join us at The Grateful Hearts for a DIY class to make one of our many Wood Projects! Canvas Projects! & More! Choose from a Plank Wood Sign\, Framed Sign\,  Round Sign\, Plank Wood Tray\, Wood Photo Frame\, Canvas Pillow\, Canvas Trays\, Canvas Totes\, Hanging Canvas\, Game Boards\, Door Mats\, Jewelry Boards\, Sport Shelf’s\, & MORE! In the workshop\, you will have the opportunity to customize your project with your choice of designer paints and (non-toxic!) stain colors by USA made Dixie Belle Paint Line (WE SELL THE PAINT LINE TOO FOR ALL THOSE AT HOME PROJECTS!). \n  \nHOW TO REGISTER:\nStep 1: Select your Project Type from our available options.\nStep 2: Select your Project Design – we have a few designs showcased on our website\, you can also view all the design choices by looking at our social media (Facebook or Instagram); so many designs (over 2\,500!) we can’t possibly put them all here! If you’ve seen the design on pinterest – we probably have it – just ask! \nStep 3: Enter your Design Options (describe the design as best you can)\, including the project size\, any required customization details\, and your contact information. If you have questions – call us 863-471-0611 or email us gratefulsebring@gmail.com\nStep 4: Your seat in the workshop will be reserved for 30 minutes while you complete the Checkout process and submit your payment. You will receive an email confirmation once your registration is complete. \nPLEASE NOTE: If you would like us to create a new Custom Graphic Design for your project\, an additional fee will apply. Your registration must be submitted at least 72 hours before the workshop. Please order the CUSTOM GRAPHIC DESIGN + Project ticket and include all design details at checkout. \n\nYou will be choosing your wood stain & paint colors at the party\nPlease arrive 10 minutes prior to party start time\nWorkshop lasts anywhere from 3 to 3.5 hours\nNO EXPERIENCE NEEDED!  We guide you every step of the way and we are here to help you!\n\n 
URL:https://sebringrundown.com/event/family-fun-saturday-make-any-project-at-the-grateful-hearts/
LOCATION:The Grateful Hearts\, 1989 Lakeview Dr\, Sebring\, 33870\, United States
CATEGORIES:Art,Family Friendly
END:VEVENT
BEGIN:VEVENT
DTSTART;TZID=America/New_York:20190518T110000
DTEND;TZID=America/New_York:20190518T150000
DTSTAMP:20260424T114550
CREATED:20190516T171353Z
LAST-MODIFIED:20190516T171353Z
UID:1981-1558177200-1558191600@sebringrundown.com
SUMMARY:Girl Scout Recruiting
DESCRIPTION:Come learn about being a Girl Scout or a troop leader. May 18th from 11:00 am – 3:00 pm at center court in Lakeshore Mall. Explore your possibilities.
URL:https://sebringrundown.com/event/girl-scout-recruiting/
LOCATION:Lakeshore Mall\, 901 US S HWY 27 N\, Sebring\, FL\, 33870\, United States
CATEGORIES:Family Friendly
END:VEVENT
BEGIN:VEVENT
DTSTART;TZID=America/New_York:20190527T170000
DTEND;TZID=America/New_York:20190527T170000
DTSTAMP:20260424T114550
CREATED:20190429T173019Z
LAST-MODIFIED:20190429T173019Z
UID:1617-1558976400-1558976400@sebringrundown.com
SUMMARY:Lake Placid Chow Down Rally
DESCRIPTION:Chow Down Food Truck Rally is heading to Lake Placid. Come enjoy us at the beautiful Stuart Park and have dinner & dessert with the best South Florida food trucks! \nFood truck is a restaurant on wheels!!! They are travelling and coming from different directions some of them is 2 hours away from South and some of them from Central State of FL…….Gourmet Food Truck is NOT Fast Food….Every meal is freshly prepared and cooked to order…to deliver the freshness to you so you can enjoy hot and fresh food!!! \nFood Trucks will be serving from 5:00 PM – 9:00 PM \nIt’s Monday night out for family – friends – fun – food and we’re pet friendly event……Bring your appetite – lawn chair – sit back and relex – enjoy gourmet food – Live Music…….\nLocation: Stuart Park\n131 E Interlake Blvd\, Lake Placid
URL:https://sebringrundown.com/event/lake-placid-chow-down-rally-2/
LOCATION:Stuart Park\, 131 E Interlake Blvd\, Lake Placid\, FL\, 33852
CATEGORIES:Family Friendly,Food & Drink
END:VEVENT
BEGIN:VEVENT
DTSTART;TZID=America/New_York:20190528T083000
DTEND;TZID=America/New_York:20190528T120000
DTSTAMP:20260424T114550
CREATED:20190514T174547Z
LAST-MODIFIED:20190514T174547Z
UID:1905-1559032200-1559044800@sebringrundown.com
SUMMARY:Horsemanship Day Camp
DESCRIPTION:Ages 6-16\, enjoy learning basic to advanced riding in the English seat. Beginner to advanced grooming & clipping techniques. Horse Maintenance & basic veterinary care.
URL:https://sebringrundown.com/event/horsemanship-day-camp/
LOCATION:Orchid Hill Stables\, 419 Ranchero Dr.\, Sebring\, FL\, 33876
CATEGORIES:Family Friendly
END:VEVENT
END:VCALENDAR