BEGIN:VCALENDAR
VERSION:2.0
PRODID:-//Sebring Rundown - ECPv6.15.20//NONSGML v1.0//EN
CALSCALE:GREGORIAN
METHOD:PUBLISH
X-WR-CALNAME:Sebring Rundown
X-ORIGINAL-URL:https://sebringrundown.com
X-WR-CALDESC:Events for Sebring Rundown
REFRESH-INTERVAL;VALUE=DURATION:PT1H
X-Robots-Tag:noindex
X-PUBLISHED-TTL:PT1H
BEGIN:VTIMEZONE
TZID:America/New_York
BEGIN:DAYLIGHT
TZOFFSETFROM:-0500
TZOFFSETTO:-0400
TZNAME:EDT
DTSTART:20180311T070000
END:DAYLIGHT
BEGIN:STANDARD
TZOFFSETFROM:-0400
TZOFFSETTO:-0500
TZNAME:EST
DTSTART:20181104T060000
END:STANDARD
BEGIN:DAYLIGHT
TZOFFSETFROM:-0500
TZOFFSETTO:-0400
TZNAME:EDT
DTSTART:20190310T070000
END:DAYLIGHT
BEGIN:STANDARD
TZOFFSETFROM:-0400
TZOFFSETTO:-0500
TZNAME:EST
DTSTART:20191103T060000
END:STANDARD
BEGIN:DAYLIGHT
TZOFFSETFROM:-0500
TZOFFSETTO:-0400
TZNAME:EDT
DTSTART:20200308T070000
END:DAYLIGHT
BEGIN:STANDARD
TZOFFSETFROM:-0400
TZOFFSETTO:-0500
TZNAME:EST
DTSTART:20201101T060000
END:STANDARD
END:VTIMEZONE
BEGIN:VEVENT
DTSTART;TZID=America/New_York:20191102T090000
DTEND;TZID=America/New_York:20191102T120000
DTSTAMP:20260421T221053
CREATED:20191101T160655Z
LAST-MODIFIED:20191101T160655Z
UID:3798-1572685200-1572696000@sebringrundown.com
SUMMARY:Lake Placid Police Department 14th Annual Bike Rodeo
DESCRIPTION:All ages are welcome! There will be FREE bicycle helmets for the kids\, FREE hot dogs\, chips\, and drinks. There will be music from a local DJ. There will be drawings for 20 free bicycles and other great prizes. This fun filled day of family activities is sure to make everyone smile! \nThe fun runs from 9am to 12pm on Saturday\, November 2nd at 8 N. Oak Ave\, Lake Placid\, in front of the Police Department.
URL:https://sebringrundown.com/event/lake-placid-police-department-14th-annual-bike-rodeo/
LOCATION:Lake Placid Police Department\, 8 N. Oak Ave.\, Lake Placid\, FL\, 33852
CATEGORIES:Family Friendly,Festivals
END:VEVENT
BEGIN:VEVENT
DTSTART;TZID=America/New_York:20191102T113000
DTEND;TZID=America/New_York:20191102T190000
DTSTAMP:20260421T221053
CREATED:20191101T183447Z
LAST-MODIFIED:20191101T183637Z
UID:3825-1572694200-1572721200@sebringrundown.com
SUMMARY:Lady Panthers Participate in Volleyball Championship at SFSC
DESCRIPTION:Lady Panthers Participate in Volleyball Championship at SFSC \nThe Florida College System Activities Association/National Junior College Athletic Association (FCSAA/NJCAA) Division II Gulf District Volleyball Championship will be held on Saturday\, Nov. 2 and Sunday\, Nov. 3 at SFSC in the Panther Gym on the Highlands Campus. Match times on Saturday will be 11:30 a.m.\, 2 p.m.\, 4 p.m.\, and 7 p.m. The Sunday championship match begins at 1 p.m. All matches will be live-streamed by the FCSAA at team1sports.com/fcsaa/. The winner of this single-elimination tournament will earn a spot in the NJCAA Division II National Championship Tournament. \nThe seeds have been set for this weekend’s tournament. The Lady Panthers take on the Pasco-Hernando State College Bobcats on Nov. 2 at 11:30 a.m. in hopes of winning and advancing to the 4:30 p.m. match against conference champion Gulf Coast State College. \nThe college volleyball teams participating in the tournament will be from: Florida Gateway College\, Gulf Coast State College\, Lake Sumter State College\, SFSC\, St. John’s River State College\, and Pasco-Hernando State College. Each of these teams is a member of the Sun-Lakes Conference of the FCSAA. \n“We are excited to be hosting the tournament\,” said Kim Crawford\, SFSC volleyball coach. “The team is working hard and is very focused on the opportunity we have to advance to the next level.” \nThe tournament is free to all SFSC employees and students with IDs as well as students from the participating teams. For the public\, single admission either day is $8\, the four-match day pass is $20\, and the five-match Day 2 pass is $25. \n“This should be a great tournament\, as much of the regular season has been very competitive\,” said Rick Hitt\, SFSC athletic director and tournament director. “Those who are fans of volleyball can catch some excellent collegiate volleyball on these days\, and we would love to fill the gym with Panther fans each time our ladies take the court.”
URL:https://sebringrundown.com/event/lady-panthers-participate-in-volleyball-championship-at-sfsc/
LOCATION:FL
CATEGORIES:Family Friendly,Sports
ATTACH;FMTTYPE=image/jpeg:https://sebringrundown.com/wp-content/uploads/2019/11/Team-Traditional.jpg
END:VEVENT
BEGIN:VEVENT
DTSTART;VALUE=DATE:20191108
DTEND;VALUE=DATE:20191109
DTSTAMP:20260421T221053
CREATED:20191004T163812Z
LAST-MODIFIED:20191004T163812Z
UID:3530-1573171200-1573257599@sebringrundown.com
SUMMARY:Christmas at the Jacaranda Hotel Begins!
DESCRIPTION:(Nov. 8-Jan. 18) Visit the hotel and halls where Babe Ruth\, Clark Gable and Al Capone once stayed. Step back in time and embrace the magical holiday season at this 1920s historic hotel nestled in the center of the state. The drive here alone\, through open pastureland and orange groves\, will set the mood and take you to a simpler time.\n\nFull of traditional and festive holiday décor\, the Grand Lobby showcases the 15-foot Christmas Tree\, nutcrackers\, fireplace and ornate holiday splendor. Enjoy buffet lunch or dinner\, stroll the Arcade decorated with poinsettias\, antique sleigh and lavish decorations\, and stay in the newly decorated hotel rooms suites\, each with its own theme.
URL:https://sebringrundown.com/event/christmas-at-the-jacaranda-hotel-begins/
LOCATION:Jacaranda Hotel\, 19 E Main St.\, Avon Park\, FL\, 33825
CATEGORIES:Family Friendly
END:VEVENT
BEGIN:VEVENT
DTSTART;TZID=America/New_York:20191108T200000
DTEND;TZID=America/New_York:20191108T200000
DTSTAMP:20260421T221053
CREATED:20190919T150616Z
LAST-MODIFIED:20191101T152752Z
UID:3430-1573243200-1573243200@sebringrundown.com
SUMMARY:Cinema on the Circle
DESCRIPTION:Venue change for November 8: The movie will be shown inside the Circle Theatre!\nMovie: The Lion King (2019) \nGet your weekend started at sunset on the 2nd Friday of the month in Downtown Sebring’s Circle Park with a movie the whole family can enjoy! \nCome early to save your seat\, have dinner\, and grab a sweet treat and some popcorn before the movie from one of the wonderful Downtown merchants. Don’t forget to bring chairs and blankets to get comfortable under the stars in beautiful Circle Park! \nFamily friendly restrooms will be available at the former Sebring Chamber of Commerce office (soon to be the new CRA office!) located right across the street from Circle Park – look for signs right outside the entrance to the building.
URL:https://sebringrundown.com/event/cinema-on-the-circle-5/
LOCATION:Sebring Downtown Historic District
CATEGORIES:Family Friendly
END:VEVENT
BEGIN:VEVENT
DTSTART;TZID=America/New_York:20191109T100000
DTEND;TZID=America/New_York:20191109T140000
DTSTAMP:20260421T221053
CREATED:20191101T153657Z
LAST-MODIFIED:20191101T153657Z
UID:3796-1573293600-1573308000@sebringrundown.com
SUMMARY:4th Annual Lake Life Home & Business Expo
DESCRIPTION:4TH ANNUAL LAKE LIFE HOME & BUSINESS EXPO \nCome Experience the Best of Highlands County! \nInsurance\nBlinds\nReal Estate\nHome Repair\nPainting\nVeterinary\nRecruiter\nAdvertising\nMedical\nLularoe\nFinancial Planning\nAuto Body\nLegal\nGuns & Ammo\nSeptic\nTravel and more… \nALSO @ THE EXPO \nGolf Cart Parade\nCareer Fair\nVeteran’s Dinner Sign-up\nVoters’ Registration\nFood Truck\nPrizes
URL:https://sebringrundown.com/event/4th-annual-lake-life-home-business-expo/
LOCATION:Sebring Civic Center\, 355 W Center Ave.\, Sebring\, FL\, 33870
CATEGORIES:Family Friendly,Shopping
END:VEVENT
BEGIN:VEVENT
DTSTART;TZID=America/New_York:20191109T130000
DTEND;TZID=America/New_York:20191109T150000
DTSTAMP:20260421T221053
CREATED:20191101T172437Z
LAST-MODIFIED:20191101T172437Z
UID:3806-1573304400-1573311600@sebringrundown.com
SUMMARY:Lakeshore Mall Kidz Club - Home for the Holidays
DESCRIPTION:FREE Event!!!! \nKids (ages 3-12) will enjoy a fun time crafts and fun! Join us by the Kids Play Area in the former Battlezone. \nWe’ll be stringing popcorn and crafting with wood ornaments to decorate for Santa’s new homey area while he’s set up for visits through Christmas Eve! Kids will be able to take an ornament to do at home\, but the other items will be left behind for Santa’s decor. \nBe sure and like our facebook page for additional details! www.facebook.com/lakeshoremallfl \nIf this will be your first attendance to the Lakeshore Mall Kidz Club – please fill out this form here: https://goo.gl/forms/ZWFslYmy9oDWY53w1 \nParents – Only register for how many kids you will be bringing (adults don’t need an RSVP as we will have supplies for the kid participants) \nPlease RSVP early so we have enough supplies to go around – And please share this with your friends!
URL:https://sebringrundown.com/event/lakeshore-mall-kidz-club-home-for-the-holidays/
LOCATION:Lakeshore Mall\, 901 US S HWY 27 N\, Sebring\, FL\, 33870\, United States
CATEGORIES:Family Friendly
END:VEVENT
BEGIN:VEVENT
DTSTART;TZID=America/New_York:20191112T163000
DTEND;TZID=America/New_York:20191112T183000
DTSTAMP:20260421T221053
CREATED:20191101T161127Z
LAST-MODIFIED:20191101T161127Z
UID:3801-1573576200-1573583400@sebringrundown.com
SUMMARY:Highlands County Ag-Venture\, Inc.
DESCRIPTION:Night-Time Ag-Venture\nTuesday\, November 12\, 2019\nHighlands County Fairgrounds \nSteak Dinner: 4:30-6:30\, Eat in or Take out\, rain or shine\nRibeye\, fresh corn on the cob\, baked potato\, green beans\, roll\, beverage\, and homemade ice cream\n$15 Adult\, $7 Children \nAg-Venture Tours: at 5:00 and 6:00 there will be guided tours of the stations the children participate in during the day. \nFree Entertainment: Beginning at 5:00 there will be exceptional local entertainment on the outside stage. \nCome and enjoy this fun family time!\nAdvance dinner tickets are available by calling 863-441-1317\, or may be purchased at the gate.
URL:https://sebringrundown.com/event/highlands-county-ag-venture-inc/
LOCATION:Highlands County Fair Grounds\, 781 Magnolia Ave\, FL\, United States
CATEGORIES:Family Friendly,Festivals,Food & Drink
END:VEVENT
BEGIN:VEVENT
DTSTART;TZID=America/New_York:20191129T080000
DTEND;TZID=America/New_York:20191129T140000
DTSTAMP:20260421T221053
CREATED:20191122T184903Z
LAST-MODIFIED:20191122T184903Z
UID:4001-1575014400-1575036000@sebringrundown.com
SUMMARY:YMCA Black Friday Shop-N-Drop
DESCRIPTION:The YMCA will be hosting a “Drop N Shop” on Friday\, November 29th from 8am-2pm. Leave your children with our amazing YMCA Staff members and finish up all of your holiday shopping. \n-Fun Holiday Activities\n-Arts and Crafts\n-Group Games\n-Swimming for 5+ (weather permitting)\n-Healthy Snack Provided \nAges 6 months – 10 yrs. \nMembers: $15\nNon-Members: $30
URL:https://sebringrundown.com/event/ymca-black-friday-shop-n-drop/
LOCATION:Highlands County Family YMCA\, 100 YMCA Lane\, Sebring\, FL\, 33875
CATEGORIES:Family Friendly
END:VEVENT
BEGIN:VEVENT
DTSTART;VALUE=DATE:20191130
DTEND;VALUE=DATE:20191201
DTSTAMP:20260421T221053
CREATED:20191101T153311Z
LAST-MODIFIED:20191101T153311Z
UID:3794-1575072000-1575158399@sebringrundown.com
SUMMARY:Small Business Saturday
DESCRIPTION:Join us on November 30th to celebrate Small Business Saturday in Downtown Sebring! Spend the day shopping all of your favorite local downtown locations\, as well as pop-up shops! \nStop by the Community Redevelopment Agency office located at 309 Circle Park Drive for your passport to take you to all of the participating locations! Get your passport stamped at all of the locations and you will be entered into small giveaways throughout the day and an overall grand prize winner for the ending of the event! \nThere will be giveaways throughout the event\, so you definitely won’t want to miss signing up with us for an entry to the small giveaways too! \nBusiness storefronts will be in the holiday spirit this year as they will be competing in a window decorating contest that YOU get to be the judge on! Cast your vote on the back of your passport and drop it off at the ending location! \nTo end the night we will be doing a Christmas lighting ceremony to kickoff the Carousel of Lights! Join us as Mayor John Shoop lights the circle for the first time this holiday season! \nThis is going to be a great event for the start of our Christmas season\, so make sure to #shopsmall this year in Downtown Sebring! cramarketing@mysebring.com
URL:https://sebringrundown.com/event/small-business-saturday/
LOCATION:Sebring Downtown Historic District
CATEGORIES:Family Friendly,Shopping
END:VEVENT
BEGIN:VEVENT
DTSTART;TZID=America/New_York:20191130T180000
DTEND;TZID=America/New_York:20191130T210000
DTSTAMP:20260421T221053
CREATED:20191004T163926Z
LAST-MODIFIED:20191004T163926Z
UID:3533-1575136800-1575147600@sebringrundown.com
SUMMARY:Carousel of Lights
DESCRIPTION:(Nov. 30-Dec. 27) Join us for the Annual Downtown Sebring Carousel of Lights as historic Circle Park illuminates again with an amazing display of festive holiday lights displayed each night from 6-9 PM. In addition to the lights\, this 4-week long event will feature Santa Claus every night\, a singing puppet show\, kids games and miniature golf. Free to attend; small fee for activities.
URL:https://sebringrundown.com/event/carousel-of-lights/
LOCATION:Sebring Downtown Historic District
CATEGORIES:Family Friendly,Festivals
END:VEVENT
END:VCALENDAR