BEGIN:VCALENDAR
VERSION:2.0
PRODID:-//Sebring Rundown - ECPv6.15.20//NONSGML v1.0//EN
CALSCALE:GREGORIAN
METHOD:PUBLISH
X-WR-CALNAME:Sebring Rundown
X-ORIGINAL-URL:https://sebringrundown.com
X-WR-CALDESC:Events for Sebring Rundown
REFRESH-INTERVAL;VALUE=DURATION:PT1H
X-Robots-Tag:noindex
X-PUBLISHED-TTL:PT1H
BEGIN:VTIMEZONE
TZID:America/New_York
BEGIN:DAYLIGHT
TZOFFSETFROM:-0500
TZOFFSETTO:-0400
TZNAME:EDT
DTSTART:20180311T070000
END:DAYLIGHT
BEGIN:STANDARD
TZOFFSETFROM:-0400
TZOFFSETTO:-0500
TZNAME:EST
DTSTART:20181104T060000
END:STANDARD
BEGIN:DAYLIGHT
TZOFFSETFROM:-0500
TZOFFSETTO:-0400
TZNAME:EDT
DTSTART:20190310T070000
END:DAYLIGHT
BEGIN:STANDARD
TZOFFSETFROM:-0400
TZOFFSETTO:-0500
TZNAME:EST
DTSTART:20191103T060000
END:STANDARD
BEGIN:DAYLIGHT
TZOFFSETFROM:-0500
TZOFFSETTO:-0400
TZNAME:EDT
DTSTART:20200308T070000
END:DAYLIGHT
BEGIN:STANDARD
TZOFFSETFROM:-0400
TZOFFSETTO:-0500
TZNAME:EST
DTSTART:20201101T060000
END:STANDARD
END:VTIMEZONE
BEGIN:VEVENT
DTSTART;TZID=America/New_York:20191202T190000
DTEND;TZID=America/New_York:20191202T190000
DTSTAMP:20260421T203256
CREATED:20191004T165934Z
LAST-MODIFIED:20191004T165934Z
UID:3562-1575313200-1575313200@sebringrundown.com
SUMMARY:Avon Park Christmas Parade
DESCRIPTION:Each year Sebring\, Avon Park and Lake Placid bring the start of the holiday season to you and your loved ones faces and put you into the spirit of the holiday season with three parades within the Sebring and surrounding area. \nDecember 2\, Join us in Avon Park for a spectacular Christmas display!
URL:https://sebringrundown.com/event/avon-park-christmas-parade/
LOCATION:FL
CATEGORIES:Family Friendly,Festivals
END:VEVENT
BEGIN:VEVENT
DTSTART;TZID=America/New_York:20191206T180000
DTEND;TZID=America/New_York:20191207T200000
DTSTAMP:20260421T203256
CREATED:20190927T185052Z
LAST-MODIFIED:20190927T185052Z
UID:3479-1575655200-1575748800@sebringrundown.com
SUMMARY:Hammock North Pole
DESCRIPTION:Friends of Highlands Hammock State Park present Hammock North Pole\nFriday\, Dec 6 and Saturday\, December 7 6pm-9pm (last tram to the North Pole leaves the Hammock Store at 8:15pm)\nAdults $10\nKids 12 and under $5\nTickets will be available soon on Eventbrite
URL:https://sebringrundown.com/event/hammock-north-pole/
LOCATION:Highlands Hammock State Park\, 5931 Hammock Road\, Sebring\, FL\, 33872\, United States
CATEGORIES:Family Friendly,Festivals
END:VEVENT
BEGIN:VEVENT
DTSTART;TZID=America/New_York:20191206T190000
DTEND;TZID=America/New_York:20191206T190000
DTSTAMP:20260421T203256
CREATED:20191004T170028Z
LAST-MODIFIED:20191004T170028Z
UID:3564-1575658800-1575658800@sebringrundown.com
SUMMARY:Sebring Christmas Parade
DESCRIPTION:Each year Sebring\, Avon Park and Lake Placid bring the start of the holiday season to you and your loved ones faces and put you into the spirit of the holiday season with three parades within the Sebring and surrounding area. \nDecember 6\, Join us in Sebring for a spectacular Christmas display!
URL:https://sebringrundown.com/event/sebring-christmas-parade/
LOCATION:FL
CATEGORIES:Family Friendly,Festivals
END:VEVENT
BEGIN:VEVENT
DTSTART;TZID=America/New_York:20191208T170000
DTEND;TZID=America/New_York:20191208T193000
DTSTAMP:20260421T203256
CREATED:20191111T171744Z
LAST-MODIFIED:20191111T171744Z
UID:3943-1575824400-1575833400@sebringrundown.com
SUMMARY:Jingle Jam Family Experience
DESCRIPTION:SAVE THE DATE:\nJingle Jam “Unboxed” Family Experience\nFamilies of the Heartland\, join us on Sunday\, Dec 8th at 5PM for an incredible\, fun filled family event. This event is FREE! \nDinner (FREE) at 5PM as the Pre Party begins and the Main Event starts at 6PM
URL:https://sebringrundown.com/event/jingle-jam-family-experience/
LOCATION:Grace Bible Church\, 4541 Thunderbird Rd.\, Sebring\, FL\, 33872
CATEGORIES:Family Friendly,Festivals
END:VEVENT
BEGIN:VEVENT
DTSTART;TZID=America/New_York:20191213T190000
DTEND;TZID=America/New_York:20191213T200000
DTSTAMP:20260421T203256
CREATED:20191206T193829Z
LAST-MODIFIED:20191206T193829Z
UID:4066-1576263600-1576267200@sebringrundown.com
SUMMARY:Let It Snow!
DESCRIPTION:Join us on December 13th for a snow celebration on E. Center Ave in Downtown Sebring! Snow will fall from 7:00-8:00PM and then we will lead into our Cinema on the Circle event with a showing of The Grinch at 8:00PM! Start the Christmas Season off with a little bit of snow…the Florida way!! \nPlease be aware that Circle Park Drive will remain open during this event! We will only close a small portion of E. Center Ave for the snow so that everyone can still enjoy Carousel of Lights!
URL:https://sebringrundown.com/event/let-it-snow/
LOCATION:Sebring Downtown Historic District
CATEGORIES:Family Friendly
END:VEVENT
BEGIN:VEVENT
DTSTART;TZID=America/New_York:20191213T200000
DTEND;TZID=America/New_York:20191213T200000
DTSTAMP:20260421T203256
CREATED:20190919T150654Z
LAST-MODIFIED:20191209T162837Z
UID:3432-1576267200-1576267200@sebringrundown.com
SUMMARY:Cinema on the Circle
DESCRIPTION:Movie: The Grinch \nGet your weekend started at sunset on the 2nd Friday of the month in Downtown Sebring’s Circle Park with a movie the whole family can enjoy! \nCome early to save your seat\, have dinner\, and grab a sweet treat and some popcorn before the movie from one of the wonderful Downtown merchants. Don’t forget to bring chairs and blankets to get comfortable under the stars in beautiful Circle Park! \nFamily friendly restrooms will be available at the former Sebring Chamber of Commerce office (soon to be the new CRA office!) located right across the street from Circle Park – look for signs right outside the entrance to the building.
URL:https://sebringrundown.com/event/cinema-on-the-circle-6/
LOCATION:Sebring Downtown Historic District
CATEGORIES:Family Friendly
END:VEVENT
BEGIN:VEVENT
DTSTART;TZID=America/New_York:20191214T090000
DTEND;TZID=America/New_York:20191214T110000
DTSTAMP:20260421T203256
CREATED:20191004T171334Z
LAST-MODIFIED:20191209T193740Z
UID:3568-1576314000-1576321200@sebringrundown.com
SUMMARY:Breakfast with Jack Frost
DESCRIPTION:Come join us at HAL for a little bite of sweet seasonal fun with our newest event\, Breakfast with Jack Frost. Jack comes to life on the banks of Lake Jackson to delight and artfully weave a bit of winter magic with your little ones this holiday season. Appropriate for children\, ages 2 – 12\, this event will include arts and crafts\, Jack’s story time\, and a light breakfast with cocoa for the littles and coffee for the adults. A family event\, designed to bring a little more magic to an already magical time of year. \nWhen: Saturday\, December 14 OR 21\, 9 a.m. – 11 a.m.\nWhere: VAC\, 1985 Lakeview Drive\, Sebring \nCost: $25 for children; $30 for adults for non-members\n(members receive a $5 discount per person) \nClick HERE to register and buy tickets
URL:https://sebringrundown.com/event/breakfast-with-jack-frost/
LOCATION:Highlands Art League / MoTA\, 1985 Lakeview Drive\, Sebring\, 33870\, United States
CATEGORIES:Art,Family Friendly,Food & Drink
END:VEVENT
BEGIN:VEVENT
DTSTART;TZID=America/New_York:20191214T130000
DTEND;TZID=America/New_York:20191214T150000
DTSTAMP:20260421T203256
CREATED:20191203T160952Z
LAST-MODIFIED:20191203T160952Z
UID:4057-1576328400-1576335600@sebringrundown.com
SUMMARY:Lakeshore Mall Kidz Club - Santa's Workshop
DESCRIPTION:FREE Event!!!! \nKids (ages 3-12) will enjoy a fun time crafts and fun! Join us at Santa’s visiting area in front of Bealls. \nWe will be crafting a Nutcracker Ornament\, Beading a Reindeer necklace & Storytime with Santa Claus! \nIf this will be your first attendance to the Lakeshore Mall Kidz Club – please fill out this form here: https://goo.gl/forms/ZWFslYmy9oDWY53w1 \nParents – Only register for how many kids you will be bringing (adults don’t need an RSVP as we will have supplies for the kid participants) \nPlease RSVP early so we have enough supplies to go around – And please share this with your friends!
URL:https://sebringrundown.com/event/lakeshore-mall-kidz-club-santas-workshop/
LOCATION:Lakeshore Mall\, 901 US S HWY 27 N\, Sebring\, FL\, 33870\, United States
CATEGORIES:Art,Family Friendly
END:VEVENT
BEGIN:VEVENT
DTSTART;TZID=America/New_York:20191214T190000
DTEND;TZID=America/New_York:20191214T190000
DTSTAMP:20260421T203256
CREATED:20191004T170115Z
LAST-MODIFIED:20191004T170115Z
UID:3566-1576350000-1576350000@sebringrundown.com
SUMMARY:Lake Placid Christmas Parade
DESCRIPTION:Each year Sebring\, Avon Park and Lake Placid bring the start of the holiday season to you and your loved ones faces and put you into the spirit of the holiday season with three parades within the Sebring and surrounding area. \nDecember 14\, Join us in Lake Placid for a spectacular Christmas display!
URL:https://sebringrundown.com/event/lake-placid-christmas-parade-2/
LOCATION:FL
CATEGORIES:Family Friendly,Festivals
END:VEVENT
BEGIN:VEVENT
DTSTART;TZID=America/New_York:20191214T190000
DTEND;TZID=America/New_York:20191214T190000
DTSTAMP:20260421T203256
CREATED:20191004T171430Z
LAST-MODIFIED:20191004T171430Z
UID:3571-1576350000-1576350000@sebringrundown.com
SUMMARY:Sebring Christmas Boat Parade on Lake Jackson
DESCRIPTION:Watch a parade of boats light up Lake Jackson as they start at 7:00 PM from Don Jose Mexican Restaurant\, tour the lake and then return to the restaurant. Cash and prizes for the best decorated boat\, as well as a silent auction\, raffle and 50/50!
URL:https://sebringrundown.com/event/sebring-christmas-boat-parade-on-lake-jackson/
LOCATION:Don Jose Mexican Restaurant\, 4731 Lakeview Dr\, Sebring\, FL\, 33870
CATEGORIES:Family Friendly,Festivals
END:VEVENT
BEGIN:VEVENT
DTSTART;TZID=America/New_York:20191214T190000
DTEND;TZID=America/New_York:20191214T190000
DTSTAMP:20260421T203256
CREATED:20191122T185137Z
LAST-MODIFIED:20191122T185137Z
UID:4003-1576350000-1576350000@sebringrundown.com
SUMMARY:Carols of Christmas
DESCRIPTION:A community carol celebration for all ages. Free!
URL:https://sebringrundown.com/event/carols-of-christmas/
LOCATION:First Baptist Sebring\, 200 E. Center Ave\, Sebring\, FL\, 33870
CATEGORIES:Family Friendly,Music Scene
END:VEVENT
BEGIN:VEVENT
DTSTART;TZID=America/New_York:20191215T150000
DTEND;TZID=America/New_York:20191215T170000
DTSTAMP:20260421T203256
CREATED:20191122T193435Z
LAST-MODIFIED:20191122T193435Z
UID:4019-1576422000-1576429200@sebringrundown.com
SUMMARY:Free Christmas Concert & Tea
DESCRIPTION:Make this holiday season special by joining us at First Sebring for a free Christmas concert by the Heartland Pops followed by tea and mince pies.
URL:https://sebringrundown.com/event/free-christmas-concert-tea/
LOCATION:First Sebring Church\, 126 S Pine St\, Sebring\, FL\, 33870
CATEGORIES:Family Friendly,Festivals,Music Scene
END:VEVENT
BEGIN:VEVENT
DTSTART;TZID=America/New_York:20191221T080000
DTEND;TZID=America/New_York:20191221T100000
DTSTAMP:20260421T203256
CREATED:20191209T170704Z
LAST-MODIFIED:20191209T170704Z
UID:4079-1576915200-1576922400@sebringrundown.com
SUMMARY:Breakfast with Santa!
DESCRIPTION:Come down to Dee’s Place in beautiful downtown Sebring for Breakfast with Santa! Bring the littles for an unforgettable experience!
URL:https://sebringrundown.com/event/breakfast-with-santa/
LOCATION:Dee’s Place\, 138 N Ridgewood Dr\, Sebring\, FL\, United States
CATEGORIES:Family Friendly,Food & Drink
END:VEVENT
BEGIN:VEVENT
DTSTART;TZID=America/New_York:20191221T110000
DTEND;TZID=America/New_York:20191221T210000
DTSTAMP:20260421T203256
CREATED:20191122T185324Z
LAST-MODIFIED:20191122T185324Z
UID:4007-1576926000-1576962000@sebringrundown.com
SUMMARY:A Frosty Christmas Party
DESCRIPTION:Join Sebring Soda & Ice Cream Works for a Frosty Christmas event and celebrate the holidays in Downtown Sebring! \nWe’ll have sales\, activities\, contests\, photos with Frosty\, and more! \n* Photos with Frosty the Snowman from 2-4 p.m. \n* Frostie Craft Soda Flight for $4 (receive six 2 oz. pours of Frostie-brand craft soda with tasting notes) \n* Discounts on Craft Soda Holiday Gift Baskets \n* Purchase a gift card of $15 or more and get a FREE scoop of ice cream on us! \n* Enter the “Frosty the Snowman” coloring contest to win a gift certificate (kids and adult age groups!) \n* Find the 3 hidden snowmen inside the store and get 25% off your next visit \n* $1 Hot Cocoa all day long \n* Try the December Shake of the Month- White Chocolate Peppermint Shake! \n* Enjoy the Carousel of the Lights Christmas Lights & Activities on the Circle \nEmail sebringsodaworks@gmail.com with questions.
URL:https://sebringrundown.com/event/a-frosty-christmas-party/
LOCATION:Sebring Soda & Ice Cream Works\, 201 Circle Park Drive\, Sebring\, FL\, 33870
CATEGORIES:Family Friendly
END:VEVENT
BEGIN:VEVENT
DTSTART;TZID=America/New_York:20191221T180000
DTEND;TZID=America/New_York:20191221T190000
DTSTAMP:20260421T203256
CREATED:20191111T171136Z
LAST-MODIFIED:20191111T171136Z
UID:3935-1576951200-1576954800@sebringrundown.com
SUMMARY:The Three Strings Christmas Concert
DESCRIPTION:Please join us for an evening of memorable Christmas music.
URL:https://sebringrundown.com/event/the-three-strings-christmas-concert/
LOCATION:Grace Church\, 3599 Thunderbird Road\, Sebring\, FL\, 33870
CATEGORIES:Family Friendly,Music Scene
END:VEVENT
BEGIN:VEVENT
DTSTART;TZID=America/New_York:20191231T180000
DTEND;TZID=America/New_York:20191231T180000
DTSTAMP:20260421T203256
CREATED:20191209T170538Z
LAST-MODIFIED:20191209T170538Z
UID:4077-1577815200-1577815200@sebringrundown.com
SUMMARY:New Year's Eve Block Party - Car & Truck Show
DESCRIPTION:New Year’s Eve Block Party\nCar & Truck Show\nFREE to the Public\nHistoric Downtown Circle\nSebring\, Florida\nA night of excitement and fun for all ages with Free Hot Chocolate and Cookies\, Carriage Rides\, Campfires\, Games\, a Nationally Recognized Car Show and Music featuring Nashville Recording Artists Tommy Brandt and son\, T2.
URL:https://sebringrundown.com/event/new-years-eve-block-party-car-truck-show/
LOCATION:Sebring Downtown Historic District
CATEGORIES:Family Friendly,Festivals
END:VEVENT
END:VCALENDAR