BEGIN:VCALENDAR
VERSION:2.0
PRODID:-//Sebring Rundown - ECPv6.15.20//NONSGML v1.0//EN
CALSCALE:GREGORIAN
METHOD:PUBLISH
X-ORIGINAL-URL:https://sebringrundown.com
X-WR-CALDESC:Events for Sebring Rundown
REFRESH-INTERVAL;VALUE=DURATION:PT1H
X-Robots-Tag:noindex
X-PUBLISHED-TTL:PT1H
BEGIN:VTIMEZONE
TZID:America/New_York
BEGIN:DAYLIGHT
TZOFFSETFROM:-0500
TZOFFSETTO:-0400
TZNAME:EDT
DTSTART:20180311T070000
END:DAYLIGHT
BEGIN:STANDARD
TZOFFSETFROM:-0400
TZOFFSETTO:-0500
TZNAME:EST
DTSTART:20181104T060000
END:STANDARD
BEGIN:DAYLIGHT
TZOFFSETFROM:-0500
TZOFFSETTO:-0400
TZNAME:EDT
DTSTART:20190310T070000
END:DAYLIGHT
BEGIN:STANDARD
TZOFFSETFROM:-0400
TZOFFSETTO:-0500
TZNAME:EST
DTSTART:20191103T060000
END:STANDARD
BEGIN:DAYLIGHT
TZOFFSETFROM:-0500
TZOFFSETTO:-0400
TZNAME:EDT
DTSTART:20200308T070000
END:DAYLIGHT
BEGIN:STANDARD
TZOFFSETFROM:-0400
TZOFFSETTO:-0500
TZNAME:EST
DTSTART:20201101T060000
END:STANDARD
END:VTIMEZONE
BEGIN:VEVENT
DTSTART;TZID=America/New_York:20191031T180000
DTEND;TZID=America/New_York:20191031T200000
DTSTAMP:20260421T151209
CREATED:20190822T174223Z
LAST-MODIFIED:20190822T174223Z
UID:3092-1572544800-1572552000@sebringrundown.com
SUMMARY:Boo Bash 2019
DESCRIPTION:“Boo Bash 2019” is presented by the Great Lake Placid Jaycees and local volunteers and businesses in providing a safe environment for kids of all ages. Visit the Haunted House and enjoy “Trunk or Treating” by local Lake Placid business partners! \nFood and soft drinks will be available throughout the event…
URL:https://sebringrundown.com/event/boo-bash-2019/
LOCATION:Lake Placid\, E Interlake Blvd\, Lake Placid\, FL\, 33852
CATEGORIES:Family Friendly,Festivals
END:VEVENT
BEGIN:VEVENT
DTSTART;TZID=America/New_York:20191030T180000
DTEND;TZID=America/New_York:20191030T193000
DTSTAMP:20260421T151209
CREATED:20191021T144646Z
LAST-MODIFIED:20191021T144646Z
UID:3728-1572458400-1572463800@sebringrundown.com
SUMMARY:Fall Festival
DESCRIPTION:Join us Wednesday\, October 30th 6-7:30pm for our Annual Fall Festival!! FREE games\, candy\, & hot dogs for children of all ages.
URL:https://sebringrundown.com/event/fall-festival-2/
LOCATION:First Baptist Church of Lake Josephine\, 111 Lake Josephine Dr\, Sebring\, FL\, 33875
CATEGORIES:Family Friendly,Festivals
END:VEVENT
BEGIN:VEVENT
DTSTART;TZID=America/New_York:20191030T170000
DTEND;TZID=America/New_York:20191030T190000
DTSTAMP:20260421T151209
CREATED:20191004T175948Z
LAST-MODIFIED:20191004T175948Z
UID:3622-1572454800-1572462000@sebringrundown.com
SUMMARY:Hallelujah Fall Festival
DESCRIPTION:This free event is open to the public. Come join us to celebrate fall!\nConcessions will be available for purchase. All activities are free. Customers are encourage but no scary or violent costumes please.
URL:https://sebringrundown.com/event/hallelujah-fall-festival/
LOCATION:Heartland Christian Academy\, 1160 Persimmon Ave\, Sebring\, FL\, 33870
CATEGORIES:Family Friendly
END:VEVENT
BEGIN:VEVENT
DTSTART;TZID=America/New_York:20191027T170000
DTEND;TZID=America/New_York:20191027T170000
DTSTAMP:20260421T151209
CREATED:20191004T175735Z
LAST-MODIFIED:20191004T175735Z
UID:3618-1572195600-1572195600@sebringrundown.com
SUMMARY:Mall-O-Ween
DESCRIPTION:Climate controlled and kid safe area for kids to Trick or Treat
URL:https://sebringrundown.com/event/mall-o-ween/
LOCATION:Lakeshore Mall\, 901 US S HWY 27 N\, Sebring\, FL\, 33870\, United States
CATEGORIES:Family Friendly,Festivals
END:VEVENT
BEGIN:VEVENT
DTSTART;TZID=America/New_York:20191027T160000
DTEND;TZID=America/New_York:20191027T180000
DTSTAMP:20260421T151209
CREATED:20191004T181436Z
LAST-MODIFIED:20191004T181436Z
UID:3637-1572192000-1572199200@sebringrundown.com
SUMMARY:Avon Park Lakes Baptist Church Fall Festival
DESCRIPTION:Avon Park Lakes Baptist Church is the place to be on Sunday\, October 27th from 4-6pm! Trick’or’treat yourself at this FREE and festive trunk’or’treat! Food trucks will be providing classic fair foods like cheesy nachos\,and refreshing icees\, for a small fee but the candy will be FREE! You and your family will have pumpkin’to’talk about for years to come!
URL:https://sebringrundown.com/event/avon-park-lakes-baptist-church-fall-festival/
LOCATION:Avon Park Lakes Baptist Church\, 2600 N. Highlands Blvd\, Avon Park\, FL\, 33825
CATEGORIES:Family Friendly,Festivals
END:VEVENT
BEGIN:VEVENT
DTSTART;TZID=America/New_York:20191026T180000
DTEND;TZID=America/New_York:20191026T210000
DTSTAMP:20260421T151209
CREATED:20191010T135514Z
LAST-MODIFIED:20191010T181714Z
UID:3663-1572112800-1572123600@sebringrundown.com
SUMMARY:Trunk or Treat - Our Lady of Grace
DESCRIPTION:Avon Park’s Our Lady of Grace Inaugural Trunk or Treat! \nOctober 26 from 6-9 \nFree candy for trick or treaters!
URL:https://sebringrundown.com/event/trunk-or-treat-3/
LOCATION:Our Lady of Grace\, 595 E Main St\, Avon Park\, FL\, 33825
CATEGORIES:Family Friendly,Festivals
END:VEVENT
BEGIN:VEVENT
DTSTART;TZID=America/New_York:20191026T180000
DTEND;TZID=America/New_York:20191026T210000
DTSTAMP:20260421T151209
CREATED:20191004T175652Z
LAST-MODIFIED:20191010T181801Z
UID:3615-1572112800-1572123600@sebringrundown.com
SUMMARY:Trunk or Treat - Sebring First Assembly
DESCRIPTION:YOU’RE INVITED!! Come enjoy a safe\, fun place for your family. There will be many kid-friendly decorated trunks with hosts excited to fill your kids bags with candy. There will also be cotton candy and popcorn for everyone! We look forward to seeing you!
URL:https://sebringrundown.com/event/trunk-or-treat/
LOCATION:Sebring First Assembly\, 4301 Kenilworth Blvd\, Sebring\, FL\, 33870
CATEGORIES:Family Friendly,Festivals
END:VEVENT
BEGIN:VEVENT
DTSTART;TZID=America/New_York:20191026T180000
DTEND;TZID=America/New_York:20191026T180000
DTSTAMP:20260421T151209
CREATED:20191004T181330Z
LAST-MODIFIED:20191004T181330Z
UID:3635-1572112800-1572112800@sebringrundown.com
SUMMARY:Avon Park Lakes Baptist Church Ignite the Night
DESCRIPTION:On the night of October 26th\, APLBC will be lighting up the night with FREE fellowship\, FUN\, and candy; for all of the Avon Park trick’or’treaters! Four different tents will be in place in four different fun-to-find locations; complete with games\, like a-maize-ing Cornhole\, and a FREE photo booth to save valuable family memories! Look for the Avon Park Lakes Baptist Church flags and bright lights so you too\, can ignite the night!
URL:https://sebringrundown.com/event/avon-park-lakes-baptist-church-ignite-the-night/
LOCATION:Avon Park Lakes Baptist Church\, 2600 N. Highlands Blvd\, Avon Park\, FL\, 33825
CATEGORIES:Family Friendly,Festivals
END:VEVENT
BEGIN:VEVENT
DTSTART;TZID=America/New_York:20191026T163000
DTEND;TZID=America/New_York:20191026T180000
DTSTAMP:20260421T151209
CREATED:20191008T154147Z
LAST-MODIFIED:20191010T181741Z
UID:3655-1572107400-1572112800@sebringrundown.com
SUMMARY:Trunk or Treat - Faith Baptist of Lake Placid
DESCRIPTION:Free Event for the Entire Family\nBounce House\, Games\, Prizes\, CANDY\, Free Hotdogs\, Cupcake Walk\, Snocones\, Popcorn\nSaturday October 26th\n4:30PM – 6:00PM\n660 Holmes Avenue (Corner of Holmes and CR 29)
URL:https://sebringrundown.com/event/trunk-or-treat-2/
LOCATION:Faith Baptist of Lake Placid\, 660 Holmes Ave\, Lake Placid\, FL\, 33852
CATEGORIES:Family Friendly,Festivals
END:VEVENT
BEGIN:VEVENT
DTSTART;TZID=America/New_York:20191026T110000
DTEND;TZID=America/New_York:20191026T150000
DTSTAMP:20260421T151209
CREATED:20191010T181031Z
LAST-MODIFIED:20191010T181610Z
UID:3674-1572087600-1572102000@sebringrundown.com
SUMMARY:Trunk or Treat - Lakeview Memorial Gardens
DESCRIPTION:Come celebrate Lakeview Memorial’s 50th Anniversary at our Trunk or Treat. This is a FREE event for all children October 26th from 11 am -3 pm.
URL:https://sebringrundown.com/event/trunk-or-treat-4/
LOCATION:Lakeview Memorial Gardens\, 854 Memorial Dr\, Avon Park\, FL\, 33825
CATEGORIES:Family Friendly,Festivals
END:VEVENT
BEGIN:VEVENT
DTSTART;TZID=America/New_York:20191026T110000
DTEND;TZID=America/New_York:20191026T150000
DTSTAMP:20260421T151209
CREATED:20191004T181020Z
LAST-MODIFIED:20191004T181020Z
UID:3632-1572087600-1572102000@sebringrundown.com
SUMMARY:St. Catherine's Fall Festival
DESCRIPTION:On Saturday\, October 26th\, from 11am-3pm\, you can pumpkin spice things up at St. Catherine’s Fall Festival! Design a pumpkin\, frost a tasty cupcake\, jump in the FUN bounce house\, paint your face and MORE at this affordable and family-friendly celebration! Classic Hot-dogs\, crunchy chips\, and a refreshing drink will be provided! Admission is an easy $5 per person for unbe-leaf-able family fun!
URL:https://sebringrundown.com/event/st-catherines-fall-festival/
LOCATION:St. Catherine Catholic School\, 2835 Kenilworth Blvd\, Sebring\, FL\, 33870
CATEGORIES:Family Friendly,Festivals
END:VEVENT
BEGIN:VEVENT
DTSTART;TZID=America/New_York:20191026T110000
DTEND;TZID=America/New_York:20191026T140000
DTSTAMP:20260421T151209
CREATED:20190905T171255Z
LAST-MODIFIED:20190905T171255Z
UID:3239-1572087600-1572098400@sebringrundown.com
SUMMARY:Sunburst Pageant
DESCRIPTION:Sunburst Pageant October 26th 11 am. Ages 0 months to 27 years. Everyone receives crown and trophy. Info available at signs in mall or www.sunburstbeauty.com.
URL:https://sebringrundown.com/event/sunburst-pageant/
LOCATION:Lakeshore Mall\, 901 US S HWY 27 N\, Sebring\, FL\, 33870\, United States
CATEGORIES:Family Friendly
END:VEVENT
BEGIN:VEVENT
DTSTART;TZID=America/New_York:20191026T100000
DTEND;TZID=America/New_York:20191026T110000
DTSTAMP:20260421T151209
CREATED:20191003T164538Z
LAST-MODIFIED:20191003T164538Z
UID:3504-1572084000-1572087600@sebringrundown.com
SUMMARY:Crunch N' Brunch
DESCRIPTION:Discover Downtown Sebring in a new “fit” way! Every fourth Saturday of the month will be a new fitness class held on the Downtown Sebring Circle\, FREE for all ages and experience levels! Bring the family and then stay downtown and enjoy one of our amazing brunch locations! \nRegister for each event date by heading to our Eventbrite posting! Linked here: https://www.eventbrite.com/e/crunch-n-brunch-registration-74692119139 \nThis event is FREE so make sure you reserve your spot quick!
URL:https://sebringrundown.com/event/crunch-n-brunch/
LOCATION:Sebring Downtown Historic District
CATEGORIES:Family Friendly,Sports
END:VEVENT
BEGIN:VEVENT
DTSTART;TZID=America/New_York:20191025T170000
DTEND;TZID=America/New_York:20191025T200000
DTSTAMP:20260421T151209
CREATED:20191010T181240Z
LAST-MODIFIED:20191010T181240Z
UID:3677-1572022800-1572033600@sebringrundown.com
SUMMARY:Trunk or Treat - First Baptist Church
DESCRIPTION:First Baptist Church is putting on a Trunk or Treat on Friday\, October 25 from 5-8pm. We will have games\, inflatables\, and free food! Fun night so come out and join us!
URL:https://sebringrundown.com/event/trunk-or-treat-first-baptist-church/
LOCATION:First Baptist Sebring\, 200 E. Center Ave\, Sebring\, FL\, 33870
CATEGORIES:Family Friendly,Festivals
END:VEVENT
BEGIN:VEVENT
DTSTART;TZID=America/New_York:20191025T170000
DTEND;TZID=America/New_York:20191025T170000
DTSTAMP:20260421T151209
CREATED:20190429T173520Z
LAST-MODIFIED:20190429T173520Z
UID:1621-1572022800-1572022800@sebringrundown.com
SUMMARY:Halloween on the Circle
DESCRIPTION:Sponsored by: Suncoast Credit Union and the City of Sebring \nJoin participating businesses and our communities first responders for a fun and safe community Halloween on the Circle for the entire family and goodies for costumed children. Local road closures will be in place. \nFirst Baptist Church of Sebring (Downtown @ 200 E Center Ave) will have LOTS of surprises this year! \n5pm – 7:30pm Trick or Treat\n5pm – 9pm DJ\, food\, games\, photo op\, and more! \nFor more information:\ninfo@thesebringpartnership.org or 863-271-2100
URL:https://sebringrundown.com/event/halloween-on-the-circle/
LOCATION:Sebring Downtown Historic District
CATEGORIES:Family Friendly,Festivals
END:VEVENT
BEGIN:VEVENT
DTSTART;TZID=America/New_York:20191025T100000
DTEND;TZID=America/New_York:20191025T170000
DTSTAMP:20260421T151209
CREATED:20190711T215317Z
LAST-MODIFIED:20190829T153427Z
UID:2568-1571997600-1572022800@sebringrundown.com
SUMMARY:Sebring Fitness Expo 2019
DESCRIPTION:FREE EVENT – Sebring “7th Annual Fitness Expo 2019” with a “BACK-TO-SCHOOL” theme\, with lots of different Nutrient Supplements\, Food\, Health\, Education\, and Financial Venues to choose from. \nPlease call ASAP to save your space for Workshops\, Free Goodies and/or Sponsorship details at 754-816-9698. \nDue to early planning we reserve the right to adjust any changes on this event
URL:https://sebringrundown.com/event/sebring-fitness-expo-2019/
LOCATION:Highlands County Family YMCA\, 100 YMCA Lane\, Sebring\, FL\, 33875
CATEGORIES:Family Friendly
END:VEVENT
BEGIN:VEVENT
DTSTART;TZID=America/New_York:20191019T160000
DTEND;TZID=America/New_York:20191019T200000
DTSTAMP:20260421T151209
CREATED:20191004T175603Z
LAST-MODIFIED:20191004T175603Z
UID:3612-1571500800-1571515200@sebringrundown.com
SUMMARY:Fall Festival
DESCRIPTION:Join us for an evening of family fun at the Fall Festival! Carnival games\, face painting\, costume contest\, bounce house and MORE!
URL:https://sebringrundown.com/event/fall-festival/
LOCATION:Highlands County Family YMCA\, 100 YMCA Lane\, Sebring\, FL\, 33875
CATEGORIES:Family Friendly,Festivals
END:VEVENT
BEGIN:VEVENT
DTSTART;TZID=America/New_York:20191019T090000
DTEND;TZID=America/New_York:20191019T160000
DTSTAMP:20260421T151209
CREATED:20191010T180635Z
LAST-MODIFIED:20191010T180635Z
UID:3671-1571475600-1571500800@sebringrundown.com
SUMMARY:Pumpkin Patch
DESCRIPTION:Get your pumpkins from our very own Pumpkin Patch!!\nJoin us at the NewsSun & Lakeshore Mall Family Fall Festival on Saturday\, October 19th from 9:00am-4:00pm. Pick out a pumpkin from our Pumpkin Patch located near the Center Court (inside the old Footlocker Unit). All proceeds benefits the Children’s Museum. Generously sponsored and donated to us by Allstate: Jessica Hartline.\n\n\nCome take photos with your kids in our pumpkin patch and fall backdrop!
URL:https://sebringrundown.com/event/pumpkin-patch/
LOCATION:Lakeshore Mall\, 901 US S HWY 27 N\, Sebring\, FL\, 33870\, United States
CATEGORIES:Family Friendly,Festivals
END:VEVENT
BEGIN:VEVENT
DTSTART;TZID=America/New_York:20191012T130000
DTEND;TZID=America/New_York:20191012T150000
DTSTAMP:20260421T151209
CREATED:20191004T175518Z
LAST-MODIFIED:20191004T175518Z
UID:3610-1570885200-1570892400@sebringrundown.com
SUMMARY:Lakeshore Mall Kidz Club - Pumpkin Minute to Win It
DESCRIPTION:FREE Event!!!! \nKids (ages 3-12) will enjoy a fun time games and fun! Join us by the Kids Play Area in the former Battlezone. \nThey’ll be playing strategic games to see if they can beat the clock within 60 seconds! \nIf this will be your first attendance to the Lakeshore Mall Kidz Club – please fill out this form here: https://goo.gl/forms/ZWFslYmy9oDWY53w1 \nParents – Only register for how many kids you will be bringing (adults don’t need an RSVP as we will have supplies for the kid participants) \nPlease RSVP early so we have enough supplies to go around – And please share this with your friends!
URL:https://sebringrundown.com/event/lakeshore-mall-kidz-club-pumpkin-minute-to-win-it/
LOCATION:Lakeshore Mall\, 901 US S HWY 27 N\, Sebring\, FL\, 33870\, United States
CATEGORIES:Family Friendly
END:VEVENT
BEGIN:VEVENT
DTSTART;TZID=America/New_York:20191012T110000
DTEND;TZID=America/New_York:20191012T130000
DTSTAMP:20260421T151209
CREATED:20191004T172355Z
LAST-MODIFIED:20191004T172355Z
UID:3576-1570878000-1570885200@sebringrundown.com
SUMMARY:Fall Family Fun Saturday
DESCRIPTION:Join us at The Grateful Hearts for a DIY class to make one of our many Wood Projects\, featuring our Framed Signs! Choose a Framed Sign\, Plank Sign\, Centerpiece Box\, Round Sign\, Wood Photo Frame or Tray! Please note\, when you register for an Oversized Project\, the available seats will reduce by 2 seats due to the project size. In the workshop\, you will have the opportunity to customize your project with your choice of designer paints and (non-toxic!) stain colors. BYO coffee\, water\, wine\, beer or beverage of your choice to sip and enjoy during the workshop. You are welcome to bring food/snacks for yourself please keep in mind we are a nut free studio (no peanuts or tree nuts allowed). Get rewarded with our DIY Rewards program! Register for five workshops\, then cash in your DIY Rewards towards a future workshop!
URL:https://sebringrundown.com/event/fall-family-fun-saturday/
LOCATION:The Grateful Hearts\, 1989 Lakeview Dr\, Sebring\, 33870\, United States
CATEGORIES:Art,Family Friendly
END:VEVENT
BEGIN:VEVENT
DTSTART;TZID=America/New_York:20191011T200000
DTEND;TZID=America/New_York:20191011T200000
DTSTAMP:20260421T151209
CREATED:20190919T150539Z
LAST-MODIFIED:20190919T150539Z
UID:3428-1570824000-1570824000@sebringrundown.com
SUMMARY:Cinema on the Circle
DESCRIPTION:Get your weekend started at sunset on the 2nd Friday of the month in Downtown Sebring’s Circle Park with a movie the whole family can enjoy! \nCome early to save your seat\, have dinner\, and grab a sweet treat and some popcorn before the movie from one of the wonderful Downtown merchants. Don’t forget to bring chairs and blankets to get comfortable under the stars in beautiful Circle Park! \nFamily friendly restrooms will be available at the former Sebring Chamber of Commerce office (soon to be the new CRA office!) located right across the street from Circle Park – look for signs right outside the entrance to the building.
URL:https://sebringrundown.com/event/cinema-on-the-circle-4/
LOCATION:Sebring Downtown Historic District
CATEGORIES:Family Friendly
END:VEVENT
BEGIN:VEVENT
DTSTART;TZID=America/New_York:20191005T120000
DTEND;TZID=America/New_York:20191005T160000
DTSTAMP:20260421T151209
CREATED:20191004T175827Z
LAST-MODIFIED:20191004T175827Z
UID:3620-1570276800-1570291200@sebringrundown.com
SUMMARY:Disney Frozen 2 Join the Journey
DESCRIPTION:Come dressed as your favorite Disney Frozen 2 character and “Join the Journey” with us on October 5th. Hear a special message from all of your favorite Frozen characters and even a new Character from Disney Frozen 2! There will be an exclusive Frozen 2 giveaway\, a promo code for a free photo printout\, food samples\, exclusive Frozen 2 toy demos\, and lots of family fun!
URL:https://sebringrundown.com/event/disney-frozen-2-join-the-journey/
LOCATION:Walmart Sebring\, 3525 US Hwy 27 N\, Sebring\, FL\, 33870
CATEGORIES:Family Friendly
END:VEVENT
BEGIN:VEVENT
DTSTART;TZID=America/New_York:20190928T100000
DTEND;TZID=America/New_York:20190928T140000
DTSTAMP:20260421T151209
CREATED:20190924T165457Z
LAST-MODIFIED:20190924T165457Z
UID:3450-1569664800-1569679200@sebringrundown.com
SUMMARY:Tractor Supply Farmers Market
DESCRIPTION:Tractor Supply in Sebring is hosting a Farmers Market! There will be plenty of great vendors including local honey\, homemade jams\, jellies and treats\, handmade jewelry and much more!
URL:https://sebringrundown.com/event/tractor-supply-farmers-market/
LOCATION:Tractor Supply\, 3300 US Hwy 27 S\, Sebring\, FL\, 33870
CATEGORIES:Family Friendly
END:VEVENT
BEGIN:VEVENT
DTSTART;TZID=America/New_York:20190914T183000
DTEND;TZID=America/New_York:20190914T183000
DTSTAMP:20260421T151209
CREATED:20190913T145948Z
LAST-MODIFIED:20190913T145948Z
UID:3353-1568485800-1568485800@sebringrundown.com
SUMMARY:Cops ADAPT BBQ & Movie Night
DESCRIPTION:Come join the COPS ADAPT Unit for a family night out featuring free barbecue and a movie at the STAR Center in Highway Park. The food is served at 6:30 p.m. and “Black Panther” will be shown at 8 p.m. All you need to bring is a lawn chair or a blanket!
URL:https://sebringrundown.com/event/cops-adapt-bbq-movie-night/
LOCATION:Star Center\, 141 Josephine Ave\, Lake Placid\, FL\, 33852
CATEGORIES:Family Friendly
END:VEVENT
BEGIN:VEVENT
DTSTART;TZID=America/New_York:20190914T130000
DTEND;TZID=America/New_York:20190914T150000
DTSTAMP:20260421T151209
CREATED:20190813T181637Z
LAST-MODIFIED:20190813T181637Z
UID:2958-1568466000-1568473200@sebringrundown.com
SUMMARY:Lakeshore Mall Kidz Club - Scavenger Hunt
DESCRIPTION:FREE Event!!!! \nKids (ages 3-12) will enjoy a fun time crafts and fun! Join us by the Kids Play Area in the former Battlezone. \nThey’ll be running around the mall finding & collecting Animal Shapes in participating stores & working on crafts! \nBe sure and like our facebook page for additional details! www.facebook.com/lakeshoremallfl \nIf this will be your first attendance to the Lakeshore Mall Kidz Club – please fill out this form here: https://goo.gl/forms/ZWFslYmy9oDWY53w1 \nParents – Only register for how many kids you will be bringing (adults don’t need an RSVP as we will have supplies for the kid participants) \nPlease RSVP early so we have enough supplies to go around – And please share this with your friends!
URL:https://sebringrundown.com/event/lakeshore-mall-kidz-club-scavenger-hunt/
LOCATION:Lakeshore Mall\, 901 US S HWY 27 N\, Sebring\, FL\, 33870\, United States
CATEGORIES:Family Friendly
END:VEVENT
BEGIN:VEVENT
DTSTART;TZID=America/New_York:20190914T120000
DTEND;TZID=America/New_York:20190914T160000
DTSTAMP:20260421T151209
CREATED:20190905T171354Z
LAST-MODIFIED:20190905T171354Z
UID:3241-1568462400-1568476800@sebringrundown.com
SUMMARY:National Play Day
DESCRIPTION:All aboard for National Play Day! Come visit on Saturday\, September 14 from 12–4 and play with the newest toys\, enjoy fun photo ops\, join a scavenger hunt\, and pick up a Wonder Pack\, while supplies last!
URL:https://sebringrundown.com/event/national-play-day-2/
LOCATION:Walmart Avon Park\, 1041 US Hwy 27 N\, Avon Park\, FL\, 33825
CATEGORIES:Family Friendly
END:VEVENT
BEGIN:VEVENT
DTSTART;TZID=America/New_York:20190914T120000
DTEND;TZID=America/New_York:20190914T160000
DTSTAMP:20260421T151209
CREATED:20190905T171013Z
LAST-MODIFIED:20190905T171013Z
UID:3237-1568462400-1568476800@sebringrundown.com
SUMMARY:National Play Day
DESCRIPTION:All aboard for National Play Day! Come visit on Saturday\, September 14 from 12–4 and play with the newest toys\, enjoy fun photo ops\, join a scavenger hunt\, and pick up a Wonder Pack\, while supplies last!
URL:https://sebringrundown.com/event/national-play-day/
LOCATION:Walmart Sebring\, 3525 US Hwy 27 N\, Sebring\, FL\, 33870
CATEGORIES:Family Friendly
END:VEVENT
BEGIN:VEVENT
DTSTART;TZID=America/New_York:20190913T160000
DTEND;TZID=America/New_York:20190913T180000
DTSTAMP:20260421T151209
CREATED:20190912T154717Z
LAST-MODIFIED:20190912T154717Z
UID:3348-1568390400-1568397600@sebringrundown.com
SUMMARY:Late Night at the Museum
DESCRIPTION:2nd Friday’s of the month is our Family Fun Nights! Museum hours extended to 6pm.
URL:https://sebringrundown.com/event/late-night-at-the-museum-2/
LOCATION:The Children’s Museum of the Highlands\, 219 N Ridgewood Dr\, Sebring\, FL\, 33870
CATEGORIES:Family Friendly
END:VEVENT
BEGIN:VEVENT
DTSTART;TZID=America/New_York:20190912T140000
DTEND;TZID=America/New_York:20190912T153000
DTSTAMP:20260421T151209
CREATED:20190912T154506Z
LAST-MODIFIED:20190912T154506Z
UID:3339-1568296800-1568302200@sebringrundown.com
SUMMARY:STEAM Team Thursday's
DESCRIPTION:STEAM Team presents unique challenges for kids to think outside the box\, create and explore in the areas of Science\, Technology\, Engineering\, Arts and Math. Each week is a different challenge. STEAM Team is every Thursday at 2pm.
URL:https://sebringrundown.com/event/steam-team-thursdays/
LOCATION:The Children’s Museum of the Highlands\, 219 N Ridgewood Dr\, Sebring\, FL\, 33870
CATEGORIES:Family Friendly
END:VEVENT
BEGIN:VEVENT
DTSTART;TZID=America/New_York:20190907T190000
DTEND;TZID=America/New_York:20190907T210000
DTSTAMP:20260421T151209
CREATED:20190711T211852Z
LAST-MODIFIED:20190711T211852Z
UID:2551-1567882800-1567890000@sebringrundown.com
SUMMARY:Faith\, Hope\, & Love Movie at The Circle Theatre
DESCRIPTION:FAITH\, HOPE\, & LOVE is a heartwarming romantic comedy about two vulnerable\, lost souls who have each suffered deep losses and have their guards up\, as a result. When they enter a dance contest\, their lives connect\, and they begin to discover new perspectives on life\, love\, and faith. \nJoin us at The Circle Theater on September 7 @ 7:00pm for a viewing of this film. Tickets are free but must be reserved in advanced. Please print your ticket and present it at the door the evening of the event. \nSponsored by First Sebring Church and The Champion For Children Foundation.
URL:https://sebringrundown.com/event/faith-hope-love-movie-at-the-circle-theatre/
LOCATION:Circle Theater\, 202 Circle Park Drive\, Sebring\, FL\, 33870\, United States
CATEGORIES:Family Friendly
END:VEVENT
END:VCALENDAR