BEGIN:VCALENDAR
VERSION:2.0
PRODID:-//Sebring Rundown - ECPv6.15.20//NONSGML v1.0//EN
CALSCALE:GREGORIAN
METHOD:PUBLISH
X-WR-CALNAME:Sebring Rundown
X-ORIGINAL-URL:https://sebringrundown.com
X-WR-CALDESC:Events for Sebring Rundown
REFRESH-INTERVAL;VALUE=DURATION:PT1H
X-Robots-Tag:noindex
X-PUBLISHED-TTL:PT1H
BEGIN:VTIMEZONE
TZID:America/New_York
BEGIN:DAYLIGHT
TZOFFSETFROM:-0500
TZOFFSETTO:-0400
TZNAME:EDT
DTSTART:20190310T070000
END:DAYLIGHT
BEGIN:STANDARD
TZOFFSETFROM:-0400
TZOFFSETTO:-0500
TZNAME:EST
DTSTART:20191103T060000
END:STANDARD
BEGIN:DAYLIGHT
TZOFFSETFROM:-0500
TZOFFSETTO:-0400
TZNAME:EDT
DTSTART:20200308T070000
END:DAYLIGHT
BEGIN:STANDARD
TZOFFSETFROM:-0400
TZOFFSETTO:-0500
TZNAME:EST
DTSTART:20201101T060000
END:STANDARD
BEGIN:DAYLIGHT
TZOFFSETFROM:-0500
TZOFFSETTO:-0400
TZNAME:EDT
DTSTART:20210314T070000
END:DAYLIGHT
BEGIN:STANDARD
TZOFFSETFROM:-0400
TZOFFSETTO:-0500
TZNAME:EST
DTSTART:20211107T060000
END:STANDARD
END:VTIMEZONE
BEGIN:VEVENT
DTSTART;TZID=America/New_York:20200306T180000
DTEND;TZID=America/New_York:20200306T203000
DTSTAMP:20260421T202209
CREATED:20200219T164248Z
LAST-MODIFIED:20200219T164248Z
UID:4372-1583517600-1583526600@sebringrundown.com
SUMMARY:Free Friday Movie Night
DESCRIPTION:Showing “Tarzan: A New Threat Awaits” \nFriday\, March 6\n6 p.m. Concession Stand Opens\n6:30 p.m. Movie Starts \nHHEAL Show Arena\, 4305 Independence St.\, Avon Park\nMOVIE IS OPEN TO THE PUBLIC EVERY FIRST FRIDAY OF THE MONTH. \nConcessions such as hot dogs\, popcorn\, drinks\, chips\, candy\, etc. will be sold by the Aktion Club to benefit the club’s community service projects and Heartland Horses. \nNo other food and drink items are allowed on the grounds. Bring your own chair and bug spray. This is an outdoor covered movie theater. \nIn this roaring action-adventure\, Tarzan\, who has left the jungles of Africa to live with his beloved wife\, Jane\, has now been invited back to the Congo to serve as an emissary\, unaware that he’s a pawn caught in a deadly convergence of greed and revenge.\nLength is 1 hour 50 minutes. Rated PG-13.
URL:https://sebringrundown.com/event/free-friday-movie-night/
LOCATION:Heartland Horses Equine Activities & Learning\, 4305 Independence St.\, Avon Park\, FL\, 33825
CATEGORIES:Family Friendly
END:VEVENT
BEGIN:VEVENT
DTSTART;TZID=America/New_York:20200307T120000
DTEND;TZID=America/New_York:20200307T150000
DTSTAMP:20260421T202209
CREATED:20200219T164446Z
LAST-MODIFIED:20200219T164446Z
UID:4374-1583582400-1583593200@sebringrundown.com
SUMMARY:The Vet Jam 2020 Chili Cook Off
DESCRIPTION:Great ready to taste the best chili in Highlands County in this first annual event. Watch your neighbors compete for fun & prizes.\nto participate\, go to;\nhttps://the-battle-of-the-bands.com/\n“more”\, then “forms”\, and downlaod the app\, fill it out.\nBring it to VET JAM 2020 ON MARCH 6. NO APPLICATIONS WILL BE ACCEPTED THE DAY OF THE COOK OFF.\nFor more info call: 863-440-4554\nTasting cups will be sold at the Battle of the Bands informaion Booth for 50cents each.
URL:https://sebringrundown.com/event/the-vet-jam-2020-chili-cook-off/
LOCATION:Donaldson Park\, 109 E Main Str\, Avon Park\, FL\, 33825
CATEGORIES:Family Friendly,Food & Drink
END:VEVENT
BEGIN:VEVENT
DTSTART;TZID=America/New_York:20200313T183000
DTEND;TZID=America/New_York:20200313T203000
DTSTAMP:20260421T202209
CREATED:20200219T170825Z
LAST-MODIFIED:20200219T170825Z
UID:4393-1584124200-1584131400@sebringrundown.com
SUMMARY:Cinema on the Circle
DESCRIPTION:Get your weekend started at sunset on the 2nd Friday of the month in Downtown Sebring’s Circle Park with a FREE movie the whole family can enjoy! \nCome early to save your seat\, have dinner\, and grab a sweet treat and some popcorn before the movie from one of the wonderful Downtown merchants. Don’t forget to bring chairs and blankets to get comfortable under the stars in beautiful Circle Park! \nFamily friendly restrooms will be available at our CRA office\, located right across the street from Circle Park!
URL:https://sebringrundown.com/event/cinema-on-the-circle-8/
LOCATION:Sebring Downtown Historic District
CATEGORIES:Family Friendly
END:VEVENT
BEGIN:VEVENT
DTSTART;TZID=America/New_York:20200317T173000
DTEND;TZID=America/New_York:20200317T200000
DTSTAMP:20260421T202209
CREATED:20200221T151439Z
LAST-MODIFIED:20200221T151439Z
UID:4411-1584466200-1584475200@sebringrundown.com
SUMMARY:IMSA Twelve-Hour Fan Fest
DESCRIPTION:All roads will lead to Historic Downtown Sebring for the 3rd Annual IMSA Twelve Hour Fan Fest on Tuesday\, March 17th from 5:30-8:00 pm. \nThis FREE community event will get your motor running with a parade of your favorite IMSA WeatherTech Championship teams that will caravan down North Ridgewood Drive and around the Historic Downtown circle starting at 6:00 pm. \nEnjoy a block party featuring live music from Raisin’ Cain\, food trucks\, as well as an opportunity to meet and greet the legendary drivers of our namesake race during an autograph session and fan forum! \nBring your kids with their best four wheel\, battery operated ride to be entered into a Kids Power Wheels Race this year! Register your tiny driver on the Eventbrite link below to save a spot! There will be no day of participants without a prior registration! Kids will take their cars through tech and attend a drivers meeting to get them all ready for the race to the circle! Pre-register here\, https://www.eventbrite.com/e/kids-fan-fest-power-wheels-race-tickets-92730496411 \nThis year’s event will include a FREE pinewood derby race just for kids sponsored by 4H and the University of Florida’s IFAS Extension. Kids ages 8-18 will be able to create\, shape and decorate their very own pinewood derby car to race against their peers. Start to build your car at 5:00PM! They will get insight from real racer drivers as they build their cars\, and the final championship race will be a head to head race against one car built by an actual Twelve Hour racecar driver! The winner will receive a trophy\, bragging rights and a ticket to Saturday’s race! There are only (50) spots available for the pinewood derby\, so be sure to pre-register to save your spot! For more information on the pinewood derby\, and to pre-register please visit https://www.eventbrite.com/e/2020-4-h-pinewood-derby-race-at-fan-fest-tickets-92741062013 \nStart off the event at 5:30PM in a coloring contest with an all female team\, GEAR Racing #19 GTD Lamborghini Huracan! The team will choose a winner from each age division at 7:30PM!
URL:https://sebringrundown.com/event/imsa-twelve-hour-fan-fest/
LOCATION:Sebring Downtown Historic District
CATEGORIES:Family Friendly,Races
END:VEVENT
BEGIN:VEVENT
DTSTART;TZID=America/New_York:20200612T200000
DTEND;TZID=America/New_York:20200612T200000
DTSTAMP:20260421T202209
CREATED:20200219T171042Z
LAST-MODIFIED:20200219T171042Z
UID:4399-1591992000-1591992000@sebringrundown.com
SUMMARY:Cinema on the Circle
DESCRIPTION:Get your weekend started at sunset on the 2nd Friday of the month in Downtown Sebring’s Circle Park with a FREE movie the whole family can enjoy! \nCome early to save your seat\, have dinner\, and grab a sweet treat and some popcorn before the movie from one of the wonderful Downtown merchants. Don’t forget to bring chairs and blankets to get comfortable under the stars in beautiful Circle Park! \nFamily friendly restrooms will be available at our CRA office\, located right across the street from Circle Park!
URL:https://sebringrundown.com/event/cinema-on-the-circle-11/
LOCATION:Sebring Downtown Historic District
CATEGORIES:Family Friendly
END:VEVENT
BEGIN:VEVENT
DTSTART;TZID=America/New_York:20200615T090000
DTEND;TZID=America/New_York:20200615T120000
DTSTAMP:20260421T202209
CREATED:20200427T182442Z
LAST-MODIFIED:20200427T182442Z
UID:4655-1592211600-1592222400@sebringrundown.com
SUMMARY:Rocky Railway VBS
DESCRIPTION:VBS is coming! Climb aboard for mountains of fun at Rocky Railway! On this faith-filled adventure\, kids discover that trusting Jesus pulls them through life’s ups and downs. \nJune 15-19\, 9am to 12pm \nFor kids entering preschool to 5th grade. \nRegister today: https://vbspro.events/p/events/firstsebring20
URL:https://sebringrundown.com/event/rocky-railway-vbs/
LOCATION:First Sebring Church\, 126 S Pine St\, Sebring\, FL\, 33870
CATEGORIES:Family Friendly
END:VEVENT
BEGIN:VEVENT
DTSTART;TZID=America/New_York:20200710T200000
DTEND;TZID=America/New_York:20200710T200000
DTSTAMP:20260421T202209
CREATED:20200219T171214Z
LAST-MODIFIED:20200219T171214Z
UID:4401-1594411200-1594411200@sebringrundown.com
SUMMARY:Cinema on the Circle
DESCRIPTION:Get your weekend started at sunset on the 2nd Friday of the month in Downtown Sebring’s Circle Park with a FREE movie the whole family can enjoy! \nCome early to save your seat\, have dinner\, and grab a sweet treat and some popcorn before the movie from one of the wonderful Downtown merchants. Don’t forget to bring chairs and blankets to get comfortable under the stars in beautiful Circle Park! \nFamily friendly restrooms will be available at our CRA office\, located right across the street from Circle Park!
URL:https://sebringrundown.com/event/cinema-on-the-circle-12/
LOCATION:Sebring Downtown Historic District
CATEGORIES:Family Friendly
END:VEVENT
END:VCALENDAR