BEGIN:VCALENDAR
VERSION:2.0
PRODID:-//Sebring Rundown - ECPv6.15.20//NONSGML v1.0//EN
CALSCALE:GREGORIAN
METHOD:PUBLISH
X-WR-CALNAME:Sebring Rundown
X-ORIGINAL-URL:https://sebringrundown.com
X-WR-CALDESC:Events for Sebring Rundown
REFRESH-INTERVAL;VALUE=DURATION:PT1H
X-Robots-Tag:noindex
X-PUBLISHED-TTL:PT1H
BEGIN:VTIMEZONE
TZID:America/New_York
BEGIN:DAYLIGHT
TZOFFSETFROM:-0500
TZOFFSETTO:-0400
TZNAME:EDT
DTSTART:20170312T070000
END:DAYLIGHT
BEGIN:STANDARD
TZOFFSETFROM:-0400
TZOFFSETTO:-0500
TZNAME:EST
DTSTART:20171105T060000
END:STANDARD
BEGIN:DAYLIGHT
TZOFFSETFROM:-0500
TZOFFSETTO:-0400
TZNAME:EDT
DTSTART:20180311T070000
END:DAYLIGHT
BEGIN:STANDARD
TZOFFSETFROM:-0400
TZOFFSETTO:-0500
TZNAME:EST
DTSTART:20181104T060000
END:STANDARD
BEGIN:DAYLIGHT
TZOFFSETFROM:-0500
TZOFFSETTO:-0400
TZNAME:EDT
DTSTART:20190310T070000
END:DAYLIGHT
BEGIN:STANDARD
TZOFFSETFROM:-0400
TZOFFSETTO:-0500
TZNAME:EST
DTSTART:20191103T060000
END:STANDARD
BEGIN:DAYLIGHT
TZOFFSETFROM:-0500
TZOFFSETTO:-0400
TZNAME:EDT
DTSTART:20200308T070000
END:DAYLIGHT
BEGIN:STANDARD
TZOFFSETFROM:-0400
TZOFFSETTO:-0500
TZNAME:EST
DTSTART:20201101T060000
END:STANDARD
END:VTIMEZONE
BEGIN:VEVENT
DTSTART;TZID=America/New_York:20190420T080000
DTEND;TZID=America/New_York:20190420T133000
DTSTAMP:20260425T181043
CREATED:20190416T183850Z
LAST-MODIFIED:20190416T183850Z
UID:1347-1555747200-1555767000@sebringrundown.com
SUMMARY:Farmers Market
DESCRIPTION:Every Saturday through April. 8 A.M. to 1:30 P.M. Entertainment from 10 to 12. Beautiful fruit\, Veggies\, Honey\, Baked Goods\, Free Range Eggs and unique handcrafted items. Breakfast and Lunch at Good News Café! Shop The Blueberry Patch\, Hometown Junk\, and Chic Chick Boutique.
URL:https://sebringrundown.com/event/farmers-market/
LOCATION:Lake Placid Journal Plaza\, 231 N Main Ave\, Lake Placid\, FL\, 33852
CATEGORIES:Family Friendly,Food & Drink,Shopping
END:VEVENT
BEGIN:VEVENT
DTSTART;TZID=America/New_York:20190419T200000
DTEND;TZID=America/New_York:20190419T213000
DTSTAMP:20260425T181043
CREATED:20190416T165301Z
LAST-MODIFIED:20190416T165301Z
UID:1316-1555704000-1555709400@sebringrundown.com
SUMMARY:Kingdom Come Worship Night
DESCRIPTION:Kingdom Come is a powerful night of prayer and worship. These nights are agenda free where we allow the Spirit to lead us as we move through the evening. Kingdom Come is a way of lifting the name of Jesus high and praying that His kingdom would come on earth in response to the cry of the united body of Christ.
URL:https://sebringrundown.com/event/kingdom-come-worship-night/
LOCATION:First Sebring Church\, 126 S Pine St\, Sebring\, FL\, 33870
CATEGORIES:Family Friendly,Non-Profit
END:VEVENT
BEGIN:VEVENT
DTSTART;TZID=America/New_York:20190419T190000
DTEND;TZID=America/New_York:20190419T190000
DTSTAMP:20260425T181043
CREATED:20190412T182817Z
LAST-MODIFIED:20190416T162016Z
UID:1110-1555700400-1555700400@sebringrundown.com
SUMMARY:The Messiah
DESCRIPTION:Come and see the story of Christ in our presentation called “The Messiah”.
URL:https://sebringrundown.com/event/the-messiah/
LOCATION:The Sanctuary\, 901 Locke St\, Avon Park\, FL\, 33825
CATEGORIES:Family Friendly,Non-Profit
END:VEVENT
BEGIN:VEVENT
DTSTART;TZID=America/New_York:20190419T180000
DTEND;TZID=America/New_York:20190419T180000
DTSTAMP:20260425T181043
CREATED:20190412T182535Z
LAST-MODIFIED:20190416T162037Z
UID:1106-1555696800-1555696800@sebringrundown.com
SUMMARY:We Are Witnesses
DESCRIPTION:A special Easter presentation. \nEncounter with the Savior…A Musical for Easter.
URL:https://sebringrundown.com/event/we-are-witnesses/
LOCATION:First Baptist Sebring\, 200 E. Center Ave\, Sebring\, FL\, 33870
CATEGORIES:Family Friendly,Non-Profit
END:VEVENT
BEGIN:VEVENT
DTSTART;TZID=America/New_York:20190418T170000
DTEND;TZID=America/New_York:20190418T210000
DTSTAMP:20260425T181043
CREATED:20190411T181642Z
LAST-MODIFIED:20190411T181642Z
UID:988-1555606800-1555621200@sebringrundown.com
SUMMARY:Sun 'n Lake Easter Festival
DESCRIPTION:Join us at the Sun ‘n Lake Community Center for the 2019 Easter Festival! This year will feature Gourmet Truck Expo food trucks\, an inflatable obstacle course\, face painting\, bubble dance party\, a photo opportunity with the Easter Bunny\, and more! \nDon’t forget to sign your child up for the Easter Egg Hunt! There are over 12\,000 eggs filled with candy\, stickers\, and small toys to help celebrate the Easter season! This is available for kids ages 1-12 with four age categories:\n-Ages 1-3\n-Ages 4-6\n-Ages 7-9\n-Ages 10-12\nSpace in each category will be limited to the first 100 registrants\, and all egg hunters must be pre-registered. \nTo register your child for the Easter Egg Hunt\, please call Marie Soto at (863) 382-3679\, email msoto@snldistrict.org\, or visit the SNL Recreation Center. \nFestival Admission – $2 per person\, all ages\nEaster Egg Hunt & Festival – $6 per child\, also includes one adult admission into Festival
URL:https://sebringrundown.com/event/sun-n-lake-easter-festival/
LOCATION:Sun ‘n Lake Improvement District\, 3500 Edgewater Dr\, Sebring\, FL\, 33872
CATEGORIES:Family Friendly,Festivals
END:VEVENT
BEGIN:VEVENT
DTSTART;TZID=America/New_York:20190413T130000
DTEND;TZID=America/New_York:20190413T150000
DTSTAMP:20260425T181043
CREATED:20190411T180726Z
LAST-MODIFIED:20190411T180726Z
UID:983-1555160400-1555167600@sebringrundown.com
SUMMARY:Bunny Hop - Lakeshore Mall Kidz Club
DESCRIPTION:FREE Event!!!! \nKids (ages 3-12) will enjoy a fun time of\ncreating a cute bunny magnet & a cross stitch\negg ornament! Plus\, enjoy\na fun game with the Easter Bunny! \nIf this will be your first attendance to the Lakeshore Mall Kidz Club – please fill out this form here: https://goo.gl/forms/ZWFslYmy9oDWY53w1 \nParents – Only register for how many kids you will be bringing (adults don’t need an RSVP as we will have supplies for the kid participants)
URL:https://sebringrundown.com/event/bunny-hop-lakeshore-mall-kidz-club/
LOCATION:Lakeshore Mall\, 901 US S HWY 27 N\, Sebring\, FL\, 33870\, United States
CATEGORIES:Family Friendly
END:VEVENT
BEGIN:VEVENT
DTSTART;TZID=America/New_York:20190413T100000
DTEND;TZID=America/New_York:20190413T150000
DTSTAMP:20260425T181043
CREATED:20190411T174136Z
LAST-MODIFIED:20190411T174136Z
UID:969-1555149600-1555167600@sebringrundown.com
SUMMARY:Earth Day
DESCRIPTION:Earth Day is an educational day for visitors to learn about local government agencies and non-profit environmental organizations that are working to make a difference in the greater Heartland area.\nExhibits\, presentations\, guided nature walks\, and children’s activities are featured. Visitors may stop by the Exploration Station and take a leisurely walk on the Cypress Swamp Trail with volunteer trail guides at 9:00 am and 11:00 am. Children may take a Kid’s Discovery Nature Walk on the Wild Orange Trail from 10:00 am to 11:00 am and work on activities to become Junior Rangers following the hike.\nMuseum curator David Schmidt will examine the shared history and the importance of preservation at Highlands Hammock and Archbold Biological Research Station in his presentation Legacy by Happenstance: The Roeblings and the Archbolds\, which is scheduled at 10:00 am in the Civilian Conservation Corps Museum.\nTwo other featured guest speaker programs in the CCC Museum include an Overview of the Big Cypress National Preserve at 12:00 pm and Updates on the Florida Panther and the Black Bear at 1:30 pm.\nExhibitors and an Alligators in Florida Culture Art Exhibit by middle and high school students from Highlands District Schools are ongoing throughout the day.
URL:https://sebringrundown.com/event/earth-day/
LOCATION:Highlands Hammock State Park\, 5931 Hammock Road\, Sebring\, FL\, 33872\, United States
CATEGORIES:Family Friendly
END:VEVENT
BEGIN:VEVENT
DTSTART;TZID=America/New_York:20190413T100000
DTEND;TZID=America/New_York:20190413T140000
DTSTAMP:20260425T181043
CREATED:20190411T175526Z
LAST-MODIFIED:20190411T175526Z
UID:977-1555149600-1555164000@sebringrundown.com
SUMMARY:Record Store Day
DESCRIPTION:Record Store Day \nFace Painting!\nHourly Giveaways!\nLive Music featuring Swamp Rats and After Six\n10-50% off all records!
URL:https://sebringrundown.com/event/record-store-day/
LOCATION:Groovy’s Records & More\, 1542-1 Lakeview Dr\, Sebring\, FL\, 33870
CATEGORIES:Family Friendly,Music Scene,Shopping
END:VEVENT
BEGIN:VEVENT
DTSTART;TZID=America/New_York:20190413T100000
DTEND;TZID=America/New_York:20190413T120000
DTSTAMP:20260425T181043
CREATED:20190412T172424Z
LAST-MODIFIED:20190412T172424Z
UID:1046-1555149600-1555156800@sebringrundown.com
SUMMARY:Easter Egg Hunt
DESCRIPTION:Come join us for a morning of fun and fellowship as we cover our campus with Easter eggs and send our children out to find them.\nApril 13\, 2019 from 10 am – 12 pm\nBirth – 5th Grade.
URL:https://sebringrundown.com/event/easter-egg-hunt/
LOCATION:Avon Park Lakes Baptist Church\, 2600 N. Highlands Blvd\, Avon Park\, FL\, 33825
CATEGORIES:Family Friendly
END:VEVENT
BEGIN:VEVENT
DTSTART;TZID=America/New_York:20190412T193000
DTEND;TZID=America/New_York:20190412T210000
DTSTAMP:20260425T181043
CREATED:20190411T172627Z
LAST-MODIFIED:20190411T172627Z
UID:959-1555097400-1555102800@sebringrundown.com
SUMMARY:Cinema on the Circle
DESCRIPTION:Get your weekend started at sunset on the 2nd Friday of the month in Downtown Sebring’s Circle Park with a movie the whole family can enjoy! \nCome early to save your seat\, have dinner\, and grab a sweet treat and some popcorn before the movie from one of the wonderful Downtown merchants. Don’t forget to bring chairs and blankets to get comfortable under the stars in beautiful Circle Park! \nFamily friendly restrooms will be available at the former Sebring Chamber of Commerce office (soon to be the new CRA office!) located right across the street from Circle Park – look for signs right outside the entrance to the building.
URL:https://sebringrundown.com/event/cinema-on-the-circle/
LOCATION:Sebring Downtown Historic District
CATEGORIES:Family Friendly
END:VEVENT
BEGIN:VEVENT
DTSTART;TZID=America/New_York:20180727T090000
DTEND;TZID=America/New_York:20180728T150000
DTSTAMP:20260425T181043
CREATED:20180619T121010Z
LAST-MODIFIED:20180619T121121Z
UID:931-1532682000-1532790000@sebringrundown.com
SUMMARY:Lake Placid Caladium Festival
DESCRIPTION:The annual caladium festival\, which is a can’t miss summer event in Central Florida\, celebrates this beautiful plant with caladium field bus tours\, art competitions\, bulb and plant sale\, art and craft vendors\, classic car and bike show\, 5K race\, floral arrangement competition\, beer garden\, wine tasting and live entertainment.\n\n\nAdmission and parking are free.  Festival hours are 9AM-4PM on Friday and Saturday; 10AM-3PM on Sunday. \n \nFor more information about the Festival\, Car Show\, 5K and to make your Caladium Field Bus Tour reservation\, please visit http://www.VisitLakePlacidFlorida.com or call (863) 465-4331.   
URL:https://sebringrundown.com/event/lake-placid-caladium-festival/
LOCATION:FL
CATEGORIES:Art,Family Friendly,Festivals,Food & Drink,Music Scene,Shopping
END:VEVENT
BEGIN:VEVENT
DTSTART;VALUE=DATE:20180406
DTEND;VALUE=DATE:20180408
DTSTAMP:20260425T181043
CREATED:20180107T204937Z
LAST-MODIFIED:20180108T025043Z
UID:533-1522972800-1523145599@sebringrundown.com
SUMMARY:Sebring Soda Fest
DESCRIPTION:Certain tastes\, smells\, and sights bring us back to our childhood\, and soda pop is often one of those tastes that bring along fond memories. Cooling off on a hot summer day with a root beer float\, or a sharing a cola at the drug store fountain with friends\, are the types of nostalgic moments you’ll be transported back to at the Sebring Soda Festival. This new and exciting event is a unique opportunity to showcase the small town feel of the beautiful downtown Sebring area while promoting a family-friendly event that anyone can enjoy. With hundreds of craft sodas available for sampling\, along with a classic car show\, art and craft vendors\, pop-up retail storefronts\, food trucks\, a kid’s zone\, and more\, we strive to bring back the fun for everyone from aged 1 to 100. A vintage\, 1950’s vibe will encompass the event\, and entertainment will be provided throughout the day. Visit www.SebringSodaFest.com for event details.
URL:https://sebringrundown.com/event/sebring-soda-fest/
LOCATION:Sebring Downtown Historic District
CATEGORIES:Family Friendly,Festivals,Food & Drink
END:VEVENT
BEGIN:VEVENT
DTSTART;TZID=America/New_York:20180228T103000
DTEND;TZID=America/New_York:20180228T113000
DTSTAMP:20260425T181043
CREATED:20180107T115909Z
LAST-MODIFIED:20180107T120232Z
UID:470-1519813800-1519817400@sebringrundown.com
SUMMARY:Tot Time Tuesday
DESCRIPTION:Tot Time is a toddler program geared for children age 2-5 to come together for unique themed activities each Tuesday. Activities include storytelling\, singing\, crafts\, dancing\, hide n seek\, and using our imaginations! Each week is different. Tot Time is included at no extra charge in our family memberships or paid daily admission.
URL:https://sebringrundown.com/event/tot-time-tuesday-8/
LOCATION:Children’s Museum of the Highlands\, 901 US Hwy 27 North Unit 50\, Sebring\, 33870\, United States
CATEGORIES:Family Friendly
END:VEVENT
BEGIN:VEVENT
DTSTART;TZID=America/New_York:20180224T100000
DTEND;TZID=America/New_York:20180224T190000
DTSTAMP:20260425T181043
CREATED:20180107T204642Z
LAST-MODIFIED:20180107T204642Z
UID:530-1519466400-1519498800@sebringrundown.com
SUMMARY:Senior Expo & Family Extravaganza
DESCRIPTION:
URL:https://sebringrundown.com/event/senior-expo-family-extravaganza/
LOCATION:Lakeshore Mall\, 901 US S HWY 27 N\, Sebring\, FL\, 33870\, United States
CATEGORIES:Family Friendly,Festivals
END:VEVENT
BEGIN:VEVENT
DTSTART;TZID=America/New_York:20180220T103000
DTEND;TZID=America/New_York:20180220T113000
DTSTAMP:20260425T181043
CREATED:20180107T122533Z
LAST-MODIFIED:20180107T122549Z
UID:485-1519122600-1519126200@sebringrundown.com
SUMMARY:Tot Time Tuesday
DESCRIPTION:Tot Time is a toddler program geared for children age 2-5 to come together for unique themed activities each Tuesday. Activities include storytelling\, singing\, crafts\, dancing\, hide n seek\, and using our imaginations! Each week is different. Tot Time is included at no extra charge in our family memberships or paid daily admission.
URL:https://sebringrundown.com/event/tot-time-tuesday-2/
LOCATION:Children’s Museum of the Highlands\, 901 US Hwy 27 North Unit 50\, Sebring\, 33870\, United States
CATEGORIES:Family Friendly
END:VEVENT
BEGIN:VEVENT
DTSTART;TZID=America/New_York:20180220T103000
DTEND;TZID=America/New_York:20180220T113000
DTSTAMP:20260425T181043
CREATED:20180107T115825Z
LAST-MODIFIED:20180107T202650Z
UID:468-1519122600-1519126200@sebringrundown.com
SUMMARY:Tot Time Tuesday
DESCRIPTION:Tot Time is a toddler program geared for children age 2-5 to come together for unique themed activities each Tuesday. Activities include storytelling\, singing\, crafts\, dancing\, hide n seek\, and using our imaginations! Each week is different. Tot Time is included at no extra charge in our family memberships or paid daily admission.
URL:https://sebringrundown.com/event/tot-time-tuesday-7/
LOCATION:Children’s Museum of the Highlands\, 901 US Hwy 27 North Unit 50\, Sebring\, 33870\, United States
CATEGORIES:Family Friendly
END:VEVENT
BEGIN:VEVENT
DTSTART;TZID=America/New_York:20180213T103000
DTEND;TZID=America/New_York:20180213T113000
DTSTAMP:20260425T181043
CREATED:20180107T115739Z
LAST-MODIFIED:20180107T120220Z
UID:466-1518517800-1518521400@sebringrundown.com
SUMMARY:Tot Time Tuesday
DESCRIPTION:Tot Time is a toddler program geared for children age 2-5 to come together for unique themed activities each Tuesday. Activities include storytelling\, singing\, crafts\, dancing\, hide n seek\, and using our imaginations! Each week is different. Tot Time is included at no extra charge in our family memberships or paid daily admission.
URL:https://sebringrundown.com/event/tot-time-tuesday-6/
LOCATION:Children’s Museum of the Highlands\, 901 US Hwy 27 North Unit 50\, Sebring\, 33870\, United States
CATEGORIES:Family Friendly
END:VEVENT
BEGIN:VEVENT
DTSTART;TZID=America/New_York:20180210T090000
DTEND;TZID=America/New_York:20180210T160000
DTSTAMP:20260425T181043
CREATED:20180107T204459Z
LAST-MODIFIED:20180107T204459Z
UID:527-1518253200-1518278400@sebringrundown.com
SUMMARY:Roaring 20’s Festival
DESCRIPTION:Dust off your fedora\, polish your pearls and celebrate a golden era of opulence\, art & music when Downtown Sebring’s 35th Annual Roaring 20s Festival kicks up its heels again February 10\, 2018. \nHave a “Roaring” good time as over 50 arts\, crafts and food vendors convene around Circle Park to celebrate Sebring’s 1920’s heritage. Come for the food\, crafts\, and antique cars. Featuring live music by The Jazz Phools 10:30am – 2:30pm. \n**20’s attire encouraged** \nFree general admission. Fee for vendors.
URL:https://sebringrundown.com/event/roaring-20s-festival/
LOCATION:Sebring Downtown Historic District
CATEGORIES:Art,Family Friendly,Festivals
END:VEVENT
BEGIN:VEVENT
DTSTART;TZID=America/New_York:20180206T103000
DTEND;TZID=America/New_York:20180206T113000
DTSTAMP:20260425T181043
CREATED:20180107T115515Z
LAST-MODIFIED:20180107T115645Z
UID:463-1517913000-1517916600@sebringrundown.com
SUMMARY:Tot Time Tuesday
DESCRIPTION:Tot Time is a toddler program geared for children age 2-5 to come together for unique themed activities each Tuesday. Activities include storytelling\, singing\, crafts\, dancing\, hide n seek\, and using our imaginations! Each week is different. Tot Time is included at no extra charge in our family memberships or paid daily admission.
URL:https://sebringrundown.com/event/tot-time-tuesday-5/
LOCATION:Children’s Museum of the Highlands\, 901 US Hwy 27 North Unit 50\, Sebring\, 33870\, United States
CATEGORIES:Family Friendly
END:VEVENT
BEGIN:VEVENT
DTSTART;TZID=America/New_York:20180203T130000
DTEND;TZID=America/New_York:20180203T150000
DTSTAMP:20260425T181043
CREATED:20180107T204112Z
LAST-MODIFIED:20180107T204143Z
UID:524-1517662800-1517670000@sebringrundown.com
SUMMARY:LaLa Land Tour
DESCRIPTION:Come join us for our Open House. We can only accommodate 50 guests\,  call and make your reservations ASAP. \nMinimum Donation – $20/Adult & $10/Child \nAll proceeds to benefit TLC Therapy Hooves\, a 501(c)3 serving Highlands County. \nReservations Required-Call Terri 863 699 0777
URL:https://sebringrundown.com/event/lala-land-tour/
LOCATION:La La Land – Triple C Stables\, 400 Breeze by Way\, Sebring\, 33875\, United States
CATEGORIES:Family Friendly
END:VEVENT
BEGIN:VEVENT
DTSTART;TZID=America/New_York:20180203T100000
DTEND;TZID=America/New_York:20180203T150000
DTSTAMP:20260425T181043
CREATED:20180120T065648Z
LAST-MODIFIED:20180120T065648Z
UID:674-1517652000-1517670000@sebringrundown.com
SUMMARY:Lake Placid Arts & Crafts Country Fair
DESCRIPTION:More than 100 arts and crafts booths will convene in DeVane Park\, along with local\, non-profit food booths\, live entertainment\, children’s activities\, an exhibit hall and arts & Crafts demonstrations. Free admission. For information 863-465-3963.
URL:https://sebringrundown.com/event/lake-placid-arts-crafts-country-fair/
LOCATION:FL
CATEGORIES:Art,Family Friendly,Festivals,Food & Drink
END:VEVENT
BEGIN:VEVENT
DTSTART;TZID=America/New_York:20180130T103000
DTEND;TZID=America/New_York:20180130T113000
DTSTAMP:20260425T181043
CREATED:20180107T115416Z
LAST-MODIFIED:20180107T120155Z
UID:461-1517308200-1517311800@sebringrundown.com
SUMMARY:Tot Time Tuesday
DESCRIPTION:Tot Time is a toddler program geared for children age 2-5 to come together for unique themed activities each Tuesday. Activities include storytelling\, singing\, crafts\, dancing\, hide n seek\, and using our imaginations! Each week is different. Tot Time is included at no extra charge in our family memberships or paid daily admission.
URL:https://sebringrundown.com/event/tot-time-tuesday-4/
LOCATION:Children’s Museum of the Highlands\, 901 US Hwy 27 North Unit 50\, Sebring\, 33870\, United States
CATEGORIES:Family Friendly
END:VEVENT
BEGIN:VEVENT
DTSTART;TZID=America/New_York:20180127T100000
DTEND;TZID=America/New_York:20180127T160000
DTSTAMP:20260425T181043
CREATED:20180107T114742Z
LAST-MODIFIED:20180107T114804Z
UID:450-1517047200-1517068800@sebringrundown.com
SUMMARY:Big Winter Fest
DESCRIPTION:See real snow in sunny Florida at our annual Winter Fest Outdoor Community Festival! \nProceeds benefit Big Brothers Big Sisters mentoring programs in Highlands and Hardee Counties. \n$5 Per Person | Children under 3 are free
URL:https://sebringrundown.com/event/big-winter-fest/
LOCATION:Sebring International Raceway\, 113 Midway Dr\, Sebring\, FL\, 33870\, United States
CATEGORIES:Family Friendly,Festivals
END:VEVENT
BEGIN:VEVENT
DTSTART;TZID=America/New_York:20180123T103000
DTEND;TZID=America/New_York:20180123T113000
DTSTAMP:20260425T181043
CREATED:20180107T115326Z
LAST-MODIFIED:20180107T120107Z
UID:459-1516703400-1516707000@sebringrundown.com
SUMMARY:Tot Time Tuesday
DESCRIPTION:Tot Time is a toddler program geared for children age 2-5 to come together for unique themed activities each Tuesday. Activities include storytelling\, singing\, crafts\, dancing\, hide n seek\, and using our imaginations! Each week is different. Tot Time is included at no extra charge in our family memberships or paid daily admission.
URL:https://sebringrundown.com/event/tot-time-tuesday-3/
LOCATION:Children’s Museum of the Highlands\, 901 US Hwy 27 North Unit 50\, Sebring\, 33870\, United States
CATEGORIES:Family Friendly
END:VEVENT
BEGIN:VEVENT
DTSTART;TZID=America/New_York:20180120T070000
DTEND;TZID=America/New_York:20180120T140000
DTSTAMP:20260425T181043
CREATED:20180120T051904Z
LAST-MODIFIED:20180120T051954Z
UID:650-1516431600-1516456800@sebringrundown.com
SUMMARY:Sun 'n Lake Community Yard Sale
DESCRIPTION:Get ready for a bargain! This huge yard sale starts bright and early. I’d grab a coffee if I were you. Sun ‘n Lake will be hosting a Community Yard Sale on Saturday\, January 20th. There is typically 60-80 homes who participate!\nA list of all of the properties participating and items they are selling will be listed on the FB event page and on their website the week leading up to the event – wwwlivesunnlake.com
URL:https://sebringrundown.com/event/sun-n-lake-community-yard-sale/
LOCATION:Sun ‘n Lakes\, 5306 Sun N Lake Blvd\, Sebring\, FL\, 33872\, United States
CATEGORIES:Family Friendly,Shopping
END:VEVENT
BEGIN:VEVENT
DTSTART;TZID=America/New_York:20180116T103000
DTEND;TZID=America/New_York:20180116T113000
DTSTAMP:20260425T181043
CREATED:20180107T115127Z
LAST-MODIFIED:20180107T120127Z
UID:455-1516098600-1516102200@sebringrundown.com
SUMMARY:Tot Time Tuesday
DESCRIPTION:Tot Time is a toddler program geared for children age 2-5 to come together for unique themed activities each Tuesday. Activities include storytelling\, singing\, crafts\, dancing\, hide n seek\, and using our imaginations! Each week is different. Tot Time is included at no extra charge in our family memberships or paid daily admission.
URL:https://sebringrundown.com/event/tot-time-tuesday/
LOCATION:Children’s Museum of the Highlands\, 901 US Hwy 27 North Unit 50\, Sebring\, 33870\, United States
CATEGORIES:Family Friendly
END:VEVENT
BEGIN:VEVENT
DTSTART;TZID=America/New_York:20180113T190000
DTEND;TZID=America/New_York:20180113T210000
DTSTAMP:20260425T181043
CREATED:20180107T104041Z
LAST-MODIFIED:20180107T104102Z
UID:439-1515870000-1515877200@sebringrundown.com
SUMMARY:Music in the Park with The Back Porch Revival Band
DESCRIPTION:Come and join us for this wonderful concert outside under the stars with fires going in the firepits and enjoying a wonderful evening with family and friends. The Band for this concert is The Back Porch Revival Band. They have been a part of the Music in the Park Concert Series for many years. \nThe concert is from 7:00pm to 9:00pm on Saturday\, January 13\, 2018 in the Picnic area. The cost is $10.00 per person and kids 10 & Under Free. Bring your chairs and blankets and come and have a great time. \nFood Vendors will be onsite and the Hammock Inn Store will be open. \n 
URL:https://sebringrundown.com/event/music-in-the-park-with-the-back-porch-revival-band/
LOCATION:Highlands Hammock State Park\, 5931 Hammock Road\, Sebring\, FL\, 33872\, United States
CATEGORIES:Family Friendly,Music Scene
END:VEVENT
BEGIN:VEVENT
DTSTART;TZID=America/New_York:20180109T103000
DTEND;TZID=America/New_York:20180109T113000
DTSTAMP:20260425T181043
CREATED:20180107T114943Z
LAST-MODIFIED:20180107T115953Z
UID:453-1515493800-1515497400@sebringrundown.com
SUMMARY:Tot Time Tuesdays
DESCRIPTION:Tot Time is a toddler program geared for children age 2-5 to come together for unique themed activities each Tuesday. Activities include storytelling\, singing\, crafts\, dancing\, hide n seek and using our imaginations! Each week is different. Tot Time is included at no extra charge in our family memberships or paid daily admission.
URL:https://sebringrundown.com/event/tot-time-tuesdays/
LOCATION:Children’s Museum of the Highlands\, 901 US Hwy 27 North Unit 50\, Sebring\, 33870\, United States
CATEGORIES:Family Friendly
END:VEVENT
END:VCALENDAR