BEGIN:VCALENDAR
VERSION:2.0
PRODID:-//Sebring Rundown - ECPv6.15.20//NONSGML v1.0//EN
CALSCALE:GREGORIAN
METHOD:PUBLISH
X-WR-CALNAME:Sebring Rundown
X-ORIGINAL-URL:https://sebringrundown.com
X-WR-CALDESC:Events for Sebring Rundown
REFRESH-INTERVAL;VALUE=DURATION:PT1H
X-Robots-Tag:noindex
X-PUBLISHED-TTL:PT1H
BEGIN:VTIMEZONE
TZID:America/New_York
BEGIN:DAYLIGHT
TZOFFSETFROM:-0500
TZOFFSETTO:-0400
TZNAME:EDT
DTSTART:20180311T070000
END:DAYLIGHT
BEGIN:STANDARD
TZOFFSETFROM:-0400
TZOFFSETTO:-0500
TZNAME:EST
DTSTART:20181104T060000
END:STANDARD
BEGIN:DAYLIGHT
TZOFFSETFROM:-0500
TZOFFSETTO:-0400
TZNAME:EDT
DTSTART:20190310T070000
END:DAYLIGHT
BEGIN:STANDARD
TZOFFSETFROM:-0400
TZOFFSETTO:-0500
TZNAME:EST
DTSTART:20191103T060000
END:STANDARD
BEGIN:DAYLIGHT
TZOFFSETFROM:-0500
TZOFFSETTO:-0400
TZNAME:EDT
DTSTART:20200308T070000
END:DAYLIGHT
BEGIN:STANDARD
TZOFFSETFROM:-0400
TZOFFSETTO:-0500
TZNAME:EST
DTSTART:20201101T060000
END:STANDARD
END:VTIMEZONE
BEGIN:VEVENT
DTSTART;TZID=America/New_York:20191129T070000
DTEND;TZID=America/New_York:20191201T160000
DTSTAMP:20260419T140254
CREATED:20191111T170332Z
LAST-MODIFIED:20191111T170332Z
UID:3930-1575010800-1575216000@sebringrundown.com
SUMMARY:Community Brews: Morty & Edna's
DESCRIPTION:Do you like muffins? Do you enjoy coffee? What if you can help out the community while enjoying your muffin & coffee? \nCome out to Morty & Edna’s between 11/29 and 12/01 as they will be hosting Highlands County’s first Community Brews! \nMorty & Edna’s will be offering a Muffin & Coffee special all day between those dates and 30% of the proceeds will be donated to UWCF. \nUnited Way of Central Florida’s mission is to improve lives and strengthen our community and you can participate in this mission by enjoying a Muffin & Coffee special.
URL:https://sebringrundown.com/event/community-brews-morty-ednas/
LOCATION:Morty & Edna’s\, 231 N Main Ave\, Lake Placid\, FL\, 33852
CATEGORIES:Food & Drink,Non-Profit
END:VEVENT
BEGIN:VEVENT
DTSTART;TZID=America/New_York:20191128T110000
DTEND;TZID=America/New_York:20191128T140000
DTSTAMP:20260419T140254
CREATED:20191021T182512Z
LAST-MODIFIED:20191021T182512Z
UID:3753-1574938800-1574949600@sebringrundown.com
SUMMARY:Thanksgiving Buffet
DESCRIPTION:Don’t have the “THYME” to cook this Thanksgiving? Let us do the work for you! Join us for an all you can eat buffet with all your favorite holiday foods from 11am-2pm. RSVP by calling 863-655-7200.
URL:https://sebringrundown.com/event/thanksgiving-buffet/
LOCATION:Seven Sebring Raceway Hotel\, 150 Midway Dr.\, Sebring\, FL\, 33870
CATEGORIES:Food & Drink
END:VEVENT
BEGIN:VEVENT
DTSTART;TZID=America/New_York:20191116T180000
DTEND;TZID=America/New_York:20191116T210000
DTSTAMP:20260419T140254
CREATED:20190912T154005Z
LAST-MODIFIED:20190912T154005Z
UID:3337-1573927200-1573938000@sebringrundown.com
SUMMARY:Sebring's Craft Beer Festival
DESCRIPTION:Join us for our 7th Annual Craft Beer Sampling Event! Saturday\, November 16\, 2019 from 6pm-9pm at Lake Jackson/Sebring Civic Center. Tickets include an armband for admission\, sampling cup for over 50 unique craft beers\, appetizer bites from local restaurants\, Live Music from Blackbird Anthem and fun\, adult-size games. Adults Only 18+ (Sampling Armband ticket for 21+ only\, Designated Driver Admission Tickets are available.) Tickets go on sale October 1\, 2019. Event Proceeds benefits the Children’s Museum of the Highlands.
URL:https://sebringrundown.com/event/sebrings-craft-beer-festival/
LOCATION:Sebring Civic Center\, 355 W Center Ave.\, Sebring\, FL\, 33870
CATEGORIES:Festivals,Food & Drink
END:VEVENT
BEGIN:VEVENT
DTSTART;TZID=America/New_York:20191114T180000
DTEND;TZID=America/New_York:20191114T200000
DTSTAMP:20260419T140254
CREATED:20191101T174309Z
LAST-MODIFIED:20191101T174309Z
UID:3808-1573754400-1573761600@sebringrundown.com
SUMMARY:Sebring Wine Tasting
DESCRIPTION:⚠️ WINE TASTING ALERT ⚠️ Call your friends and join us at our wine tasting. Enjoy wines\, spirits and cordials from wineries and distilleries from around the world. Plus\, stock up while you sip and save 10% off your purchases the night of the event . \n*Items exclude prices ending in “8.” 🍷 \nJoin us Thursday\, November 14\, 6 -8 p.m. \nNote to guest: Your event entry purchase acknowledges that a photographer will be present photographing the event. Any images taken during this time are subject to use3 for any ABC Marketing purposes.
URL:https://sebringrundown.com/event/sebring-wine-tasting/
LOCATION:ABC Fine Wine & Spirits\, 2311 US Hwy 27 N\, Sebring\, FL\, 33870
CATEGORIES:Food & Drink
END:VEVENT
BEGIN:VEVENT
DTSTART;TZID=America/New_York:20191112T163000
DTEND;TZID=America/New_York:20191112T183000
DTSTAMP:20260419T140254
CREATED:20191101T161127Z
LAST-MODIFIED:20191101T161127Z
UID:3801-1573576200-1573583400@sebringrundown.com
SUMMARY:Highlands County Ag-Venture\, Inc.
DESCRIPTION:Night-Time Ag-Venture\nTuesday\, November 12\, 2019\nHighlands County Fairgrounds \nSteak Dinner: 4:30-6:30\, Eat in or Take out\, rain or shine\nRibeye\, fresh corn on the cob\, baked potato\, green beans\, roll\, beverage\, and homemade ice cream\n$15 Adult\, $7 Children \nAg-Venture Tours: at 5:00 and 6:00 there will be guided tours of the stations the children participate in during the day. \nFree Entertainment: Beginning at 5:00 there will be exceptional local entertainment on the outside stage. \nCome and enjoy this fun family time!\nAdvance dinner tickets are available by calling 863-441-1317\, or may be purchased at the gate.
URL:https://sebringrundown.com/event/highlands-county-ag-venture-inc/
LOCATION:Highlands County Fair Grounds\, 781 Magnolia Ave\, FL\, United States
CATEGORIES:Family Friendly,Festivals,Food & Drink
END:VEVENT
BEGIN:VEVENT
DTSTART;TZID=America/New_York:20191109T110000
DTEND;TZID=America/New_York:20191109T150000
DTSTAMP:20260419T140254
CREATED:20190813T180142Z
LAST-MODIFIED:20190813T180142Z
UID:2942-1573297200-1573311600@sebringrundown.com
SUMMARY:9th Annual Crazy Pepper Chili Cook Off
DESCRIPTION:Grab a spoon and join us as we seek to find the best tasting chili in town! Teams will serve up their finest chili as you peruse the Car Show around the Circle in downtown Sebring. And back by popular demand\, the California Toe Jam Band will provide live music for your fun and entertainment. Ice cold beers will quench your thirst during a Fall Florida day and we will also offer a full concession stand for your tastebuds! We can’t forget about our Hot Dog Eating Contest for youth and adults; always entertaining. \nThe Rotary Club of Highlands County invites you to join us! \nPrizes for the top teams: 1st\, 2nd\, 3rd\, People’s Choice & Best Decorated. \nIf you are interested in sponsoring this event or to register a team – please visit our website at: https://www.rotarychili.com/
URL:https://sebringrundown.com/event/9th-annual-crazy-pepper-chili-cook-off-2/
LOCATION:Sebring Downtown Historic District
CATEGORIES:Food & Drink
END:VEVENT
BEGIN:VEVENT
DTSTART;TZID=America/New_York:20191109T110000
DTEND;TZID=America/New_York:20191109T150000
DTSTAMP:20260419T140254
CREATED:20190530T165457Z
LAST-MODIFIED:20190530T165457Z
UID:2444-1573297200-1573311600@sebringrundown.com
SUMMARY:9th Annual Crazy Pepper Chili Cook Off
DESCRIPTION:Grab a spoon and join us as we seek to find the best tasting chili in town! Teams will serve up their finest chili as you peruse the Car Show around the Circle in downtown Sebring. And back by popular demand\, the California Toe Jam Band will provide live music for your fun and entertainment. Ice cold beers will quench your thirst during a Fall Florida day and we will also offer a full concession stand for your tastebuds! We can’t forget about our Hot Dog Eating Contest for youth and adults; always entertaining. \nThe Rotary Club of Highlands County invites you to join us! \nPrizes for the top teams: 1st\, 2nd\, 3rd\, People’s Choice & Best Decorated. \nIf you are interested in sponsoring this event or to register a team – please visit our website at: https://www.rotarychili.com/
URL:https://sebringrundown.com/event/9th-annual-crazy-pepper-chili-cook-off/
LOCATION:Sebring Downtown Historic District
CATEGORIES:Festivals,Food & Drink
END:VEVENT
BEGIN:VEVENT
DTSTART;TZID=America/New_York:20191031T200000
DTEND;TZID=America/New_York:20191031T230000
DTSTAMP:20260419T140254
CREATED:20191010T181424Z
LAST-MODIFIED:20191010T181424Z
UID:3679-1572552000-1572562800@sebringrundown.com
SUMMARY:Halloween Costume Party
DESCRIPTION:If it’s Halloween in Highlands County\, there is only place to be – at WILD TURKEY TAVERN! Join us for a wicked good time tonight for our 39th Annual Halloween Costume Party! It’s a tradition. \n$100 Prize for Best Couple Costume. $50 for Best Male Costume. $50 for Best Female Costume.\n**** Drink Specials All Night.\n**** He Said – She Said starts plays from 8-11pm.
URL:https://sebringrundown.com/event/halloween-costume-party/
LOCATION:Wild Turkey Tavern\, 2751 US Hwy 27 S.\, Avon Park\, FL\, 33825
CATEGORIES:Food & Drink,Music Scene,Night Life
END:VEVENT
BEGIN:VEVENT
DTSTART;TZID=America/New_York:20191031T110000
DTEND;TZID=America/New_York:20191031T210000
DTSTAMP:20260419T140254
CREATED:20191017T202704Z
LAST-MODIFIED:20191017T202704Z
UID:3723-1572519600-1572555600@sebringrundown.com
SUMMARY:Boos & Booze Halloween Party
DESCRIPTION:Looking for some adult trick or treating fun? Don’t miss Sugar Sand Distillery’s “Booze & Boos” Party happening on Thursday\, Oct. 31 from 11AM-9PM. Stop by for a complimentary tasting of all the craft ‘spirits’ plus each visitor will also receive a complimentary shot of their favorite spirit. Bottles will be available for sale. Costumes are encouraged but not required. Must be 21+ to sample product. \nUPDATE: The band Covered in Black will be performing from 6-9PM and the food truck Thyme 2 Dine will be here starting at 4PM\, so bring your appetite. \nSugar Sand Distillery is Florida’s only estate grown sugarcane distillery making their own rum\, vodka\, whiskey\, moonshine and limoncello. Nestled in the middle of a 10-acre sugarcane farm\, Sugar Sand Distillery is a true farm-to-bottle operation. Born of a desire to incorporate the love of farming with the love of producing a handcrafted\, small-batch spirit. Located in Lake Placid\, FL\, the distillery is open to visitors Wednesday-Sunday with tours available on Saturdays. \nFor more information\, visit http://www.SugarSandDistillery.com
URL:https://sebringrundown.com/event/boos-booze-halloween-party/
LOCATION:Sugar Sand Distillery\, 264 Henscratch Rd\, Lake Placid\, FL\, 33852
CATEGORIES:Food & Drink,Music Scene,Night Life
END:VEVENT
BEGIN:VEVENT
DTSTART;TZID=America/New_York:20191030T170000
DTEND;TZID=America/New_York:20191030T200000
DTSTAMP:20260419T140254
CREATED:20191025T183714Z
LAST-MODIFIED:20191025T183714Z
UID:3778-1572454800-1572465600@sebringrundown.com
SUMMARY:Froyotacular
DESCRIPTION:Our FROYOTACULAR is going to be something you don’t wanna miss 👻👻\nFrom 5:00pm to 8:00pm!! \nCome dressed in your best costume so we can rate our winners!! There will be a sheet to fill out for you to enter the contest!! \n12 oz Cups – $4 all day\nSpecial guest appearance from Maleficent 5-7pm
URL:https://sebringrundown.com/event/froyotacular/
LOCATION:Sweet Frogs\, 2932 US Hwy 27 N\, Sebring\, FL\, 33870
CATEGORIES:Food & Drink
END:VEVENT
BEGIN:VEVENT
DTSTART;TZID=America/New_York:20191026T200000
DTEND;TZID=America/New_York:20191026T200000
DTSTAMP:20260419T140254
CREATED:20191021T144746Z
LAST-MODIFIED:20191021T144746Z
UID:3732-1572120000-1572120000@sebringrundown.com
SUMMARY:Halloween Party featuring Rye Road
DESCRIPTION:Join us for our annual Halloween Party featuring Rye Road live in concert.
URL:https://sebringrundown.com/event/halloween-party-featuring-rye-road/
LOCATION:Cowpoke’s Watering Hole\, 6813 US Hwy 27 S\, Sebring\, FL\, 33876
CATEGORIES:Food & Drink,Music Scene,Night Life
END:VEVENT
BEGIN:VEVENT
DTSTART;TZID=America/New_York:20191011T180000
DTEND;TZID=America/New_York:20191011T180000
DTSTAMP:20260419T140254
CREATED:20191003T164106Z
LAST-MODIFIED:20191003T164106Z
UID:3501-1570816800-1570816800@sebringrundown.com
SUMMARY:Halloween Kitty Painting Class
DESCRIPTION:We are super excited to present our first official painting class at Coffee Culture!! Join us at 6 pm on October 11th for coffee\, wine\, light food\, and a whole lot of fun! Seating is limited\, 16 spots available. The cost is $25 which covers the food\, wine and supplies. (Coffee beverages are an additional charge). The painting for the evening will be an adorable Halloween Kitty. We hope you’ll join us for this fun night!
URL:https://sebringrundown.com/event/halloween-kitty-painting-class/
LOCATION:Coffee Culture\, 247 US Hwy 27 N\, Sebring\, FL\, 33870
CATEGORIES:Art,Food & Drink
END:VEVENT
BEGIN:VEVENT
DTSTART;TZID=America/New_York:20191005T110000
DTEND;TZID=America/New_York:20191005T210000
DTSTAMP:20260419T140254
CREATED:20191001T154848Z
LAST-MODIFIED:20191001T154848Z
UID:3488-1570273200-1570309200@sebringrundown.com
SUMMARY:Soda Tasting Saturday
DESCRIPTION:The 2020 Sebring Soda Fest is only six months away! To honor the countdown\, we are featuring the “Soda Tasting Saturday” event for one day only! Choose from one of two flight options with six\, 2oz. samples\, for only $4.00! You might just find a new favorite!! Receive your Soda Fest souvenir tasting glass with each purchase\, while supplies last. (All proceeds from Soda Tasting Saturday benefit the Greater Sebring Chamber of Commerce.)
URL:https://sebringrundown.com/event/soda-tasting-saturday/
LOCATION:Sebring Soda & Ice Cream Works\, 201 Circle Park Drive\, Sebring\, FL\, 33870
CATEGORIES:Festivals,Food & Drink
END:VEVENT
BEGIN:VEVENT
DTSTART;TZID=America/New_York:20191002T160000
DTEND;TZID=America/New_York:20191002T220000
DTSTAMP:20260419T140254
CREATED:20190917T145634Z
LAST-MODIFIED:20190917T145634Z
UID:3389-1570032000-1570053600@sebringrundown.com
SUMMARY:Faded Oktoberfest!
DESCRIPTION:Help us celebrate our 2nd Anniversary Oktoberfest style!!! Dust off your lederhosen and bring your beer stein for $5 fills! Giant pretzels\, beer cheese\, brats\, and more!!!!
URL:https://sebringrundown.com/event/faded-oktoberfest/
LOCATION:Faded Bistro & Beer Garden\, 420 N. Ridgewood Dr.\, Sebring\, FL\, 33870
CATEGORIES:Festivals,Food & Drink
END:VEVENT
BEGIN:VEVENT
DTSTART;TZID=America/New_York:20190930T170000
DTEND;TZID=America/New_York:20190930T210000
DTSTAMP:20260419T140254
CREATED:20190828T181436Z
LAST-MODIFIED:20190828T181436Z
UID:3175-1569862800-1569877200@sebringrundown.com
SUMMARY:Lake Placid Chow Down Rally
DESCRIPTION:Chow Down Food Truck Rally is heading to Lake Placid. Come enjoy us at the beautiful Stuart Park and have dinner & dessert with the best South Florida food trucks! \nFood truck is a restaurant on wheels!!! They are travelling and coming from different directions some of them is 2 hours away from South and some of them from Central State of FL…….Gourmet Food Truck is NOT Fast Food….Every meal is freshly prepared and cooked to order…to deliver the freshness to you so you can enjoy hot and fresh food!!! \nFood Trucks will be serving from 5:00 PM – 9:00 PM \nIt’s Monday night out for family – friends – fun – food and we’re pet friendly event……Bring your appetite – lawn chair – sit back and relex – enjoy gourmet food – Live Music…….\nLocation: Stuart Park\n131 E Interlake Blvd\, Lake Placid
URL:https://sebringrundown.com/event/lake-placid-chow-down-rally-4/
LOCATION:Stuart Park\, 131 E Interlake Blvd\, Lake Placid\, FL\, 33852
CATEGORIES:Food & Drink
END:VEVENT
BEGIN:VEVENT
DTSTART;TZID=America/New_York:20190927T180000
DTEND;TZID=America/New_York:20190927T220000
DTSTAMP:20260419T140254
CREATED:20190627T201130Z
LAST-MODIFIED:20190924T172903Z
UID:2527-1569607200-1569621600@sebringrundown.com
SUMMARY:NU-HOPE Speakeasy Soiree
DESCRIPTION:Shhh. Have you heard the latest secret? \nOn Friday\, September 6th\, NU-HOPE Elder Care Services is turning time back to the Roaring Twenties. \nFor one night only\, the NU-HOPE Speakeasy Soirée will offer all modern-day Flappers and Gents an evening filled with prohibition fun and excitement. \nAt the Speakeasy\, you will find elegant 1920s décor\, a live Big Band and DJ playing the latest hits\, fun gaming\, a photo booth\, champagne fountain\, cash bar\, wonderful hors d’oeuvres\, a live auction\, and great raffle prizes. \nThe NU-HOPE Speakeasy Soirée will take place at the Jack Stroup Civic Center at 355 W. Center Avenue in downtown Sebring from 6-10 pm. Tickets are just $75 per person or $100 per couple. Pre-purchase of tickets is strongly encouraged. Sponsor packages are also available. \nAll proceeds will be used to enhance services for seniors and caregivers living here in our community. \nSo grab you Flapper and Gangster outfits and join us on Friday\, September 6th for an unforgettable evening at the 4th annual NU-HOPE Speakeasy Soirée. \nFor more information or to purchase tickets\, please contact NU-HOPE at 863-382-2134 or via email at speakeasysoiree@nuhope.org. \n#NuHopeSpeakeasy
URL:https://sebringrundown.com/event/nu-hope-speakeasy-soiree/
LOCATION:Sebring Civic Center\, 355 W Center Ave.\, Sebring\, FL\, 33870
CATEGORIES:Festivals,Food & Drink
END:VEVENT
BEGIN:VEVENT
DTSTART;TZID=America/New_York:20190925T180000
DTEND;TZID=America/New_York:20190925T220000
DTSTAMP:20260419T140254
CREATED:20190822T174014Z
LAST-MODIFIED:20190822T174014Z
UID:3090-1569434400-1569448800@sebringrundown.com
SUMMARY:Night of Laughs
DESCRIPTION:Join us for “A Night of Laughs” on Wednesday\, September 25th! Featuring Cam Bertrand & Jackie Sanchez. Dinner Buffet & Show $29 per person\, Show only $19 (plus service charge & tax). All tickets include two complimentary house cocktails! Dinner starts at 6pm\, followed by the show at 7:45pm. Parties of 8 or more qualify for reserved seating. Call today! 863-655-7200
URL:https://sebringrundown.com/event/night-of-laughs/
LOCATION:Seven Sebring Raceway Hotel\, 150 Midway Dr.\, Sebring\, FL\, 33870
CATEGORIES:Comedy,Food & Drink
END:VEVENT
BEGIN:VEVENT
DTSTART;TZID=America/New_York:20190921T220000
DTEND;TZID=America/New_York:20190921T220000
DTSTAMP:20260419T140254
CREATED:20190919T145248Z
LAST-MODIFIED:20190919T145248Z
UID:3425-1569103200-1569103200@sebringrundown.com
SUMMARY:Heartland Film Festival Afterparty
DESCRIPTION:Show us your Film Festival Wristband for $2 off Freakshow wines by the glass!!
URL:https://sebringrundown.com/event/heartland-film-festival-afterparty/
LOCATION:Mon Cirque Wine Bar\, 140 N. Commerce Ave.\, Sebring\, FL\, 33870
CATEGORIES:Food & Drink,Night Life
END:VEVENT
BEGIN:VEVENT
DTSTART;TZID=America/New_York:20190919T180000
DTEND;TZID=America/New_York:20190919T193000
DTSTAMP:20260419T140254
CREATED:20190813T181927Z
LAST-MODIFIED:20190813T181927Z
UID:2963-1568916000-1568921400@sebringrundown.com
SUMMARY:Sebring $5 Wine Tour
DESCRIPTION:🍷 Grab a friend and wine down at our mini wine tasting! Visit participating ABC locations and explore our exclusive wines from our Sourced & Certified collection. Thursday\, September 19\, 6 – 7:30 pm. \nTHEME OF THE MONTH: WINES OF THE CENTRAL COAST\nDiscover the appellations of California Wine. Central Coast\, Santa Cruz Mountains and Southern California. 🍷 \nFor participating locations\, click here: www.abcfws.com/wine-tour
URL:https://sebringrundown.com/event/sebring-5-wine-tour-3/
LOCATION:ABC Fine Wine & Spirits\, 2311 US Hwy 27 N\, Sebring\, FL\, 33870
CATEGORIES:Food & Drink
END:VEVENT
BEGIN:VEVENT
DTSTART;TZID=America/New_York:20190911T113000
DTEND;TZID=America/New_York:20190911T133000
DTSTAMP:20260419T140254
CREATED:20190829T154555Z
LAST-MODIFIED:20190829T154555Z
UID:3225-1568201400-1568208600@sebringrundown.com
SUMMARY:First Responders Appreciation Lunch!
DESCRIPTION:Our local heroes from the Highlands County Sheriff Department\, Sebring Police & Fire Department are invited to a grab and go lunch that honors them on this day of remembrance. Come & enjoy hot dogs\, hamburgers\, sides and dessert!
URL:https://sebringrundown.com/event/first-responders-appreciation-lunch/
LOCATION:The Manor at Lake Jackson\, 2301 US Hwy 27 S\, Sebring\, FL\, 33870
CATEGORIES:Food & Drink
END:VEVENT
BEGIN:VEVENT
DTSTART;TZID=America/New_York:20190908T150000
DTEND;TZID=America/New_York:20190908T180000
DTSTAMP:20260419T140254
CREATED:20190906T161218Z
LAST-MODIFIED:20190906T161218Z
UID:3296-1567954800-1567965600@sebringrundown.com
SUMMARY:He Said She Said at Wild Turkey Tavern
DESCRIPTION:Kick back at the laid-back Wild Turkey Tavern\, the perfect Sunday afternoon chill spot! Live tunes\, great food\, full bar\, cool staff\, and fun vibe! It’s #SundayFunday at Wild Turkey Tavern! \nOriginals & Covers: Rock\, Classic Rock\, Southern Rock\, Blues\, Pop\, Country!
URL:https://sebringrundown.com/event/he-said-she-said-at-wild-turkey-tavern/
LOCATION:Wild Turkey Tavern\, 2751 US Hwy 27 S.\, Avon Park\, FL\, 33825
CATEGORIES:Food & Drink,Music Scene
END:VEVENT
BEGIN:VEVENT
DTSTART;TZID=America/New_York:20190907T180000
DTEND;TZID=America/New_York:20190907T180000
DTSTAMP:20260419T140254
CREATED:20190828T174702Z
LAST-MODIFIED:20190828T174702Z
UID:3165-1567879200-1567879200@sebringrundown.com
SUMMARY:Til' Death Do Us Part
DESCRIPTION:Murder Mystery Dinner! \nProfessional Show & Prime Rib Dinner \n$45 Per Person\nCash Bar \nBenefitting the Lake Placid Morning Rotary Club \nAt the Elks Club\, LP\nSocial – 6pm\nDinner – 6:30pm\nShow – 7:30pm \nTickets available at Lake Placid Feed & Western Wear\nMidFlorida Credit Union \nFor more information 863.464.0768
URL:https://sebringrundown.com/event/til-death-do-us-part/
LOCATION:Lake Placid Elks Lodge 2661\, 200 Country Rd E\, Lake Placid\, FL\, 33852
CATEGORIES:Food & Drink,Theater
END:VEVENT
BEGIN:VEVENT
DTSTART;TZID=America/New_York:20190907T170000
DTEND;TZID=America/New_York:20190907T200000
DTSTAMP:20260419T140254
CREATED:20190828T172030Z
LAST-MODIFIED:20190828T172030Z
UID:3150-1567875600-1567886400@sebringrundown.com
SUMMARY:All American Car Show
DESCRIPTION:This is our Monthly Car Show\, everyone!\nIt may be still too hot but we have ice cold beer!\nCome & Join Us.\n$5.00 Burgers\, $ 2.00 Draft Beer $ & $5.00 Pulled Pork Sandwich. \nAll American Bar & Grill\n3400 Sebring Parkway
URL:https://sebringrundown.com/event/all-american-car-show/
LOCATION:All American Grill\, 3400 Sebring Parkway\, Sebring\, FL\, 33870
CATEGORIES:Festivals,Food & Drink
END:VEVENT
BEGIN:VEVENT
DTSTART;TZID=America/New_York:20190829T210000
DTEND;TZID=America/New_York:20190829T210000
DTSTAMP:20260419T140254
CREATED:20190711T214723Z
LAST-MODIFIED:20190711T214723Z
UID:2563-1567112400-1567112400@sebringrundown.com
SUMMARY:Ladies Night Out Thursday Chocolate Overload
DESCRIPTION:Three of the hottest\, sexist dancers. The King of Florida Caution and it is his Birthday\, The King of Baltimore SOS\, and the one they call Masterpiece from Cali! \nLadies grab you girls\, bridal parties and birthday parties come on out for an evening of fun! Ladies night as well and Club Cino.
URL:https://sebringrundown.com/event/ladies-night-out-thursday-chocolate-overload/
LOCATION:Good Times Lounge / Club Cino\, 210 Sebring Square\, Sebring\, FL\, 33870
CATEGORIES:Food & Drink,Night Life
END:VEVENT
BEGIN:VEVENT
DTSTART;TZID=America/New_York:20190824T183000
DTEND;TZID=America/New_York:20190824T183000
DTSTAMP:20260419T140254
CREATED:20190808T154545Z
LAST-MODIFIED:20190808T154545Z
UID:2897-1566671400-1566671400@sebringrundown.com
SUMMARY:One Dragon Football Club
DESCRIPTION:Prime Rib Dinner. Tickets are $50\, located at The Barn at Paso Fino\, 3501 Paso Fino Dr\, Lake Placid. Cocktails 6:30pm\, dinner 7:30pm. Contact Sherri Griffin for more information 863-441-1955.
URL:https://sebringrundown.com/event/one-dragon-football-club/
LOCATION:The Barn at Paso Fino\, 3501 Paso Fino Dr.\, Lake Placid\, Florida\, 33852
CATEGORIES:Festivals,Food & Drink
END:VEVENT
BEGIN:VEVENT
DTSTART;TZID=America/New_York:20190822T160000
DTEND;TZID=America/New_York:20190822T190000
DTSTAMP:20260419T140254
CREATED:20190726T210700Z
LAST-MODIFIED:20190726T210700Z
UID:2744-1566489600-1566500400@sebringrundown.com
SUMMARY:BBQ Brisket Dinner to Benefit Sebring Historical Society
DESCRIPTION:The Sebring Historical Society is having a Fundraiser. We are selling tickets to our BBQ Brisket Dinner. This is a Eat In or Take Out event. The tickets are $13.00 each and dinner includes BBQ Brisket\, Baked Beans\, Cole Slaw\, Roll and Dessert. Drink if you Eat In.\nTickets are on Sale Now at the Sebring Historical Society\, Frames and Images and Board Members have some also.\nContact the Sebring Historical Society for more information or to purchase tickets. (863) 471-2522 Credit Cards are accepted at the Sebring Historical Society.
URL:https://sebringrundown.com/event/bbq-brisket-dinner-to-benefit-sebring-historical-society/
LOCATION:Sebring Civic Center\, 355 W Center Ave.\, Sebring\, FL\, 33870
CATEGORIES:Food & Drink
END:VEVENT
BEGIN:VEVENT
DTSTART;TZID=America/New_York:20190821T113000
DTEND;TZID=America/New_York:20190821T123000
DTSTAMP:20260419T140254
CREATED:20190808T154132Z
LAST-MODIFIED:20190808T154132Z
UID:2895-1566387000-1566390600@sebringrundown.com
SUMMARY:Lake Placid Chamber of Commerce Summer Luncheon
DESCRIPTION:Open to the public\, 11:30-12:30 at Stuart Park. Pick-up or Dine-in at MidFlorida Conference room across from the park. $12.00 tickets available now\, contact the Chamber office or a Director. Menu – sliced pork\, pasta salad\, loaded baked beans\, roll\, and dessert!
URL:https://sebringrundown.com/event/lake-placid-chamber-of-commerce-summer-luncheon/
LOCATION:Stuart Park\, 131 E Interlake Blvd\, Lake Placid\, FL\, 33852
CATEGORIES:Food & Drink
END:VEVENT
BEGIN:VEVENT
DTSTART;TZID=America/New_York:20190817T110000
DTEND;TZID=America/New_York:20190817T170000
DTSTAMP:20260419T140254
CREATED:20190816T170607Z
LAST-MODIFIED:20190816T170616Z
UID:3012-1566039600-1566061200@sebringrundown.com
SUMMARY:Sugar Sand Distillery Tours
DESCRIPTION:Tours are available on Saturdays and cost $7.50 per person.\nUnder 21 is free with a paid adult. \nTours are about 45 minutes and happen every hour from 11am-5pm. \nTours include a tasting of all our clear spirits\, a complimentary tour cocktail sample and a $5.00 discount towards a purchase of a bottle.
URL:https://sebringrundown.com/event/sugar-sand-distillery/
LOCATION:Sugar Sand Distillery\, 264 Henscratch Rd\, Lake Placid\, FL\, 33852
CATEGORIES:Food & Drink
END:VEVENT
BEGIN:VEVENT
DTSTART;TZID=America/New_York:20190811T160000
DTEND;TZID=America/New_York:20190811T200000
DTSTAMP:20260419T140254
CREATED:20190806T140351Z
LAST-MODIFIED:20190806T140443Z
UID:2879-1565539200-1565553600@sebringrundown.com
SUMMARY:Walker Memorial Academy Panera Fundraiser
DESCRIPTION:Get some food from Panera and support Walker Memorial Academy!\nSunday August 11 from 4-8 pm Panera will donate a portion of the proceeds of your purchase to the Walker Memorial Academy PTA.\nClick Here to view the flyer! (You will need to show them the flyer for your purchase to count!)
URL:https://sebringrundown.com/event/walker-memorial-academy-panera-fundraiser/
LOCATION:Panera Bread\, 1760 US Hwy 27 N\, Sebring\, FL\, 33870
CATEGORIES:Food & Drink
END:VEVENT
BEGIN:VEVENT
DTSTART;TZID=America/New_York:20190810T153000
DTEND;TZID=America/New_York:20190810T173000
DTSTAMP:20260419T140254
CREATED:20190726T204812Z
LAST-MODIFIED:20190726T204812Z
UID:2739-1565451000-1565458200@sebringrundown.com
SUMMARY:Monat Hair Care Presentation
DESCRIPTION:If you’ve dreamed of having your vision of perfect hair\, now is your opportunity to fulfill your wish! Products will be available to view & sample and I will be here to answer any questions. \nMonat hair care line is amazing! All products regrow and Repair all hair types and issues. \nStop in for a glass of wine (or 2) and bring a friend! This is a public event.
URL:https://sebringrundown.com/event/monat-hair-care-presentation/
LOCATION:Mon Cirque Wine Bar\, 140 N. Commerce Ave.\, Sebring\, FL\, 33870
CATEGORIES:Food & Drink,Shopping
END:VEVENT
END:VCALENDAR