BEGIN:VCALENDAR
VERSION:2.0
PRODID:-//Sebring Rundown - ECPv6.15.20//NONSGML v1.0//EN
CALSCALE:GREGORIAN
METHOD:PUBLISH
X-ORIGINAL-URL:https://sebringrundown.com
X-WR-CALDESC:Events for Sebring Rundown
REFRESH-INTERVAL;VALUE=DURATION:PT1H
X-Robots-Tag:noindex
X-PUBLISHED-TTL:PT1H
BEGIN:VTIMEZONE
TZID:America/New_York
BEGIN:DAYLIGHT
TZOFFSETFROM:-0500
TZOFFSETTO:-0400
TZNAME:EDT
DTSTART:20180311T070000
END:DAYLIGHT
BEGIN:STANDARD
TZOFFSETFROM:-0400
TZOFFSETTO:-0500
TZNAME:EST
DTSTART:20181104T060000
END:STANDARD
BEGIN:DAYLIGHT
TZOFFSETFROM:-0500
TZOFFSETTO:-0400
TZNAME:EDT
DTSTART:20190310T070000
END:DAYLIGHT
BEGIN:STANDARD
TZOFFSETFROM:-0400
TZOFFSETTO:-0500
TZNAME:EST
DTSTART:20191103T060000
END:STANDARD
BEGIN:DAYLIGHT
TZOFFSETFROM:-0500
TZOFFSETTO:-0400
TZNAME:EDT
DTSTART:20200308T070000
END:DAYLIGHT
BEGIN:STANDARD
TZOFFSETFROM:-0400
TZOFFSETTO:-0500
TZNAME:EST
DTSTART:20201101T060000
END:STANDARD
END:VTIMEZONE
BEGIN:VEVENT
DTSTART;TZID=America/New_York:20190727T190000
DTEND;TZID=America/New_York:20190727T220000
DTSTAMP:20260422T135214
CREATED:20190412T190726Z
LAST-MODIFIED:20190412T190726Z
UID:1170-1564254000-1564264800@sebringrundown.com
SUMMARY:Yonder Shines at Gator Shack
DESCRIPTION:Join Yonder Shines whose super power is using traditional acoustic instruments to cross over into different music genres. They are Y’all-ternative! They will be playing at the Gator Shack! \nMore about Gator Shack:\nThe Gator Shack is a casual dining experience that welcomes friends \, families\, passer byes\, locals\, out of towners and basically anyone that wants a good meal and a cold beverage served by smiling faces. We are closer than you think and right on the way to where your are going. We are known for our Gator Bites\, Okeechobee Catfish\, Prime Rib\, Bugers and of course “The Larry”\, our Fried Bologney sandwich that must be experienced with a Pickled Gator shot!. Check out our Facebook page for our nightly dinner specials.
URL:https://sebringrundown.com/event/yonder-shines-at-gator-shack/
LOCATION:The Gator Shack\, 4651 US Hwy 98\, Lorida\, FL\, 33857
CATEGORIES:Food & Drink,Music Scene
END:VEVENT
BEGIN:VEVENT
DTSTART;TZID=America/New_York:20190726T200000
DTEND;TZID=America/New_York:20190726T200000
DTSTAMP:20260422T135214
CREATED:20190620T170217Z
LAST-MODIFIED:20190620T170217Z
UID:2477-1564171200-1564171200@sebringrundown.com
SUMMARY:Tour Kick Off Party!
DESCRIPTION:The time has come to take our show on the road… but not before we throw a killer tour kick off at one of our favorite over-all spots for all of our favorite people and our biggest supporters!\nWith that said\, this event will be FREE to all who want to come see us off on our two month long U.S. Tour going coast to coast! \nSwamp Rats are hitting the road this summer\, only this time it’s from coast to coast! We’ll be joined by self-published author\, April Lee Fields\, as she takes you through a musical journey of her beautiful and sultry writings!\nJoin us on our cross country trip and meet us at one of our up coming shows!
URL:https://sebringrundown.com/event/tour-kick-off-party/
LOCATION:Mon Cirque Wine Bar\, 140 N. Commerce Ave.\, Sebring\, FL\, 33870
CATEGORIES:Food & Drink,Music Scene
END:VEVENT
BEGIN:VEVENT
DTSTART;TZID=America/New_York:20190726T200000
DTEND;TZID=America/New_York:20190726T200000
DTSTAMP:20260422T135214
CREATED:20190416T174112Z
LAST-MODIFIED:20190416T174112Z
UID:1338-1564171200-1564171200@sebringrundown.com
SUMMARY:Fly Away Band at Back Alley
DESCRIPTION:Fly Away Band arrives at Back Alley Bar and Grill for a night of great music\, food and drinks! \n  \nFly Away band is a High Energy band created by professional musicians who play varied music. Rock\, classic rock\, Pop\, dance\, disco\, R&B.
URL:https://sebringrundown.com/event/fly-away-band-at-back-alley/
LOCATION:Back Alley Bar & Grill\, 2710 Kenilworth Blvd.\, Sebring\, FL\, 33870
CATEGORIES:Food & Drink,Music Scene
END:VEVENT
BEGIN:VEVENT
DTSTART;TZID=America/New_York:20190722T180000
DTEND;TZID=America/New_York:20190722T180000
DTSTAMP:20260422T135214
CREATED:20190719T172954Z
LAST-MODIFIED:20190719T172954Z
UID:2649-1563818400-1563818400@sebringrundown.com
SUMMARY:Lyra/ Chair Dance Class
DESCRIPTION:Join the incredible Misty Rose for a fun night of chair dance and Lyra instruction! Sign up and prepay now to guarantee your spot!! $25 Space is limited!!! \nNo prior experience necessary \nEveryone’s welcome !!!! \n~~~~~~~~~~~~~~~~\nWhat to expect \n*This class is a safe environment everyone is expected to treat each other with respect. Hope everyone is able to express themselves and let out your inner goddess!! \nHard work and lots of fun \nLyra upper body workout \nChair/heels Legs and abb workout \nCardio \n*What to bring \n•Water \n•Small hand towel \n*What to wear \n•Leggings \n•Sports bra \n• Tank or sports long sleeve \n•Heels! Whatever style you feel the sexy in \n[Heels portion] \n✓Dont be afraid to be a little sexy because I can assure you your teacher is bringing the heat
URL:https://sebringrundown.com/event/lyra-chair-dance-class/
LOCATION:Mon Cirque Wine Bar\, 140 N. Commerce Ave.\, Sebring\, FL\, 33870
CATEGORIES:Food & Drink,Night Life
END:VEVENT
BEGIN:VEVENT
DTSTART;TZID=America/New_York:20190721T160000
DTEND;TZID=America/New_York:20190721T200000
DTSTAMP:20260422T135214
CREATED:20190711T215027Z
LAST-MODIFIED:20190711T215027Z
UID:2565-1563724800-1563739200@sebringrundown.com
SUMMARY:Twistee Treat's National Ice Cream Day Party!
DESCRIPTION:Join us in celebrating National Ice Cream Day\, Sunday July 21st from 4-8PM. Each of our stores will be having a party on the patio with fun and games for all ages\, young and old. There will also be a chance to win FREE ice cream every hour!
URL:https://sebringrundown.com/event/twistee-treats-national-ice-cream-day-party/
LOCATION:Twistee Treat\, 33711 Grand Prix Dr.\, Sebring\, FL\, 33872
CATEGORIES:Festivals,Food & Drink
END:VEVENT
BEGIN:VEVENT
DTSTART;TZID=America/New_York:20190719T200000
DTEND;TZID=America/New_York:20190719T200000
DTSTAMP:20260422T135214
CREATED:20190711T214339Z
LAST-MODIFIED:20190711T214339Z
UID:2560-1563566400-1563566400@sebringrundown.com
SUMMARY:Logan Brothers Band in Concert
DESCRIPTION:Logan Brothers Band is a 4 piece Country/Classic Rock Band with a little Blues and Jimmy Buffet music thrown in.\nThey started as a road band playing all of the big line dance clubs from Virginia to Florida to Mississippi and everything in between.
URL:https://sebringrundown.com/event/logan-brothers-band-in-concert/
LOCATION:Cowpoke’s Watering Hole\, 6813 US Hwy 27 S\, Sebring\, FL\, 33876
CATEGORIES:Food & Drink,Music Scene
END:VEVENT
BEGIN:VEVENT
DTSTART;TZID=America/New_York:20190718T183000
DTEND;TZID=America/New_York:20190718T183000
DTSTAMP:20260422T135214
CREATED:20190711T215849Z
LAST-MODIFIED:20190711T215849Z
UID:2571-1563474600-1563474600@sebringrundown.com
SUMMARY:Swamp Rats at Faded
DESCRIPTION:Swamp Rats are a unique mix of blues\, bluegrass\, punk\, folk and metal infused in a folk-esque style of music. Folk with an edge is what most people say about Florida’s “Phantom” folk band Swamp Rats.\nCheck out our other social media pages! Find us on Twitter\, Instagram\, Bandcamp and more! @swampratsmusic #swampratsmusic \nCity Newspaper\, Rochester\, New York-\n“One genre couldn’t even begin to describe Florida-based trio Swamp Rats. The style contains bits of modern train-hopping punk yet is heavily influenced by traditional bluegrass with folk underpinnings — uniquely blended with metal riffs and mucky Southern blues. Each musician plays multiple instruments\, so you’ll hear specks of acoustic guitar\, banjo\, mandolin\, stomp box\, washboard\, and despondent lyrics of life experience and the road.”
URL:https://sebringrundown.com/event/swamp-rats-at-faded-2/
LOCATION:Faded Bistro & Beer Garden\, 420 N. Ridgewood Dr.\, Sebring\, FL\, 33870
CATEGORIES:Food & Drink,Music Scene
END:VEVENT
BEGIN:VEVENT
DTSTART;TZID=America/New_York:20190714T180000
DTEND;TZID=America/New_York:20190714T180000
DTSTAMP:20260422T135214
CREATED:20190712T195941Z
LAST-MODIFIED:20190712T195941Z
UID:2581-1563127200-1563127200@sebringrundown.com
SUMMARY:Mad Stringers at Tabby's Bar and Grill
DESCRIPTION:Mad Stringers are a three piece band out of Wauchula\, Florida playing cover songs from 60’s\, 70’s to today. \nEVERY SUNDAY\nALSO\nTabby’s $3 Bloody Mary’s\nIN DINING & LOUNGE AREA\nOPEN-CLOSE
URL:https://sebringrundown.com/event/mad-stringers-at-tabbys-bar-and-grill/
LOCATION:Tabby’s Bar & Grill\, 800 U.S. 27 South\, Lake Placid\, FL\, 33852\, United States
CATEGORIES:Food & Drink,Music Scene
END:VEVENT
BEGIN:VEVENT
DTSTART;TZID=America/New_York:20190713T100000
DTEND;TZID=America/New_York:20190713T200000
DTSTAMP:20260422T135214
CREATED:20190514T174733Z
LAST-MODIFIED:20190514T174752Z
UID:1908-1563012000-1563048000@sebringrundown.com
SUMMARY:Vet Jam Summer Fest
DESCRIPTION:A great day of music\, food and fyn\, in an air conidtioned\, climate controlled venue!!!\ncome and listen to the following bands:\nTJ & The Crusiers\nHarley Archer\nHe Said\, She Said\nThe Joe Leonard Band\n& Lotela Gold\nFood @ $7.00 per plate includes:\na choice of pulled pork sandwich\, 1 hamburger or 2 hot dogs\nsides of:\nPotato Salad\nbaked beans\nCole Slaw\nDeviled Eggs \nCar Show\nFreedon Run\nVendors\nDrawings &50/50\nPLUS so much more! \n100% OF THE DAYS PROFITS GO TO LOCAL VETERANS PROJECTS & CHARITIES. \nTHIS EVENT IS FREE AND OPEN TO THE PUBLIC!\nVOLUNTEERS ARE NEEDED!\nFOR MORE INFO CALL 863-440-4554
URL:https://sebringrundown.com/event/vet-jam-summer-fest/
LOCATION:Moose Lodge Sebring\, 11675 US 98\, Sebring\, FL\, 33876
CATEGORIES:Food & Drink,Music Scene
END:VEVENT
BEGIN:VEVENT
DTSTART;TZID=America/New_York:20190712T200000
DTEND;TZID=America/New_York:20190712T200000
DTSTAMP:20260422T135214
CREATED:20190627T200153Z
LAST-MODIFIED:20190627T200153Z
UID:2522-1562961600-1562961600@sebringrundown.com
SUMMARY:Bim Mathis Birthday Bash
DESCRIPTION:SPECIAL PERFORMANCES BY THEOLODGE ASYLUM AND QUEEN FITTED ALSO MYSELF DRINKS SPECIALS INSIDE AN OUTDOOR DJ”s. EVENT YOU DONT WANNA MISS !!!! SPECIAL GUEST BELLSDABABE SUGE & More❗️❗️❗️❗️ ALSO NEW LOCATION THE GT LOUNGE FORMER CLUB CINOS
URL:https://sebringrundown.com/event/bim-mathis-birthday-bash/
LOCATION:Good Times Lounge / Club Cino\, 210 Sebring Square\, Sebring\, FL\, 33870
CATEGORIES:Food & Drink,Music Scene,Night Life
END:VEVENT
BEGIN:VEVENT
DTSTART;TZID=America/New_York:20190706T180000
DTEND;TZID=America/New_York:20190706T180000
DTSTAMP:20260422T135214
CREATED:20190522T163324Z
LAST-MODIFIED:20190522T163324Z
UID:2160-1562436000-1562436000@sebringrundown.com
SUMMARY:1st Annual Fry Eating Contest
DESCRIPTION:Apex at Seven presents the 1st Annual Fry Eating Contest! Saturday\, July 6 at 6pm. Entry fee is only $5\, and ALL PROCEEDS go to support Highlands County Sheriff’s Office Animal Services. Join us for the fun! The last person eating will win 365 days of FREE APEX BURGERS! Call today to sign up! 863.655.APEX
URL:https://sebringrundown.com/event/1st-annual-fry-eating-contest/
LOCATION:Seven Sebring Raceway Hotel\, 150 Midway Dr.\, Sebring\, FL\, 33870
CATEGORIES:Food & Drink
END:VEVENT
BEGIN:VEVENT
DTSTART;TZID=America/New_York:20190704T110000
DTEND;TZID=America/New_York:20190704T150000
DTSTAMP:20260422T135214
CREATED:20190416T193226Z
LAST-MODIFIED:20190416T193226Z
UID:1380-1562238000-1562252400@sebringrundown.com
SUMMARY:Annual Patriotic Review
DESCRIPTION:Times: Every hour 11 AM – 3 PM\n\nFREE SHOW!  Join us for a red\, white and blue celebration! Thirty minute show repeats every hour. Hot Dogs\, Brats\, Ice Cold Beer or Soda and more for sale to benefit the Scholarship fund. We award scholarships to all ages and theatrical interests\, from degree seeking university programs to skills enhancing workshops and conferences. Let us do the cooking and help us keep learning and improving at this special Independence Day event.
URL:https://sebringrundown.com/event/annual-patriotic-review/
LOCATION:Highlands Little Theater\, 356 West Center Avenue\, Sebring\, 33870\, United States
CATEGORIES:Family Friendly,Food & Drink,Non-Profit,Theater
END:VEVENT
BEGIN:VEVENT
DTSTART;TZID=America/New_York:20190626T180000
DTEND;TZID=America/New_York:20190626T220000
DTSTAMP:20260422T135214
CREATED:20190620T170112Z
LAST-MODIFIED:20190620T170112Z
UID:2475-1561572000-1561586400@sebringrundown.com
SUMMARY:A Night of Laughs
DESCRIPTION:Join us for A Night of Laughs on Wednesday\, June 26\, 2019! An all you can eat buffet starts at 6pm\, followed by the show at 7:45pm. Featuring the comedy of Andy Forrester & Dougie Almeida! Dinner and Show $29 or Show Only $19 per person. All tickets include 2 free house drinks per person. Parties of 8 or more qualify for reserved seating. Call today 863-655-7200.
URL:https://sebringrundown.com/event/a-night-of-laughs/
LOCATION:Seven Sebring Raceway Hotel\, 150 Midway Dr.\, Sebring\, FL\, 33870
CATEGORIES:Comedy,Food & Drink
END:VEVENT
BEGIN:VEVENT
DTSTART;TZID=America/New_York:20190624T170000
DTEND;TZID=America/New_York:20190624T170000
DTSTAMP:20260422T135214
CREATED:20190429T173108Z
LAST-MODIFIED:20190429T173108Z
UID:1619-1561395600-1561395600@sebringrundown.com
SUMMARY:Lake Placid Chow Down Rally
DESCRIPTION:Chow Down Food Truck Rally is heading to Lake Placid. Come enjoy us at the beautiful Stuart Park and have dinner & dessert with the best South Florida food trucks! \nFood truck is a restaurant on wheels!!! They are travelling and coming from different directions some of them is 2 hours away from South and some of them from Central State of FL…….Gourmet Food Truck is NOT Fast Food….Every meal is freshly prepared and cooked to order…to deliver the freshness to you so you can enjoy hot and fresh food!!! \nFood Trucks will be serving from 5:00 PM – 9:00 PM \nIt’s Monday night out for family – friends – fun – food and we’re pet friendly event……Bring your appetite – lawn chair – sit back and relex – enjoy gourmet food – Live Music…….\nLocation: Stuart Park\n131 E Interlake Blvd\, Lake Placid
URL:https://sebringrundown.com/event/lake-placid-chow-down-rally-3/
LOCATION:Stuart Park\, 131 E Interlake Blvd\, Lake Placid\, FL\, 33852
CATEGORIES:Family Friendly,Food & Drink
END:VEVENT
BEGIN:VEVENT
DTSTART;TZID=America/New_York:20190623T140000
DTEND;TZID=America/New_York:20190623T160000
DTSTAMP:20260422T135214
CREATED:20190620T165842Z
LAST-MODIFIED:20190620T165842Z
UID:2472-1561298400-1561305600@sebringrundown.com
SUMMARY:The Very Hungry Caterpillar's 50th Birthday Celebration
DESCRIPTION:The Very Hungry Caterpillar’s 50th Birthday Celebration at Sweet Frog in Sebring! \nJune 23 from 2 to 4\n$2 8oz Kids Cup\n$4 12 oz Adults Cup \nA special guest speaker will read The Very Hungry Caterpillar for us!\nAnd we will have coloring and activity sheets!
URL:https://sebringrundown.com/event/the-very-hungry-caterpillars-50th-birthday-celebration/
LOCATION:Sweet Frogs\, 2932 US Hwy 27 N\, Sebring\, FL\, 33870
CATEGORIES:Family Friendly,Food & Drink
END:VEVENT
BEGIN:VEVENT
DTSTART;TZID=America/New_York:20190616T180000
DTEND;TZID=America/New_York:20190616T210000
DTSTAMP:20260422T135214
CREATED:20190613T155421Z
LAST-MODIFIED:20190613T155421Z
UID:2455-1560708000-1560718800@sebringrundown.com
SUMMARY:Father's Day Special with Ran$om Band
DESCRIPTION:Come check out the Ran$om Band at Back Alley Bar & Grill! With a large number of musical influences\, you’re bound to hear a ton of songs you love!
URL:https://sebringrundown.com/event/fathers-day-special-with-ranom-band/
LOCATION:Back Alley Bar & Grill\, 2710 Kenilworth Blvd.\, Sebring\, FL\, 33870
CATEGORIES:Food & Drink,Music Scene
END:VEVENT
BEGIN:VEVENT
DTSTART;TZID=America/New_York:20190613T180000
DTEND;TZID=America/New_York:20190613T180000
DTSTAMP:20260422T135214
CREATED:20190429T175636Z
LAST-MODIFIED:20190429T175636Z
UID:1627-1560448800-1560448800@sebringrundown.com
SUMMARY:Live Florida Music at Dock 633
DESCRIPTION:Come out the prettiest town in all of Florida. Dock 633 is where all the locals hangout. Great food\, full liquor\, craft beer and great Locals! Cmere!
URL:https://sebringrundown.com/event/live-florida-music-at-dock-633/
LOCATION:Dock 633\, 633 Lake June Rd\, Lake Placid\, FL\, 33852
CATEGORIES:Food & Drink,Music Scene
END:VEVENT
BEGIN:VEVENT
DTSTART;TZID=America/New_York:20190608T213000
DTEND;TZID=America/New_York:20190608T213000
DTSTAMP:20260422T135214
CREATED:20190528T180400Z
LAST-MODIFIED:20190528T180400Z
UID:2381-1560029400-1560029400@sebringrundown.com
SUMMARY:High Five Band at Cowpoke's
DESCRIPTION:The High Five Band is a High-Energy 5 piece cover band based out of Englewood\, Florida. Performing your favorite Rock\,Pop\,Blues and Country songs.
URL:https://sebringrundown.com/event/high-five-band-at-cowpokes-2/
LOCATION:Cowpoke’s Watering Hole\, 6813 US Hwy 27 S\, Sebring\, FL\, 33876
CATEGORIES:Food & Drink,Music Scene
END:VEVENT
BEGIN:VEVENT
DTSTART;TZID=America/New_York:20190607T213000
DTEND;TZID=America/New_York:20190607T213000
DTSTAMP:20260422T135214
CREATED:20190528T180322Z
LAST-MODIFIED:20190528T180322Z
UID:2379-1559943000-1559943000@sebringrundown.com
SUMMARY:High Five Band at Cowpoke's
DESCRIPTION:The High Five Band is a High-Energy 5 piece cover band based out of Englewood\, Florida. Performing your favorite Rock\,Pop\,Blues and Country songs.
URL:https://sebringrundown.com/event/high-five-band-at-cowpokes/
LOCATION:Cowpoke’s Watering Hole\, 6813 US Hwy 27 S\, Sebring\, FL\, 33876
CATEGORIES:Food & Drink,Music Scene
END:VEVENT
BEGIN:VEVENT
DTSTART;TZID=America/New_York:20190601T213000
DTEND;TZID=America/New_York:20190601T213000
DTSTAMP:20260422T135214
CREATED:20190419T182532Z
LAST-MODIFIED:20190419T182532Z
UID:1551-1559424600-1559424600@sebringrundown.com
SUMMARY:Josh Blevins Band
DESCRIPTION:Live country music from the one and only JBB.\nTwo nights in a row at Cowpoke’s Watering Hole. JBB will be hitting the stage at 9:30pm Friday and Saturday…Come on out!
URL:https://sebringrundown.com/event/josh-blevins-band-2/
LOCATION:Cowpoke’s Watering Hole\, 6813 US Hwy 27 S\, Sebring\, FL\, 33876
CATEGORIES:Food & Drink,Music Scene
END:VEVENT
BEGIN:VEVENT
DTSTART;TZID=America/New_York:20190601T210000
DTEND;TZID=America/New_York:20190601T210000
DTSTAMP:20260422T135214
CREATED:20190523T190312Z
LAST-MODIFIED:20190523T190312Z
UID:2314-1559422800-1559422800@sebringrundown.com
SUMMARY:Jaxson's on the Lake - Red Hannah
DESCRIPTION:Red Hannah is tearin’ it up on the lake! Saturday\, June 9th at Jaxson’s Lake Placid! Let’s do this!
URL:https://sebringrundown.com/event/jaxsons-on-the-lake-red-hannah/
LOCATION:Jaxson’s on the Lake\, 443 Lake June Rd.\, Lake Placid\, FL\, 33852
CATEGORIES:Food & Drink,Music Scene
END:VEVENT
BEGIN:VEVENT
DTSTART;TZID=America/New_York:20190601T100000
DTEND;TZID=America/New_York:20190601T140000
DTSTAMP:20260422T135214
CREATED:20190419T181353Z
LAST-MODIFIED:20190419T181353Z
UID:1543-1559383200-1559397600@sebringrundown.com
SUMMARY:The All American Car Show
DESCRIPTION:COME AND ENJOY GREAT FOOD AND GREAT MUSIC WHILE CHECKING OUT SOME OF THE COOLEST CAR AROUND!!!
URL:https://sebringrundown.com/event/the-all-american-car-show-2/
LOCATION:All American Grill\, 3400 Sebring Parkway\, Sebring\, FL\, 33870
CATEGORIES:Food & Drink,Music Scene
END:VEVENT
BEGIN:VEVENT
DTSTART;TZID=America/New_York:20190531T213000
DTEND;TZID=America/New_York:20190531T213000
DTSTAMP:20260422T135214
CREATED:20190419T182453Z
LAST-MODIFIED:20190419T182453Z
UID:1549-1559338200-1559338200@sebringrundown.com
SUMMARY:Josh Blevins Band
DESCRIPTION:Live country music from the one and only JBB.\nTwo nights in a row at Cowpoke’s Watering Hole. JBB will be hitting the stage at 9:30pm Friday and Saturday…Come on out!
URL:https://sebringrundown.com/event/josh-blevins-band/
LOCATION:Cowpoke’s Watering Hole\, 6813 US Hwy 27 S\, Sebring\, FL\, 33876
CATEGORIES:Food & Drink,Music Scene
END:VEVENT
BEGIN:VEVENT
DTSTART;TZID=America/New_York:20190531T210000
DTEND;TZID=America/New_York:20190531T210000
DTSTAMP:20260422T135214
CREATED:20190530T165037Z
LAST-MODIFIED:20190530T165037Z
UID:2442-1559336400-1559336400@sebringrundown.com
SUMMARY:VooDoo Kings at Tabby's
DESCRIPTION:Come join us at Tabby’s Bar and Grill this Friday the 31st for an awesome night of rock. Ice cold beer\, the juiciest burgers in town and great service! The Voodoo Kings will be rocking the house from 9-12!
URL:https://sebringrundown.com/event/voodoo-kings-at-tabbys/
LOCATION:Tabby’s Bar & Grill\, 800 U.S. 27 South\, Lake Placid\, FL\, 33852\, United States
CATEGORIES:Food & Drink,Music Scene
END:VEVENT
BEGIN:VEVENT
DTSTART;TZID=America/New_York:20190531T183000
DTEND;TZID=America/New_York:20190531T210000
DTSTAMP:20260422T135214
CREATED:20190507T161458Z
LAST-MODIFIED:20190507T161458Z
UID:1757-1559327400-1559336400@sebringrundown.com
SUMMARY:Learn To Love Plants Dinner Event
DESCRIPTION:
URL:https://sebringrundown.com/event/learn-to-love-plants-dinner-event-2/
LOCATION:Good News Juice & Smoothie Cafe\, 231 N Main Ave\, Lake Placid\, FL\, 33852
CATEGORIES:Food & Drink
END:VEVENT
BEGIN:VEVENT
DTSTART;TZID=America/New_York:20190531T183000
DTEND;TZID=America/New_York:20190531T183000
DTSTAMP:20260422T135214
CREATED:20190429T174338Z
LAST-MODIFIED:20190429T174338Z
UID:1624-1559327400-1559327400@sebringrundown.com
SUMMARY:Learn to Love Plants Dinner Event
DESCRIPTION:Join us for a 4 Course Plant-Based Dinner Event that includes: nutrition education\, live music\, organic wine\, craft beer\, and a really great time!!\nYour Hosts:\nTeri Grooms/Cafe Owner/Certified Health Minister\nJennifer Duncan\, Holistic Health Coach\nJennifer Lipowski\, Holistic Health Coach\nCall (863) 699-9447 for tickets!! (Good News Cafe) \nMay 31st\n6:30 PM to 9 PM\n$50 per person\nReservations required.
URL:https://sebringrundown.com/event/learn-to-love-plants-dinner-event/
LOCATION:Good News Juice & Smoothie Cafe\, 231 N Main Ave\, Lake Placid\, FL\, 33852
CATEGORIES:Food & Drink
END:VEVENT
BEGIN:VEVENT
DTSTART;TZID=America/New_York:20190530T180000
DTEND;TZID=America/New_York:20190530T180000
DTSTAMP:20260422T135214
CREATED:20190426T180909Z
LAST-MODIFIED:20190426T180909Z
UID:1602-1559239200-1559239200@sebringrundown.com
SUMMARY:Sebring $5 Wine Tour
DESCRIPTION:Become an expert and join us at our mini wine tastings every last Thursday of the month. Visit participating ABC locations and explore our exclusive wines from our Sourced & Certified collection. Thursday\, May 30th\, 6 – 7:30 pm. \nThis month\, find the difference between Old World vs. New World wines.
URL:https://sebringrundown.com/event/sebring-5-wine-tour-2/
LOCATION:ABC Fine Wine & Spirits\, 2311 US Hwy 27 N\, Sebring\, FL\, 33870
CATEGORIES:Food & Drink
END:VEVENT
BEGIN:VEVENT
DTSTART;TZID=America/New_York:20190530T170000
DTEND;TZID=America/New_York:20190530T200000
DTSTAMP:20260422T135214
CREATED:20190528T175334Z
LAST-MODIFIED:20190528T175334Z
UID:2367-1559235600-1559246400@sebringrundown.com
SUMMARY:$.75 Wing Thursday at Palmano's!
DESCRIPTION:Come on out to Palmano’s Pizzeria every Thursday for $.75 wings!\n5-8pm dine-in only.
URL:https://sebringrundown.com/event/75-wing-thursday-at-palmanos/
LOCATION:Palmano’s Pizzeria\, 3229 Kennilworth Blvd\, Sebring\, FL\, 33870
CATEGORIES:Food & Drink
END:VEVENT
BEGIN:VEVENT
DTSTART;TZID=America/New_York:20190529T180000
DTEND;TZID=America/New_York:20190529T220000
DTSTAMP:20260422T135214
CREATED:20190514T181736Z
LAST-MODIFIED:20190514T181736Z
UID:1929-1559152800-1559167200@sebringrundown.com
SUMMARY:Johnny Cash & Friends Tribute
DESCRIPTION:Join us on Wednesday\, May 29th for Johnny Cash & Friends! All your classic favorites\, including Johnny Cash\, June Carter\, Patsy Cline\, and Waylon Jennings! Dinner and Show $39 per person\, Show only $29 per person. Overnight rooms starting at $69 per person (based on double occupancy). All purchases include 2 complimentary house drinks per person! Parties of 8 or more qualify for reserved seating. RSVP today 863-655-7200
URL:https://sebringrundown.com/event/johnny-cash-friends-tribute/
LOCATION:Seven Sebring Raceway Hotel\, 150 Midway Dr.\, Sebring\, FL\, 33870
CATEGORIES:Food & Drink,Music Scene
END:VEVENT
BEGIN:VEVENT
DTSTART;TZID=America/New_York:20190529T170000
DTEND;TZID=America/New_York:20190529T200000
DTSTAMP:20260422T135214
CREATED:20190528T175556Z
LAST-MODIFIED:20190528T175556Z
UID:2373-1559149200-1559160000@sebringrundown.com
SUMMARY:$5 All-You-Can-Eat Pasta at Palmano's!
DESCRIPTION:$5 All-you-can-eat pasta Wednesday nights at Palmano’s Pizzeria!\n5-8pm Dine-in only.
URL:https://sebringrundown.com/event/5-all-you-can-eat-pasta-at-palmanos/
LOCATION:Palmano’s Pizzeria\, 3229 Kennilworth Blvd\, Sebring\, FL\, 33870
CATEGORIES:Food & Drink
END:VEVENT
END:VCALENDAR