BEGIN:VCALENDAR
VERSION:2.0
PRODID:-//Sebring Rundown - ECPv6.15.20//NONSGML v1.0//EN
CALSCALE:GREGORIAN
METHOD:PUBLISH
X-WR-CALNAME:Sebring Rundown
X-ORIGINAL-URL:https://sebringrundown.com
X-WR-CALDESC:Events for Sebring Rundown
REFRESH-INTERVAL;VALUE=DURATION:PT1H
X-Robots-Tag:noindex
X-PUBLISHED-TTL:PT1H
BEGIN:VTIMEZONE
TZID:America/New_York
BEGIN:DAYLIGHT
TZOFFSETFROM:-0500
TZOFFSETTO:-0400
TZNAME:EDT
DTSTART:20180311T070000
END:DAYLIGHT
BEGIN:STANDARD
TZOFFSETFROM:-0400
TZOFFSETTO:-0500
TZNAME:EST
DTSTART:20181104T060000
END:STANDARD
BEGIN:DAYLIGHT
TZOFFSETFROM:-0500
TZOFFSETTO:-0400
TZNAME:EDT
DTSTART:20190310T070000
END:DAYLIGHT
BEGIN:STANDARD
TZOFFSETFROM:-0400
TZOFFSETTO:-0500
TZNAME:EST
DTSTART:20191103T060000
END:STANDARD
BEGIN:DAYLIGHT
TZOFFSETFROM:-0500
TZOFFSETTO:-0400
TZNAME:EDT
DTSTART:20200308T070000
END:DAYLIGHT
BEGIN:STANDARD
TZOFFSETFROM:-0400
TZOFFSETTO:-0500
TZNAME:EST
DTSTART:20201101T060000
END:STANDARD
END:VTIMEZONE
BEGIN:VEVENT
DTSTART;TZID=America/New_York:20190525T203000
DTEND;TZID=America/New_York:20190525T203000
DTSTAMP:20260425T075157
CREATED:20190516T181945Z
LAST-MODIFIED:20190516T181945Z
UID:2048-1558816200-1558816200@sebringrundown.com
SUMMARY:Comedy Night
DESCRIPTION:Comedy Night\nSaturday May 25\nShow 8:30\nAges 18&Up \nShow & Dinner $25\nShow Only $1o \nWilliam Sloan and Marie Williams\nHosted by ZoeBoe69 \nFirst 20 Guests get a FREE Margarita!
URL:https://sebringrundown.com/event/comedy-night/
LOCATION:Senor Jalapeno\, 2451 US Hwy 27\, Avon Park\, FL\, 33825
CATEGORIES:Comedy,Food & Drink
END:VEVENT
BEGIN:VEVENT
DTSTART;TZID=America/New_York:20190525T090000
DTEND;TZID=America/New_York:20190525T170000
DTSTAMP:20260425T075157
CREATED:20190514T181925Z
LAST-MODIFIED:20190514T181925Z
UID:1931-1558774800-1558803600@sebringrundown.com
SUMMARY:Live Cell Analysis
DESCRIPTION:This is an individual 30 min session that costs $50.00 And is by appointment only! Call or stop in to reserve your spot!
URL:https://sebringrundown.com/event/live-cell-analysis/
LOCATION:Food For Thought\, 301 US Hwy 27 N.\, Sebring\, FL\, 33870
CATEGORIES:Food & Drink
END:VEVENT
BEGIN:VEVENT
DTSTART;TZID=America/New_York:20190523T183000
DTEND;TZID=America/New_York:20190523T213000
DTSTAMP:20260425T075157
CREATED:20190507T205024Z
LAST-MODIFIED:20190507T205024Z
UID:1797-1558636200-1558647000@sebringrundown.com
SUMMARY:Poor Boys of Paris at Faded
DESCRIPTION:6:30 pm – 9:30 pm
URL:https://sebringrundown.com/event/poor-boys-of-paris-at-faded/
LOCATION:Faded Bistro & Beer Garden\, 420 N. Ridgewood Dr.\, Sebring\, FL\, 33870
CATEGORIES:Food & Drink,Music Scene
END:VEVENT
BEGIN:VEVENT
DTSTART;TZID=America/New_York:20190519T110000
DTEND;TZID=America/New_York:20190519T110000
DTSTAMP:20260425T075157
CREATED:20190516T201824Z
LAST-MODIFIED:20190516T201824Z
UID:2095-1558263600-1558263600@sebringrundown.com
SUMMARY:Thyme 2 Dine Streatery
DESCRIPTION:Brunch all day starting at 11am at Sugar Sand Distillery. \nMusic 11:30-1:30 \nRock N Country Duo\nwith Phil and Cheryl Eddings
URL:https://sebringrundown.com/event/thyme-2-dine-streatery/
LOCATION:Sugar Sand Distillery\, 264 Henscratch Rd\, Lake Placid\, FL\, 33852
CATEGORIES:Food & Drink,Music Scene
END:VEVENT
BEGIN:VEVENT
DTSTART;TZID=America/New_York:20190518T210000
DTEND;TZID=America/New_York:20190518T210000
DTSTAMP:20260425T075157
CREATED:20190416T173816Z
LAST-MODIFIED:20190416T173816Z
UID:1336-1558213200-1558213200@sebringrundown.com
SUMMARY:Blackbird Anthem at Back Alley
DESCRIPTION:Full band show at Back Alley! \nFronted by decorated Iraq war veteran Adam Martin\, Blackbird Anthem is on a mission to revive original southern rock music while giving back to the veteran community. With tales of love\, loss\, regret and redemption\, Blackbird Anthem brings a unique sound and story to today’s music scene.
URL:https://sebringrundown.com/event/blackbird-anthem-at-back-alley/
LOCATION:Back Alley Bar & Grill\, 2710 Kenilworth Blvd.\, Sebring\, FL\, 33870
CATEGORIES:Food & Drink,Music Scene
END:VEVENT
BEGIN:VEVENT
DTSTART;TZID=America/New_York:20190518T200000
DTEND;TZID=America/New_York:20190518T200000
DTSTAMP:20260425T075157
CREATED:20190429T175918Z
LAST-MODIFIED:20190429T175918Z
UID:1630-1558209600-1558209600@sebringrundown.com
SUMMARY:Blackbird Anthem at Dock 633
DESCRIPTION:Adam & Lee of Blackbird Anthem\, duo acoustic.
URL:https://sebringrundown.com/event/blackbird-anthem-at-dock-633/
LOCATION:Dock 633\, 633 Lake June Rd\, Lake Placid\, FL\, 33852
CATEGORIES:Food & Drink,Music Scene
END:VEVENT
BEGIN:VEVENT
DTSTART;TZID=America/New_York:20190518T150000
DTEND;TZID=America/New_York:20190518T150000
DTSTAMP:20260425T075157
CREATED:20190514T173150Z
LAST-MODIFIED:20190514T173150Z
UID:1899-1558191600-1558191600@sebringrundown.com
SUMMARY:Palmano's Rock\, Paper\, Scissor's Tournament
DESCRIPTION:Prizes – Good food – Drinks – & more! \nCome to Palmano’s on Saturday May 18th for our Rock\, Paper\, Scissors tournament. The tournament starts at 3 PM and is open to the first 16 people that sign up. Participants must be 21 or older. The winner at Palmano’s will receive a $25 dollar food/drink credit and get to move on for a chance to win a trip to the Florida Keys. We will also have Budweiser drink specials – including Bud light lime\, orange\, and lemon tea!
URL:https://sebringrundown.com/event/palmanos-rock-paper-scissors-tournament/
LOCATION:Palmano’s Pizzeria\, 3229 Kennilworth Blvd\, Sebring\, FL\, 33870
CATEGORIES:Food & Drink
END:VEVENT
BEGIN:VEVENT
DTSTART;TZID=America/New_York:20190518T060000
DTEND;TZID=America/New_York:20190518T170000
DTSTAMP:20260425T075157
CREATED:20190516T135900Z
LAST-MODIFIED:20190516T135900Z
UID:1975-1558159200-1558198800@sebringrundown.com
SUMMARY:Sophie's Cafe Grand Opening
DESCRIPTION:Sophie’s Cafe Grand Opening!\n5-18-2019 \nBreakfast – Lunch – Pastries\n6AM – 5PM \nsophiescafellc@gmail.com\n863.451.5996\n863.451.5982
URL:https://sebringrundown.com/event/sophies-cafe-grand-opening/
LOCATION:Sophie’s Cafe\, 120 Sebring Square\, Sebring\, FL\, 33870
CATEGORIES:Food & Drink
END:VEVENT
BEGIN:VEVENT
DTSTART;TZID=America/New_York:20190516T183000
DTEND;TZID=America/New_York:20190516T213000
DTSTAMP:20260425T075157
CREATED:20190507T204859Z
LAST-MODIFIED:20190507T205048Z
UID:1792-1558031400-1558042200@sebringrundown.com
SUMMARY:Swamp Rats at Faded
DESCRIPTION:From 6:30pm to 9:30pm.
URL:https://sebringrundown.com/event/swamp-rats/
LOCATION:Faded Bistro & Beer Garden\, 420 N. Ridgewood Dr.\, Sebring\, FL\, 33870
CATEGORIES:Food & Drink,Music Scene
END:VEVENT
BEGIN:VEVENT
DTSTART;TZID=America/New_York:20190513T170000
DTEND;TZID=America/New_York:20190513T200000
DTSTAMP:20260425T075157
CREATED:20190419T181739Z
LAST-MODIFIED:20190419T181739Z
UID:1547-1557766800-1557777600@sebringrundown.com
SUMMARY:Aubrey Wollett Live
DESCRIPTION:Country Music\, Songwriter\, Artist. Aubrey Wollett is originally from Dunedin\, FL and has been pursuing her music career in Nashville\, TN. Her country music soul and sound mixed with her beach flair will have you listening on repeat. She has opened up for Billy Currington\, Hunter Hayes\, Tanya Tucker\, Jerrod Niemann\, Carly Pearce\, Michael Ray\, Josh Gracin\, and also for one of Jay Leno’s comedy tours! Wollett’s recent single “Saltwater Gypsy” premiered on CMT and stayed in the #1 top viewed videos for a week. Her music is available online everywhere and you can find her touring mostly in the southeast.
URL:https://sebringrundown.com/event/aubrey-wollett-live/
LOCATION:Back Alley Bar & Grill\, 2710 Kenilworth Blvd.\, Sebring\, FL\, 33870
CATEGORIES:Food & Drink,Music Scene
END:VEVENT
BEGIN:VEVENT
DTSTART;TZID=America/New_York:20190512T170000
DTEND;TZID=America/New_York:20190512T200000
DTSTAMP:20260425T075157
CREATED:20190426T174637Z
LAST-MODIFIED:20190426T174637Z
UID:1593-1557680400-1557691200@sebringrundown.com
SUMMARY:M-Squared Live at Dimitri's Back Alley Bar & Grill
DESCRIPTION:Playing your favorites from the 50s\, 60s\, and 70s.
URL:https://sebringrundown.com/event/m-squared-live-at-dimitris-back-alley-bar-grill/
LOCATION:Back Alley Bar & Grill\, 2710 Kenilworth Blvd.\, Sebring\, FL\, 33870
CATEGORIES:Food & Drink,Music Scene
END:VEVENT
BEGIN:VEVENT
DTSTART;TZID=America/New_York:20190512T120000
DTEND;TZID=America/New_York:20190512T170000
DTSTAMP:20260425T075157
CREATED:20190507T162520Z
LAST-MODIFIED:20190507T182151Z
UID:1762-1557662400-1557680400@sebringrundown.com
SUMMARY:Celebrate Mom at Chicanes
DESCRIPTION:
URL:https://sebringrundown.com/event/celebrate-mom-at-chicanes/
LOCATION:Chicanes Restaurant & Bar\, 3101 Golfview Rd.\, Sebring\, FL\, 33870
CATEGORIES:Food & Drink
END:VEVENT
BEGIN:VEVENT
DTSTART;TZID=America/New_York:20190512T110000
DTEND;TZID=America/New_York:20190512T140000
DTSTAMP:20260425T075157
CREATED:20190507T192548Z
LAST-MODIFIED:20190507T192548Z
UID:1774-1557658800-1557669600@sebringrundown.com
SUMMARY:Mother's Day Brunch - Sunrise at Seven
DESCRIPTION:Treat Mom to an all you can eat brunch this Mother’s Day at Sunrise @ Seven! So many items to choose from for only $31 per person. RSVP today. 863-655-7200
URL:https://sebringrundown.com/event/mothers-day-brunch-sunrise-at-seven/
LOCATION:Seven Sebring Raceway Hotel\, 150 Midway Dr.\, Sebring\, FL\, 33870
CATEGORIES:Food & Drink
END:VEVENT
BEGIN:VEVENT
DTSTART;TZID=America/New_York:20190512T100000
DTEND;TZID=America/New_York:20190512T140000
DTSTAMP:20260425T075157
CREATED:20190507T185652Z
LAST-MODIFIED:20190507T185652Z
UID:1770-1557655200-1557669600@sebringrundown.com
SUMMARY:Mother's Day Brunch at Faded
DESCRIPTION:Celebrate Mother’s Day with brunch at Faded from 10 am- 2 pm.
URL:https://sebringrundown.com/event/mothers-day-brunch-at-faded/
LOCATION:Faded Bistro & Beer Garden\, 420 N. Ridgewood Dr.\, Sebring\, FL\, 33870
CATEGORIES:Food & Drink
END:VEVENT
BEGIN:VEVENT
DTSTART;TZID=America/New_York:20190511T113000
DTEND;TZID=America/New_York:20190511T140000
DTSTAMP:20260425T075157
CREATED:20190507T204710Z
LAST-MODIFIED:20190507T204740Z
UID:1788-1557574200-1557583200@sebringrundown.com
SUMMARY:Mad Stringers at Faded
DESCRIPTION:11:30 am – 2:00 pm
URL:https://sebringrundown.com/event/mad-stringers-at-faded-2/
LOCATION:Faded Bistro & Beer Garden\, 420 N. Ridgewood Dr.\, Sebring\, FL\, 33870
CATEGORIES:Food & Drink,Music Scene
END:VEVENT
BEGIN:VEVENT
DTSTART;TZID=America/New_York:20190511T070000
DTEND;TZID=America/New_York:20190511T070000
DTSTAMP:20260425T075157
CREATED:20190419T181612Z
LAST-MODIFIED:20190419T181612Z
UID:1545-1557558000-1557558000@sebringrundown.com
SUMMARY:Breakfast Ride: EAA Fundraising Breakfast
DESCRIPTION:Dutch Treat breakfast ride from The 204 to Sebring Airport to support the EAA monthly fundraising breakfast. They typically charge $6 for a single plate or $8 for all-you-can-eat. Additional donations welcome. \nWe’ll depart no later than 7:30 a.m. riding directly to the airport (7.5 miles) and back or sometimes mixing it up with an earlier departure and adding some side streets. \nAnybody who can ride 12 mph or fast is welcome. All minors are the sole responsibility of their adult/parent/guardian.
URL:https://sebringrundown.com/event/breakfast-ride-eaa-fundraising-breakfast/
LOCATION:Legacy Bicycles\, 204 S. Ridgewood Dr.\, Sebring\, FL\, 33870
CATEGORIES:Food & Drink,Sports
END:VEVENT
BEGIN:VEVENT
DTSTART;TZID=America/New_York:20190511T050000
DTEND;TZID=America/New_York:20190511T140000
DTSTAMP:20260425T075157
CREATED:20190507T195138Z
LAST-MODIFIED:20190507T204410Z
UID:1781-1557550800-1557583200@sebringrundown.com
SUMMARY:Saturday Mother's Day Breakfast at Dee's Place
DESCRIPTION:Dee’s Place has been happily serving our community for the last 20 years! It’s the place for a classic Mother’s Day breakfast and quality service. Open 5 am – 2 pm.
URL:https://sebringrundown.com/event/mothers-day-breakfast-at-dees-place/
LOCATION:Dee’s Place\, 138 N Ridgewood Dr\, Sebring\, FL\, United States
CATEGORIES:Food & Drink
END:VEVENT
BEGIN:VEVENT
DTSTART;TZID=America/New_York:20190509T180000
DTEND;TZID=America/New_York:20190509T210000
DTSTAMP:20260425T075157
CREATED:20190507T204519Z
LAST-MODIFIED:20190507T204541Z
UID:1786-1557424800-1557435600@sebringrundown.com
SUMMARY:Faze III at Faded
DESCRIPTION: 6:00 pm – 9:00 pm
URL:https://sebringrundown.com/event/faze-iii-at-faded/
LOCATION:Faded Bistro & Beer Garden\, 420 N. Ridgewood Dr.\, Sebring\, FL\, 33870
CATEGORIES:Food & Drink,Music Scene
END:VEVENT
BEGIN:VEVENT
DTSTART;TZID=America/New_York:20190505T160000
DTEND;TZID=America/New_York:20190505T160000
DTSTAMP:20260425T075157
CREATED:20190426T174529Z
LAST-MODIFIED:20190426T174529Z
UID:1591-1557072000-1557072000@sebringrundown.com
SUMMARY:Cinco De Mayo! Come & Join the Fun!
DESCRIPTION:Party at All American Grill!!\nCelebrating Cinco De Mayo!!!\nGreat food\, great music\, lots of game\, booze & laughter!
URL:https://sebringrundown.com/event/cinco-de-mayo-come-join-the-fun/
LOCATION:All American Grill\, 3400 Sebring Parkway\, Sebring\, FL\, 33870
CATEGORIES:Food & Drink
END:VEVENT
BEGIN:VEVENT
DTSTART;TZID=America/New_York:20190505T153000
DTEND;TZID=America/New_York:20190505T183000
DTSTAMP:20260425T075157
CREATED:20190426T175331Z
LAST-MODIFIED:20190426T175331Z
UID:1597-1557070200-1557081000@sebringrundown.com
SUMMARY:Cinco De Mayo at Carlie Lynne's
DESCRIPTION:Party for Cinco de Mayo! Bring your best salsa\, $1 entry\, best salsa takes the pot! Cold drinks\, friends\, live music!
URL:https://sebringrundown.com/event/cinco-de-mayo-at-carlie-lynnes/
LOCATION:Carlie Lynne’s Bar\, 9119 US Hwy 27 S\, Sebring\, FL\, 33876
CATEGORIES:Food & Drink,Music Scene
END:VEVENT
BEGIN:VEVENT
DTSTART;TZID=America/New_York:20190504T190000
DTEND;TZID=America/New_York:20190504T190000
DTSTAMP:20260425T075157
CREATED:20190426T182137Z
LAST-MODIFIED:20190426T182137Z
UID:1610-1556996400-1556996400@sebringrundown.com
SUMMARY:Comedy Night at Señor Jalapeño
DESCRIPTION:Comedy Night is back!\nSaturday May 4 \nRio Paris\, Christina Foreman\, Zooe Boe69 \n18 & up \nDinner and Show $25 at door\n$20 pre-sale\n$10 show only \nDinner Seating @ 7pm\nShow @ 8:30pm \nReservations 863.201.7910
URL:https://sebringrundown.com/event/comedy-night-at-senor-jalapeno-2/
LOCATION:Senor Jalapeno\, 2451 US Hwy 27\, Avon Park\, FL\, 33825
CATEGORIES:Comedy,Food & Drink
END:VEVENT
BEGIN:VEVENT
DTSTART;TZID=America/New_York:20190504T160000
DTEND;TZID=America/New_York:20190504T190000
DTSTAMP:20260425T075157
CREATED:20190412T185414Z
LAST-MODIFIED:20190416T161723Z
UID:1126-1556985600-1556996400@sebringrundown.com
SUMMARY:Kentucky Derby Party
DESCRIPTION:Grab your biggest hat and join us at the Run for the Roses festivities as the Highlands Art League celebrates the Kentucky Derby and raise funds for the Kids Art Camp by hosting a Derby Party on Saturday\, May 4. The event will feature mint juleps\, drinks & appetizers\, hat contest\, and the race streamed live on a big screen.\nSave the date and get ready to place your bets for an afternoon of fun and “The Greatest Two Minutes in Sports!” Sponsorships available. Tickets are $55/person or $100/couple on sale now at www.HighlandsArtLeague.org.
URL:https://sebringrundown.com/event/kentucky-derby-party/
LOCATION:Faded Bistro & Beer Garden\, 420 N. Ridgewood Dr.\, Sebring\, FL\, 33870
CATEGORIES:Food & Drink,Non-Profit
END:VEVENT
BEGIN:VEVENT
DTSTART;TZID=America/New_York:20190504T100000
DTEND;TZID=America/New_York:20190504T140000
DTSTAMP:20260425T075157
CREATED:20190419T181306Z
LAST-MODIFIED:20190419T181306Z
UID:1540-1556964000-1556978400@sebringrundown.com
SUMMARY:The All American Car Show
DESCRIPTION:COME AND ENJOY GREAT FOOD AND GREAT MUSIC WHILE CHECKING OUT SOME OF THE COOLEST CAR AROUND!!!
URL:https://sebringrundown.com/event/the-all-american-car-show/
LOCATION:All American Grill\, 3400 Sebring Parkway\, Sebring\, FL\, 33870
CATEGORIES:Food & Drink,Music Scene
END:VEVENT
BEGIN:VEVENT
DTSTART;TZID=America/New_York:20190503T200000
DTEND;TZID=America/New_York:20190503T230000
DTSTAMP:20260425T075157
CREATED:20190412T202430Z
LAST-MODIFIED:20190412T202430Z
UID:1271-1556913600-1556924400@sebringrundown.com
SUMMARY:The Black Honkeys in Concert
DESCRIPTION:Tampa’s best band is back. Come jam to the cool jazz and funk of local favorites The Black Honkeys. One night limited engagement only on Friday May 3rd.
URL:https://sebringrundown.com/event/the-black-honkeys-in-concert/
LOCATION:Cowpoke’s Watering Hole\, 6813 US Hwy 27 S\, Sebring\, FL\, 33876
CATEGORIES:Food & Drink,Music Scene
END:VEVENT
BEGIN:VEVENT
DTSTART;TZID=America/New_York:20190429T170000
DTEND;TZID=America/New_York:20190429T170000
DTSTAMP:20260425T075157
CREATED:20190429T172925Z
LAST-MODIFIED:20190429T172925Z
UID:1614-1556557200-1556557200@sebringrundown.com
SUMMARY:Lake Placid Chow Down Rally
DESCRIPTION:Chow Down Food Truck Rally is heading to Lake Placid on April 29th\, 2019. Come enjoy us at the beautiful Stuart Park and have dinner & dessert with the best South Florida food trucks! \nFood truck is a restaurant on wheels!!! They are travelling and coming from different directions some of them is 2 hours away from South and some of them from Central State of FL…….Gourmet Food Truck is NOT Fast Food….Every meal is freshly prepared and cooked to order…to deliver the freshness to you so you can enjoy hot and fresh food!!! \nFood Trucks will be serving from 5:00 PM – 9:00 PM \nIt’s Monday night out for family – friends – fun – food and we’re pet friendly event……Bring your appetite – lawn chair – sit back and relex – enjoy gourmet food – Live Music…….\nLocation: Stuart Park\n131 E Interlake Blvd\, Lake Placid
URL:https://sebringrundown.com/event/lake-placid-chow-down-rally/
LOCATION:Stuart Park\, 131 E Interlake Blvd\, Lake Placid\, FL\, 33852
CATEGORIES:Family Friendly,Food & Drink
END:VEVENT
BEGIN:VEVENT
DTSTART;TZID=America/New_York:20190428T153000
DTEND;TZID=America/New_York:20190428T183000
DTSTAMP:20260425T075157
CREATED:20190426T175146Z
LAST-MODIFIED:20190426T175146Z
UID:1595-1556465400-1556476200@sebringrundown.com
SUMMARY:Lee Allcorn Band at Carlie Lynne's
DESCRIPTION:Beginning of Summer Bash. \nLongshot is a country band\, playing classic country and originals written by Lee Allcorn. We play locally in Highlands County and enjoy what we do. So if you enjoy country music and having a good time come check us out where we are playing!
URL:https://sebringrundown.com/event/lee-allcorn-band-at-carlie-lynnes/
LOCATION:Carlie Lynne’s Bar\, 9119 US Hwy 27 S\, Sebring\, FL\, 33876
CATEGORIES:Food & Drink,Music Scene
END:VEVENT
BEGIN:VEVENT
DTSTART;TZID=America/New_York:20190428T150000
DTEND;TZID=America/New_York:20190428T180000
DTSTAMP:20260425T075157
CREATED:20190412T195457Z
LAST-MODIFIED:20190415T172736Z
UID:1213-1556463600-1556474400@sebringrundown.com
SUMMARY:Cory Greenway (Solo)
DESCRIPTION:Cory Greenway has been blessed with the love and gift of music. His musical roots are deeply buried in traditional county\, bluegrass\, rock and blues. \nKick back at the laid-back Wild Turkey Tavern\, the perfect Sunday afternoon chill spot! Live tunes\, great food\, full bar\, cool staff\, and fun vibe! It’s #SundayFunday at Wild Turkey Tavern!
URL:https://sebringrundown.com/event/cory-greenway-solo/
LOCATION:Wild Turkey Tavern\, 2751 US Hwy 27 S.\, Avon Park\, FL\, 33825
CATEGORIES:Food & Drink,Music Scene
END:VEVENT
BEGIN:VEVENT
DTSTART;TZID=America/New_York:20190427T210000
DTEND;TZID=America/New_York:20190427T210000
DTSTAMP:20260425T075157
CREATED:20190412T195252Z
LAST-MODIFIED:20190415T172438Z
UID:1209-1556398800-1556398800@sebringrundown.com
SUMMARY:Blackbird Anthem
DESCRIPTION:Fronted by decorated Iraq war veteran Adam Martin\, Blackbird Anthem is on a mission to revive original southern rock music while giving back to the veteran community. With tales of love\, loss\, regret and redemption\, Blackbird Anthem brings a unique sound and story to today’s music scene. \nWild Turkey Tavern is all about good food\, cold beer\, friendly service\, a laid-back vibe\, and great music! What better way to spend a Saturday night than with us?
URL:https://sebringrundown.com/event/black-bird-anthem/
LOCATION:Wild Turkey Tavern\, 2751 US Hwy 27 S.\, Avon Park\, FL\, 33825
CATEGORIES:Food & Drink,Music Scene
END:VEVENT
BEGIN:VEVENT
DTSTART;TZID=America/New_York:20190427T200000
DTEND;TZID=America/New_York:20190427T200000
DTSTAMP:20260425T075157
CREATED:20190412T202323Z
LAST-MODIFIED:20190412T202323Z
UID:1269-1556395200-1556395200@sebringrundown.com
SUMMARY:Rye Road Rockin' Weekend
DESCRIPTION:Rye Road Live On Stage at Cowpokes. Show Dates Fri April 26th and Sat. April 27th. \nKaraoke in the TIKI
URL:https://sebringrundown.com/event/rye-road-rockin-weekend-2/
LOCATION:Cowpoke’s Watering Hole\, 6813 US Hwy 27 S\, Sebring\, FL\, 33876
CATEGORIES:Food & Drink,Music Scene
END:VEVENT
BEGIN:VEVENT
DTSTART;TZID=America/New_York:20190427T100000
DTEND;TZID=America/New_York:20190427T160000
DTSTAMP:20260425T075157
CREATED:20190411T183915Z
LAST-MODIFIED:20190411T183915Z
UID:1009-1556359200-1556380800@sebringrundown.com
SUMMARY:Avon Park Rotary Bluegrass Blueberry Festival
DESCRIPTION:The Avon Park Rotary’s Bluegrass Blueberry Festival is in it’s ninth year\, we will have the Tin Can Tourist celebrating their 100th year\, in attendance. The festival has original arts and craft vendors as well BBQ\, Bluegrass and all things Blueberry\, including plants\, berries\, parfaits\, pies\, lemonade\, smoothies\, syrups and much more. Come check us out in Downtown Avon Park on Main Street at Donaldson park on the shores of Lake Verona.
URL:https://sebringrundown.com/event/avon-park-rotary-bluegrass-blueberry-festival/
LOCATION:Donaldson Park\, 109 E Main Str\, Avon Park\, FL\, 33825
CATEGORIES:Family Friendly,Festivals,Food & Drink
END:VEVENT
END:VCALENDAR