BEGIN:VCALENDAR
VERSION:2.0
PRODID:-//Sebring Rundown - ECPv6.15.20//NONSGML v1.0//EN
CALSCALE:GREGORIAN
METHOD:PUBLISH
X-WR-CALNAME:Sebring Rundown
X-ORIGINAL-URL:https://sebringrundown.com
X-WR-CALDESC:Events for Sebring Rundown
REFRESH-INTERVAL;VALUE=DURATION:PT1H
X-Robots-Tag:noindex
X-PUBLISHED-TTL:PT1H
BEGIN:VTIMEZONE
TZID:America/New_York
BEGIN:DAYLIGHT
TZOFFSETFROM:-0500
TZOFFSETTO:-0400
TZNAME:EDT
DTSTART:20180311T070000
END:DAYLIGHT
BEGIN:STANDARD
TZOFFSETFROM:-0400
TZOFFSETTO:-0500
TZNAME:EST
DTSTART:20181104T060000
END:STANDARD
BEGIN:DAYLIGHT
TZOFFSETFROM:-0500
TZOFFSETTO:-0400
TZNAME:EDT
DTSTART:20190310T070000
END:DAYLIGHT
BEGIN:STANDARD
TZOFFSETFROM:-0400
TZOFFSETTO:-0500
TZNAME:EST
DTSTART:20191103T060000
END:STANDARD
BEGIN:DAYLIGHT
TZOFFSETFROM:-0500
TZOFFSETTO:-0400
TZNAME:EDT
DTSTART:20200308T070000
END:DAYLIGHT
BEGIN:STANDARD
TZOFFSETFROM:-0400
TZOFFSETTO:-0500
TZNAME:EST
DTSTART:20201101T060000
END:STANDARD
BEGIN:DAYLIGHT
TZOFFSETFROM:-0500
TZOFFSETTO:-0400
TZNAME:EDT
DTSTART:20210314T070000
END:DAYLIGHT
BEGIN:STANDARD
TZOFFSETFROM:-0400
TZOFFSETTO:-0500
TZNAME:EST
DTSTART:20211107T060000
END:STANDARD
END:VTIMEZONE
BEGIN:VEVENT
DTSTART;TZID=America/New_York:20200128T133000
DTEND;TZID=America/New_York:20200128T133000
DTSTAMP:20260421T095017
CREATED:20190516T193650Z
LAST-MODIFIED:20190516T194029Z
UID:2067-1580218200-1580218200@sebringrundown.com
SUMMARY:Fabulous Equinox Orchestra
DESCRIPTION:All across America\, audiences have fallen in love with these two sophisticated Southern gentleman and the high-energy show that is Davis & Johnson and the Fabulous Equinox Orchestra.  Along with the greatest songs\, the best original arrangements and phenomenal musicianship\, these two bring their rich friendship and charm to the stage.  Fashioned in the style and swagger of the legendary entertainers lead by Frank Sinatra\, Davis & Johnson are putting their own stamp on the Great American songbook\, graced with a touch of Motown\, Ray Charles\, Johnny Cash\, Elvis and more\, offering a freshness and relevance that speaks to every soul.
URL:https://sebringrundown.com/event/fabulous-equinox-orchestra/
LOCATION:Alan Jay Wildstein Center for the Performing Arts\, 600 W. College Drive\, Avon Park\, 33825\, United States
CATEGORIES:Theater
END:VEVENT
BEGIN:VEVENT
DTSTART;TZID=America/New_York:20200125T190000
DTEND;TZID=America/New_York:20200125T213000
DTSTAMP:20260421T095017
CREATED:20190906T163332Z
LAST-MODIFIED:20190906T163332Z
UID:3303-1579978800-1579987800@sebringrundown.com
SUMMARY:USA Tour 2020
DESCRIPTION:Be stunned by the breathtaking vocals of Belinda Davids – a RiSA chart-topping artist in her home country of South Africa – who has performed alongside the likes of Keri Hilson\, Keyshia Cole and Monica and featured on Fox TV’s ‘Showtime at the Apollo’ and BBC1 TV’s ‘Even Better Than the Real Thing’.
URL:https://sebringrundown.com/event/usa-tour-2020/
LOCATION:Alan Jay Wildstein Center for the Performing Arts\, 600 W. College Drive\, Avon Park\, 33825\, United States
CATEGORIES:Music Scene
END:VEVENT
BEGIN:VEVENT
DTSTART;TZID=America/New_York:20200125T190000
DTEND;TZID=America/New_York:20200125T190000
DTSTAMP:20260421T095017
CREATED:20190516T193127Z
LAST-MODIFIED:20190516T194103Z
UID:2065-1579978800-1579978800@sebringrundown.com
SUMMARY:The Greatest Love of All: The Whitney Houston Show
DESCRIPTION:The Greatest Love of All: The Whitney Houston Show has already wowed audiences across the UK\, Europe\, North America\, South Africa\, Asia\, UAE\, Australia and New Zealand and continues to gather glowing reviews worldwide. \nThis special once-in-a-lifetime concert event will leave patrons wanting more and talking about it for years to come. Don’t miss the chance to experience it for yourself. \n“A creative triumph on every level” – Theatre People\n“Davids sturs the audience in not just vocal ability but star power” – Arts hub\n“She feels every song\, resulting in a spirited performance” – ToNight\n“A show that simply cannot be missed” – TheCitizen
URL:https://sebringrundown.com/event/the-greatest-love-of-all-the-whitney-houston-show/
LOCATION:Alan Jay Wildstein Center for the Performing Arts\, 600 W. College Drive\, Avon Park\, 33825\, United States
CATEGORIES:Theater
END:VEVENT
BEGIN:VEVENT
DTSTART;TZID=America/New_York:20200125T100000
DTEND;TZID=America/New_York:20200125T140000
DTSTAMP:20260421T095017
CREATED:20191008T154309Z
LAST-MODIFIED:20191008T154309Z
UID:3658-1579946400-1579960800@sebringrundown.com
SUMMARY:Big Winter Fest
DESCRIPTION:Big Winter Fest\nReal Snow in Sunny Florida! \nYummy Food Trucks & Lots of Fun!\n• Bounce Houses\n• Snow Slides\n• Dance Unlimited\n• Rockwall\n• New Inflatables\n• Face Painting\n• Live Entertainment\n• Trackless Train
URL:https://sebringrundown.com/event/big-winter-fest-2/
LOCATION:Sebring International Raceway\, 113 Midway Dr\, Sebring\, FL\, 33870\, United States
CATEGORIES:Family Friendly,Festivals
END:VEVENT
BEGIN:VEVENT
DTSTART;TZID=America/New_York:20200123T170000
DTEND;TZID=America/New_York:20200123T190000
DTSTAMP:20260421T095017
CREATED:20200117T183921Z
LAST-MODIFIED:20200117T183921Z
UID:4265-1579798800-1579806000@sebringrundown.com
SUMMARY:Cheers for Tiers!
DESCRIPTION:Bring your tiered tray & choose from our adorable accents\, faux foliage\, block signs\, beads & more to create a themed display! Your imagination+our goodies=one cute tier display! Oh\, and of course we’ll have wine to sip on! No set price\, as it is per piece\, but we have really affordable and extra neat items coming for this class! Photo shown on Facebook event is for example only. Yours will be custom designed by you with our help!
URL:https://sebringrundown.com/event/cheers-for-tiers/
LOCATION:Hobby Hill Florist\, 541 N Ridgewood Dr\, Sebring\, FL\, 33870\, United States
CATEGORIES:Art
END:VEVENT
BEGIN:VEVENT
DTSTART;TZID=America/New_York:20200122T180000
DTEND;TZID=America/New_York:20200122T220000
DTSTAMP:20260421T095017
CREATED:20200116T195450Z
LAST-MODIFIED:20200116T195450Z
UID:4245-1579716000-1579730400@sebringrundown.com
SUMMARY:A Night of Laughs
DESCRIPTION:Join us for A Night of Laughs on Wednesday\, January 22nd. Featuring the comedy of the hilarious Mike Rivera and Bob Lauver! Dinner and Show $29 per person\, Show Only $19 per person (plus service charge and tax). All tickets include two complimentary house drinks per person! Parties of 8 or more qualify for reserved tables. Call us today! 863-655-7200
URL:https://sebringrundown.com/event/a-night-of-laughs-2/
LOCATION:Seven Sebring Raceway Hotel\, 150 Midway Dr.\, Sebring\, FL\, 33870
CATEGORIES:Comedy,Food & Drink
END:VEVENT
BEGIN:VEVENT
DTSTART;TZID=America/New_York:20200121T133000
DTEND;TZID=America/New_York:20200121T133000
DTSTAMP:20260421T095017
CREATED:20190516T192954Z
LAST-MODIFIED:20190516T194132Z
UID:2063-1579613400-1579613400@sebringrundown.com
SUMMARY:Golden Girls: A Puppet Parody
DESCRIPTION:Set in that sassy Miami house in 1985\, ‘That Golden Girls Show!’ is one of Off Broadway’s biggest smash hits that parodies classic Golden Girls moments with puppets! Get set for an evening of cheesecake\, laughter\, jazzercise\, shoulder pads\, sex\, and the elegant art of the quick-witted put down. From Sophia’s get-rich-quick schemes\, to Rose’s tales from St. Olaf\, Blanche’s insatiable hunt for men and the Fountain of Youth\, to Dorothy’s daily struggle to make sense of her life\, manage her roommates and\, all the while fending off a certain pesky ex-husband once and for all. Devoted fans will fondly remember our four girls from Miami\, and for the first-timers\, this will be a joyful introduction to the brilliance of that television series. \nDue to mature content\, audience discretion is advised
URL:https://sebringrundown.com/event/golden-girls-a-puppet-parody/
LOCATION:Alan Jay Wildstein Center for the Performing Arts\, 600 W. College Drive\, Avon Park\, 33825\, United States
CATEGORIES:Theater
END:VEVENT
BEGIN:VEVENT
DTSTART;TZID=America/New_York:20200118T190000
DTEND;TZID=America/New_York:20200118T190000
DTSTAMP:20260421T095017
CREATED:20190516T192831Z
LAST-MODIFIED:20190516T194157Z
UID:2061-1579374000-1579374000@sebringrundown.com
SUMMARY:Jim Brickman 25th Anniversary Hits
DESCRIPTION:Jim Brickman’s distinctive piano style and captivating live performances have revolutionized the popularity of instrumental music\, making him a driving force behind modern American music. Pianist Jim Brickman celebrates his 25th anniversary in a performance of his greatest hits like “Angel Eyes\,” “Valentine\,”  “Rocket to the Moon\,” “ Love of My Life\,” “Hero’s Dream”  and” ‘Til I See You Again.” With six gold and platinum albums\, five PBS specials and Grammy nominations\, Jim Brickman’s distinctive piano style is a driving force behind today’s American music. \nThe hit-making songwriter is the best-selling solo pianist of our time earning 21 Number One albums and 32 Top 20 Radio Singles in the industry bible\, “Billboard Magazine.” He’s garnered two Grammy nominations\, gospel music’s Dove Award\, two SESAC Songwriter of the Year Awards\, and the Canadian Country Music Award. He also has a music scholarship named for him by his alma mater\, the prestigious Cleveland Institute of Music.
URL:https://sebringrundown.com/event/jim-brickman-25th-anniversary-hits/
LOCATION:Alan Jay Wildstein Center for the Performing Arts\, 600 W. College Drive\, Avon Park\, 33825\, United States
CATEGORIES:Theater
END:VEVENT
BEGIN:VEVENT
DTSTART;TZID=America/New_York:20200118T143000
DTEND;TZID=America/New_York:20200118T163000
DTSTAMP:20260421T095017
CREATED:20200110T162438Z
LAST-MODIFIED:20200110T162438Z
UID:4220-1579357800-1579365000@sebringrundown.com
SUMMARY:Valentine Garland
DESCRIPTION:Using various materials\, come build a Valentine’s Garland with us! Stop by Bare Wood Market in Downtown Sebring to sign up!
URL:https://sebringrundown.com/event/valentine-garland/
LOCATION:Bare Wood Market\, 130 N Ridgewood Dr.\, Sebring\, FL\, 33870
CATEGORIES:Art
END:VEVENT
BEGIN:VEVENT
DTSTART;TZID=America/New_York:20200118T100000
DTEND;TZID=America/New_York:20200118T160000
DTSTAMP:20260421T095017
CREATED:20191220T183340Z
LAST-MODIFIED:20191220T183340Z
UID:4155-1579341600-1579363200@sebringrundown.com
SUMMARY:Family Play Day
DESCRIPTION:Come down to Lakeshore Mall and enjoy a day of Family Fun & Play! We will have FREE oversized games to play. Do it yourself face painting. There will be local small business vendors to shop from. And\, a raffle for tons of wonderful prizes. Raffle tickets only cost $2 each. All the proceeds from the raffle go to The Children’s Museum of Highlands County.
URL:https://sebringrundown.com/event/family-play-day/
LOCATION:Lakeshore Mall\, 901 US S HWY 27 N\, Sebring\, FL\, 33870\, United States
CATEGORIES:Family Friendly
END:VEVENT
BEGIN:VEVENT
DTSTART;TZID=America/New_York:20200118T100000
DTEND;TZID=America/New_York:20200118T120000
DTSTAMP:20260421T095017
CREATED:20200116T193822Z
LAST-MODIFIED:20200116T193822Z
UID:4238-1579341600-1579348800@sebringrundown.com
SUMMARY:Acting Class
DESCRIPTION:Seasoned actor\, director and teacher Laura Wade leads you through strategies to improve your audition techniques\, develop authentic characters\, practice beginning and advanced acting techniques\, review lessons from great acting teachers and their methods\, and practice long-form improv. Two hour class\, $10 HLT Members\, $15 Non-members.
URL:https://sebringrundown.com/event/acting-class/
LOCATION:Highlands Little Theater\, 356 West Center Avenue\, Sebring\, 33870\, United States
CATEGORIES:Theater
END:VEVENT
BEGIN:VEVENT
DTSTART;VALUE=DATE:20200118
DTEND;VALUE=DATE:20200120
DTSTAMP:20260421T095017
CREATED:20191108T200816Z
LAST-MODIFIED:20191108T200816Z
UID:3919-1579305600-1579478399@sebringrundown.com
SUMMARY:Highlands Bike Fest
DESCRIPTION:SAVE THE DATE: Jan. 18 & 19\, 2020 \nTwo Days of cycling in beautiful Central Florida along the bio-diverse Lake Wales Ridge. Each day will feature marked routes from 10-60-ish miles while Saturday also will include a full 100-mile Century. \nMore details will follow. Host hotel is Tru by Hilton and if you call them to make your reservation for that weekend\, be sure to ask for the Highlands Bike Fest/Highlands Pedalers discount. \nThe schedule listed below will continue to be updated and refined until approx. two weeks before the event. \nLong-sleeve\, brushed cotton tees included with Pre-Registrations before Dec. 23\, 2019.. \nMulti day pricing is $75 and single day is $45\, both include lunch provided by Sophie’s Cafe.
URL:https://sebringrundown.com/event/highlands-bike-fest/
LOCATION:Highlands Pedalers Cycling Events\, 781 Magnolia Ave\, Sebring\, FL\, 33870
CATEGORIES:Sports
END:VEVENT
BEGIN:VEVENT
DTSTART;TZID=America/New_York:20200117T200000
DTEND;TZID=America/New_York:20200117T200000
DTSTAMP:20260421T095017
CREATED:20200110T163044Z
LAST-MODIFIED:20200110T163044Z
UID:4224-1579291200-1579291200@sebringrundown.com
SUMMARY:Pajama Party!
DESCRIPTION:Fest de Cirque is done and we partied hard in celebration of our one year anniversary but now it’s time to kick back relax the Mon Cirque way! Come dressed in your favorite nighty\, pajamas or show off those new undies Grandma gifted you! Scroll down for the rest of the info!\n\n– Things to Bring –\nPillows\nThrow Blankets\nSleeping bags\nor anything else you can carry by yourself and is super cozy\nWhy all the sleep over stuff you ask?\nWell\, we will doing a special showing of the Dark Side of OZ! (for those not in the know the Dark Side of OZ is when you sync up Victor Fleming’s 1939 rendition of The Wizard of OZ with Pink Floyd’s Dark Side of the Moon)\nMovie to start at 9PM\n– DRINK SPECIALS –
URL:https://sebringrundown.com/event/pajama-party/
LOCATION:Mon Cirque Wine Bar\, 140 N. Commerce Ave.\, Sebring\, FL\, 33870
CATEGORIES:Night Life
END:VEVENT
BEGIN:VEVENT
DTSTART;TZID=America/New_York:20200117T193000
DTEND;TZID=America/New_York:20200117T193000
DTSTAMP:20260421T095017
CREATED:20190731T174434Z
LAST-MODIFIED:20200107T002221Z
UID:2798-1579289400-1579289400@sebringrundown.com
SUMMARY:A Streetcar Named Desire
DESCRIPTION:When fading Southern belle Blanche DuBois arrives on the doorstep of her sister Stella’s apartment building in New Orleans\, she is unwittingly entering a lion’s den. Wounded by romantic abuses\, loss\, and dangerous mistakes\, Blanche prefers her world kept in dim\, flattering light\, fuzzy at the edges. She is shocked by Stella’s simple existence\, her new low-class habits\, and most of all\, her crude\, simple husband\, Stanley. Stanley is fierce and unpredictable\, moving from violence to softness in an instant\, and he and Blanche begin a cruel\, sadistic dance where the only possible end is pain. With his signature poetic prose\, muggy Southern Gothic setting\, and psychological insight\, Tennessee Williams’ mighty play\, and his troubled\, eccentric heroine\, unravel before our very eyes.
URL:https://sebringrundown.com/event/a-streetcar-named-desire/
LOCATION:Highlands Little Theater\, 356 West Center Avenue\, Sebring\, 33870\, United States
CATEGORIES:Theater
END:VEVENT
BEGIN:VEVENT
DTSTART;TZID=America/New_York:20200117T173000
DTEND;TZID=America/New_York:20200117T213000
DTSTAMP:20260421T095017
CREATED:20200110T163658Z
LAST-MODIFIED:20200110T163658Z
UID:4229-1579282200-1579296600@sebringrundown.com
SUMMARY:Movie in the Plaza
DESCRIPTION:Get Ready for Mama Mia!! Coming Soon!
URL:https://sebringrundown.com/event/movie-in-the-plaza/
LOCATION:Lake Placid Journal Plaza\, 231 N Main Ave\, Lake Placid\, FL\, 33852
CATEGORIES:Family Friendly
END:VEVENT
BEGIN:VEVENT
DTSTART;TZID=America/New_York:20200115T190000
DTEND;TZID=America/New_York:20200115T190000
DTSTAMP:20260421T095017
CREATED:20190516T192649Z
LAST-MODIFIED:20190516T195912Z
UID:2059-1579114800-1579114800@sebringrundown.com
SUMMARY:Eddie Metz Trio
DESCRIPTION:Nikki Parrot\, Rossano Sportiello and Eddie Metz performances brim with delightful swing and a wide ranging repertoire. Metz handles complex rhythms and leads the trio with a sense of fun. Australian Nikki Parrot is “a first-class bassist whose playing is as sublime as her vocals.” Rossano Sportiello is a virtuoso pianist and a master of piano styles. Together they put fun into jazz!
URL:https://sebringrundown.com/event/eddie-metz-trio/
LOCATION:SFSC University Center Auditorium\, 600 West College Drive\, Avon Park\, FL\, 33825
CATEGORIES:Theater
END:VEVENT
BEGIN:VEVENT
DTSTART;TZID=America/New_York:20200114T133000
DTEND;TZID=America/New_York:20200114T133000
DTSTAMP:20260421T095017
CREATED:20190516T192536Z
LAST-MODIFIED:20190516T194345Z
UID:2057-1579008600-1579008600@sebringrundown.com
SUMMARY:Jim Witter: Piano Men Billy Joel\, Elton John\, and Barry Manilow
DESCRIPTION:Do memories from your younger years come barreling back whenever you hear Billy Joel’s “Piano Man”? Travel back to the 70’s and the nostalgic world with Jim Witter’s Piano Men.  Utilizing spectacular visuals on a giant screen behind Witter and his band\, “The Piano Men” returns to the newspaper headlines\, the automobiles\, the people\, the events\, the toys and even the TV shows that shaped a decade. Along the way\, the sounds of “My Life”\, “Candle in the Wind”\, “Rocket Man”\, “Just the Way You Are”\, and many more classic hits create an afternoon that’s so much fun\, you won’t want it to end. \n  \nNow in it’s 16th year of touring\, “The Piano Men” has enjoyed sold-out performances\, return engagements and rave reviews in theatres across North America\, Great Britain and Dubai.
URL:https://sebringrundown.com/event/jim-witter-piano-men-billy-joel-elton-john-and-barry-manilow/
LOCATION:Alan Jay Wildstein Center for the Performing Arts\, 600 W. College Drive\, Avon Park\, 33825\, United States
CATEGORIES:Theater
END:VEVENT
BEGIN:VEVENT
DTSTART;TZID=America/New_York:20200110T200000
DTEND;TZID=America/New_York:20200110T200000
DTSTAMP:20260421T095017
CREATED:20190919T150812Z
LAST-MODIFIED:20190919T150812Z
UID:3435-1578686400-1578686400@sebringrundown.com
SUMMARY:Cinema on the Circle
DESCRIPTION:Get your weekend started at sunset on the 2nd Friday of the month in Downtown Sebring’s Circle Park with a movie the whole family can enjoy! \nCome early to save your seat\, have dinner\, and grab a sweet treat and some popcorn before the movie from one of the wonderful Downtown merchants. Don’t forget to bring chairs and blankets to get comfortable under the stars in beautiful Circle Park! \nFamily friendly restrooms will be available at the former Sebring Chamber of Commerce office (soon to be the new CRA office!) located right across the street from Circle Park – look for signs right outside the entrance to the building.
URL:https://sebringrundown.com/event/cinema-on-the-circle-7/
LOCATION:Sebring Downtown Historic District
CATEGORIES:Family Friendly
END:VEVENT
BEGIN:VEVENT
DTSTART;TZID=America/New_York:20200107T190000
DTEND;TZID=America/New_York:20200107T190000
DTSTAMP:20260421T095017
CREATED:20190516T185438Z
LAST-MODIFIED:20190516T194414Z
UID:2055-1578423600-1578423600@sebringrundown.com
SUMMARY:Elvis: Gospel Gold
DESCRIPTION:Mike Albert brings you Elvis’s Award winning gospel songs. Mike’s Elvis show “The Ultimate Tribute” has become known worldwide for its respect portrayal of Elvis late in his career. He has appeared on the “Oprah Winfrey Show”.
URL:https://sebringrundown.com/event/elvis-gospel-gold/
LOCATION:Alan Jay Wildstein Center for the Performing Arts\, 600 W. College Drive\, Avon Park\, 33825\, United States
CATEGORIES:Theater
END:VEVENT
BEGIN:VEVENT
DTSTART;TZID=America/New_York:20200104T190000
DTEND;TZID=America/New_York:20200104T190000
DTSTAMP:20260421T095017
CREATED:20190516T185342Z
LAST-MODIFIED:20190516T194522Z
UID:2053-1578164400-1578164400@sebringrundown.com
SUMMARY:The Hit Men
DESCRIPTION:Five brilliant musicians and singers who\, throughout the 1960s\, 70s\, 80s and 90s\, toured and recorded with some of the biggest names in the music business – huge stars from Frankie Valli and Carly Simon\, to Carole King\, Cat Stevens\, Jim Croce\, Cheap Trick\, Elton John\, Paul McCartney\, Barry Manilow\, Rod Stewart\, Blood Sweat & Tears\, perform #1 hits that you know and love. They are not a tribute act. They are the actual artists who helped rocket so many songs to the top of the Billboard charts. A great way to ring in the new year with the entire family!
URL:https://sebringrundown.com/event/the-hit-men/
LOCATION:Alan Jay Wildstein Center for the Performing Arts\, 600 W. College Drive\, Avon Park\, 33825\, United States
CATEGORIES:Theater
END:VEVENT
BEGIN:VEVENT
DTSTART;TZID=America/New_York:20200104T120000
DTEND;TZID=America/New_York:20200104T170000
DTSTAMP:20260421T095017
CREATED:20191220T182510Z
LAST-MODIFIED:20191220T182510Z
UID:4145-1578139200-1578157200@sebringrundown.com
SUMMARY:All American Car Show at All American Bar & Grill
DESCRIPTION:Come out to see Classic Cars \, play a game of pool\, tiki toss or corn hole\, have a great tasting\,” made with love ” food & great and great conversations with friends & family!
URL:https://sebringrundown.com/event/all-american-car-show-at-all-american-bar-grill/
LOCATION:All American Grill\, 3400 Sebring Parkway\, Sebring\, FL\, 33870
CATEGORIES:Food & Drink
END:VEVENT
BEGIN:VEVENT
DTSTART;TZID=America/New_York:20200103T180000
DTEND;TZID=America/New_York:20200103T210000
DTSTAMP:20260421T095017
CREATED:20191210T172633Z
LAST-MODIFIED:20191210T172633Z
UID:4099-1578074400-1578085200@sebringrundown.com
SUMMARY:January Kids Night Out!
DESCRIPTION:Sign up your kids for late night fun at the Children’s Museum. Friday\, January 3rd! We will have lots of fun with free play in the museum\, snack time\, craft activity and more! \n\nKids Night Out is our kids ONLY program held the first Friday of the month from 6pm to 9pm for child ages 4 to 10 (MUST be potty trained). Kids Night Out is $20/kid; $15/sibling. Drop off is only allowed between 5:30pm to 6:00pm. Pick up is to be between 8:45pm to 9:15pm. After 9:15pm\, a late fee of $5/per 5 minutes late will be assessed. \n\nReservations MUST be made in advance to secure your childs’ spot. You must have an active membership with CMoH to attend. Kids Night Out must have a minimum of 8 sign up and pay the $10 deposit by the Wednesday before the event or we will have to cancel the event. Event deposit can be paid in person at front desk or calling us at 863-451-5385. Because this is a parent free event\, we must have emergency forms filled out with two forms of contact\, allegories\, approved pickup persons\, etc and returned before the event.
URL:https://sebringrundown.com/event/january-kids-night-out/
LOCATION:The Children’s Museum of the Highlands\, 219 N Ridgewood Dr\, Sebring\, FL\, 33870
CATEGORIES:Family Friendly,Museum
END:VEVENT
BEGIN:VEVENT
DTSTART;TZID=America/New_York:20191231T210000
DTEND;TZID=America/New_York:20191231T210000
DTSTAMP:20260421T095017
CREATED:20191216T190354Z
LAST-MODIFIED:20191216T190354Z
UID:4129-1577826000-1577826000@sebringrundown.com
SUMMARY:Iron Havoc Gym Deadlift Party
DESCRIPTION:Doors open at 9pm\nLifting starts at 10pm \nRegistration Fee: $20 for all competitors \n1st place – Cash prize for biggest deadlift & most reps completed \nRep Challenge: 155lbs for women/ 315lbs for men \nFood/Drinks/Alcohol (must be 21+) \n$10 for spectators/ $5 for Iron Havoc members
URL:https://sebringrundown.com/event/iron-havoc-gym-deadlift-party/
LOCATION:Iron Havoc Gym\, 4246 Commercial Dr\, Sebring\, FL\, 33870
CATEGORIES:Night Life
END:VEVENT
BEGIN:VEVENT
DTSTART;TZID=America/New_York:20191231T203000
DTEND;TZID=America/New_York:20191231T203000
DTSTAMP:20260421T095017
CREATED:20191206T194305Z
LAST-MODIFIED:20191206T194305Z
UID:4068-1577824200-1577824200@sebringrundown.com
SUMMARY:New Year's Eve Party
DESCRIPTION:Join your favorite actors from HLT\, enjoy great food\, DJ with great music\, games and Prizes\, Midnight Toast\, hats and noise makers $30 per person or $50 per couple-863-382-2525 or online at www.highlandslakesidetheatre.org
URL:https://sebringrundown.com/event/new-years-eve-party/
LOCATION:Highlands Little Theater\, 356 West Center Avenue\, Sebring\, 33870\, United States
CATEGORIES:Night Life,Theater
END:VEVENT
BEGIN:VEVENT
DTSTART;TZID=America/New_York:20191231T200000
DTEND;TZID=America/New_York:20191231T200000
DTSTAMP:20260421T095017
CREATED:20191220T182950Z
LAST-MODIFIED:20191220T182950Z
UID:4149-1577822400-1577822400@sebringrundown.com
SUMMARY:Bring in the 20's at Dock 633
DESCRIPTION:The Countdown is on! \nJoin us as we kick off 2020 in Gatsby Style.\nYou are invited to dress in your favorite 1920’s fashion. \nWe will have appetizer and dinner specials as well as cocktails and your favorite homemade JELL-O Shots. \nDJ Party Dog Rick will be playing all the  Jams  from 9pm-1am as well as assisting us in our Champagne Toast at midnight. 
URL:https://sebringrundown.com/event/bring-in-the-20s-at-dock-633/
LOCATION:Dock 633\, 633 Lake June Rd\, Lake Placid\, FL\, 33852
CATEGORIES:Food & Drink,Music Scene
END:VEVENT
BEGIN:VEVENT
DTSTART;TZID=America/New_York:20191231T193000
DTEND;TZID=America/New_York:20191231T193000
DTSTAMP:20260421T095017
CREATED:20191021T182409Z
LAST-MODIFIED:20191021T182409Z
UID:3751-1577820600-1577820600@sebringrundown.com
SUMMARY:New Year's Eve Extravaganza
DESCRIPTION:Ring in the New Year with us! RSVP today. 863-655-7200
URL:https://sebringrundown.com/event/new-years-eve-extravaganza/
LOCATION:Seven Sebring Raceway Hotel\, 150 Midway Dr.\, Sebring\, FL\, 33870
CATEGORIES:Festivals,Night Life
END:VEVENT
BEGIN:VEVENT
DTSTART;TZID=America/New_York:20191231T180000
DTEND;TZID=America/New_York:20191231T180000
DTSTAMP:20260421T095017
CREATED:20191210T174121Z
LAST-MODIFIED:20191210T174121Z
UID:4108-1577815200-1577815200@sebringrundown.com
SUMMARY:New Years Eve Sleepover
DESCRIPTION:Bring a tent\, RV and stay the night and have a safe holiday !! We have plenty of room !!
URL:https://sebringrundown.com/event/new-years-eve-sleepover/
LOCATION:Carlie Lynne’s Bar\, 9119 US Hwy 27 S\, Sebring\, FL\, 33876
CATEGORIES:Food & Drink,Night Life
END:VEVENT
BEGIN:VEVENT
DTSTART;TZID=America/New_York:20191231T180000
DTEND;TZID=America/New_York:20191231T180000
DTSTAMP:20260421T095017
CREATED:20191209T170538Z
LAST-MODIFIED:20191209T170538Z
UID:4077-1577815200-1577815200@sebringrundown.com
SUMMARY:New Year's Eve Block Party - Car & Truck Show
DESCRIPTION:New Year’s Eve Block Party\nCar & Truck Show\nFREE to the Public\nHistoric Downtown Circle\nSebring\, Florida\nA night of excitement and fun for all ages with Free Hot Chocolate and Cookies\, Carriage Rides\, Campfires\, Games\, a Nationally Recognized Car Show and Music featuring Nashville Recording Artists Tommy Brandt and son\, T2.
URL:https://sebringrundown.com/event/new-years-eve-block-party-car-truck-show/
LOCATION:Sebring Downtown Historic District
CATEGORIES:Family Friendly,Festivals
END:VEVENT
BEGIN:VEVENT
DTSTART;TZID=America/New_York:20191230T090000
DTEND;TZID=America/New_York:20191230T130000
DTSTAMP:20260421T095017
CREATED:20191108T195642Z
LAST-MODIFIED:20191108T195642Z
UID:3913-1577696400-1577710800@sebringrundown.com
SUMMARY:Heartland Horses Holiday Camps
DESCRIPTION:Heartland Horses Holiday Camp – Three sessions available \nNew Year’s Session: Dec. 30\, 31\, Jan. 2\, 3 (M/T/Th/F)\nAGES 8-12 (current lesson students can come at age 7)\n$50/day\, 9am – 1pm\n$50 Non-refundable deposit required to hold your spot\, balance due on first day of camp. \nContact us for registration info.\nOffice hours: Tues-Sat 9am to 2pm\nPhone: 863-452-0006\nEmail: heartlandhorsesflorida@gmail.com\nWebsite: heartlandhorses.org
URL:https://sebringrundown.com/event/heartland-horses-holiday-camps-3/
LOCATION:Heartland Horses Equine Activities & Learning\, 4305 Independence St.\, Avon Park\, FL\, 33825
CATEGORIES:Sports
END:VEVENT
BEGIN:VEVENT
DTSTART;TZID=America/New_York:20191223T180000
DTEND;TZID=America/New_York:20191223T210000
DTSTAMP:20260421T095017
CREATED:20191203T160348Z
LAST-MODIFIED:20191203T160348Z
UID:4051-1577124000-1577134800@sebringrundown.com
SUMMARY:Island Style Christmas Karaoke Night
DESCRIPTION:Do you enjoy Karaoke whether you’re up on stage singing or watching from the crowd? Well on December 23rd The Island View will be hosting a Karaoke night from 6pm – 9pm with great food and beverage specials throughout the night. Reservations are required and space is limited so give us a call at 863-382-1191 and book your reservation today!
URL:https://sebringrundown.com/event/island-style-christmas-karaoke-night/
LOCATION:Island View Restaurant
CATEGORIES:Food & Drink,Music Scene
END:VEVENT
END:VCALENDAR